BEGIN:VCALENDAR
VERSION:2.0
PRODID:-//mientrada.net - ECPv5.16.0//NONSGML v1.0//EN
CALSCALE:GREGORIAN
METHOD:PUBLISH
X-WR-CALNAME:mientrada.net
X-ORIGINAL-URL:https://www.mientrada.net
X-WR-CALDESC:Eventos para mientrada.net
REFRESH-INTERVAL;VALUE=DURATION:PT1H
X-Robots-Tag:noindex
X-PUBLISHED-TTL:PT1H
BEGIN:VTIMEZONE
TZID:Europe/Madrid
BEGIN:DAYLIGHT
TZOFFSETFROM:+0100
TZOFFSETTO:+0200
TZNAME:CEST
DTSTART:20250330T010000
END:DAYLIGHT
BEGIN:STANDARD
TZOFFSETFROM:+0200
TZOFFSETTO:+0100
TZNAME:CET
DTSTART:20251026T010000
END:STANDARD
END:VTIMEZONE
BEGIN:VEVENT
DTSTART;TZID=Europe/Madrid:20250703T203000
DTEND;TZID=Europe/Madrid:20250703T203000
DTSTAMP:20260426T062705
CREATED:20250529T081737Z
LAST-MODIFIED:20250529T081840Z
UID:85306-1751574600-1751574600@www.mientrada.net
SUMMARY:MAMMA MÍA
DESCRIPTION:A beneficio de Alcer Málaga. \nComedia musical en la que Donna\, madre soltera e independiente\, es dueña de un pequeño hotel en una idílica isla griega. Ha criado sola a su hija Sophie\, que va a casarse con Sky. Donna ha invitado a la boda a sus dos mejores amigas: Rosie y Tanya\, ex-miembros de su antigua banda «Donna y las Dinamos». \nPor su parte\, Sophie ha invitado a sus mejores amigas: Ali y Lisa. Pero también ha invitado\, sin decírselo a su madre\, a tres hombres que podrían ser su padre: Sam\, Bill y Harry. Juntos intentarán resolver el misterio de quién es el verdadero padre y\, por tanto\, quién llevará a Sophie al altar. \n  \nPuede compartir este evento en:
URL:https://www.mientrada.net/evento/mamma-mia-alh-torre/
LOCATION:Centro Cultural Vicente Aleixandre\, Calle Jabalcuza\, 9\, Alhaurín de la Torre\, 29130\, España
CATEGORIES:Alhaurín de la Torre,Centro Cultural Vicente Aleixandre,Música
ATTACH;FMTTYPE=image/jpeg:https://www.mientrada.net/wp-content/uploads/2025/05/Cartel-Mamma-Mia-Alcer.jpg
END:VEVENT
END:VCALENDAR