BEGIN:VCALENDAR
VERSION:2.0
PRODID:-//mientrada.net - ECPv5.16.0//NONSGML v1.0//EN
CALSCALE:GREGORIAN
METHOD:PUBLISH
X-WR-CALNAME:mientrada.net
X-ORIGINAL-URL:https://www.mientrada.net
X-WR-CALDESC:Eventos para mientrada.net
REFRESH-INTERVAL;VALUE=DURATION:PT1H
X-Robots-Tag:noindex
X-PUBLISHED-TTL:PT1H
BEGIN:VTIMEZONE
TZID:Europe/Madrid
BEGIN:DAYLIGHT
TZOFFSETFROM:+0100
TZOFFSETTO:+0200
TZNAME:CEST
DTSTART:20260329T010000
END:DAYLIGHT
BEGIN:STANDARD
TZOFFSETFROM:+0200
TZOFFSETTO:+0100
TZNAME:CET
DTSTART:20261025T010000
END:STANDARD
END:VTIMEZONE
BEGIN:VEVENT
DTSTART;TZID=Europe/Madrid:20260207T120000
DTEND;TZID=Europe/Madrid:20260207T120000
DTSTAMP:20260423T033208
CREATED:20240116T110639Z
LAST-MODIFIED:20251218T105551Z
UID:86908-1770465600-1770465600@www.mientrada.net
SUMMARY:Bunji\, la pequeña koala
DESCRIPTION:XX CICLO DE TEATRO INFANTIL 2026. \nFestuc Teatre. \nBunji\, es una koala que vive en un bosque de eucaliptos. Los koalas\, tienen una actividad diaria muy escasa\, por eso el talante de nuestra protagonista lleva de cabeza a toda su tribu. Cuando todo el mundo está durmiendo\, ella quiere jugar\, descubrir\, trepar… ¿por qué no se comporta como el resto? \nUn hecho inesperado en su día a día\, hará que se aleje de su entorno. ¿Qué pasará con la pequeña koala? ¡Ven a descubrirlo! \nUn espectáculo de teatro y títeres que a través de la narración\, los diálogos\, las canciones y una escenografía sorprendente\, cautivarán al público desde el primer momento al más puro estilo de Festuc Teatre. En esta ocasión la compañía se inspira en todo el imaginario australiano\, en su diversidad\, su fauna y las diferentes especies de animales que tenemos que respetar y amar. \nLa inocencia de los más pequeños no estigmatiza ni crea diferencias; simplemente se basa en expresar e interactuar a través de los sentimientos que ocasiona cada situación\, sin prejuicios. En definitiva\, un rato para reír\, llorar\, sufrir\, gozar\, cantar… y reflexionar a través de la historia. \n  \nPuede compartir este evento en:
URL:https://www.mientrada.net/evento/teatro-infantil-2026-bunji-pequena-koala/
LOCATION:Centro Cultural Vicente Aleixandre\, Calle Jabalcuza\, 9\, Alhaurín de la Torre\, 29130\, España
CATEGORIES:Alhaurín de la Torre,Centro Cultural Vicente Aleixandre,Ciclo Teatro Infantil Alh. de la Torre
ATTACH;FMTTYPE=image/jpeg:https://www.mientrada.net/wp-content/uploads/2024/01/Cartel-Bunji.jpg
END:VEVENT
BEGIN:VEVENT
DTSTART;TZID=Europe/Madrid:20260214T113000
DTEND;TZID=Europe/Madrid:20260214T113000
DTSTAMP:20260423T033208
CREATED:20240116T110639Z
LAST-MODIFIED:20251218T110243Z
UID:86906-1771068600-1771068600@www.mientrada.net
SUMMARY:Sin palabras (se las llevó el aire...)
DESCRIPTION:XX CICLO DE TEATRO INFANTIL 2026. \nLaSaL Teatro. \nDos pases: 11:30 y 13:00 \nPero llega el aire sin avisar\, sin preguntar sin parar\, tocando todo lo que encuentra a su paso. \nEntonces una de ellas deja que empuje su cuerpo y mueva sus manos. Y baila por primera vez. La otra deja que entre en sus pulmones y escucha los sonidos que salen de su boca… Y canta por primera vez. Poco a poco descubren el aire: el que nos envuelve\, nos empuja\, nos acaricia y ocupa el vacío que dejamos. El aire que alborota el pelo\, seca la ropa o se cuela por las rendijas para aullar su presencia. Cuentan sin necesidad de hablar. Se quedaron sin palabras… o quizá se las llevó el aire. \n  \nPuede compartir este evento en:
URL:https://www.mientrada.net/evento/teatro-infantil-2026-sin-palabras-11-30/
LOCATION:Centro Cultural Vicente Aleixandre\, Calle Jabalcuza\, 9\, Alhaurín de la Torre\, 29130\, España
CATEGORIES:Alhaurín de la Torre,Centro Cultural Vicente Aleixandre,Ciclo Teatro Infantil Alh. de la Torre
ATTACH;FMTTYPE=image/jpeg:https://www.mientrada.net/wp-content/uploads/2024/01/Cartel-Sin-palabras.jpg
END:VEVENT
BEGIN:VEVENT
DTSTART;TZID=Europe/Madrid:20260214T130000
DTEND;TZID=Europe/Madrid:20260214T130000
DTSTAMP:20260423T033208
CREATED:20240116T110639Z
LAST-MODIFIED:20251218T110246Z
UID:86923-1771074000-1771074000@www.mientrada.net
SUMMARY:Sin palabras (se las llevó el aire...)
DESCRIPTION:XX CICLO DE TEATRO INFANTIL 2026. \nLaSaL Teatro. \nDos pases: 11:30 y 13:00 \nPero llega el aire sin avisar\, sin preguntar sin parar\, tocando todo lo que encuentra a su paso. \nEntonces una de ellas deja que empuje su cuerpo y mueva sus manos. Y baila por primera vez. La otra deja que entre en sus pulmones y escucha los sonidos que salen de su boca… Y canta por primera vez. Poco a poco descubren el aire: el que nos envuelve\, nos empuja\, nos acaricia y ocupa el vacío que dejamos. El aire que alborota el pelo\, seca la ropa o se cuela por las rendijas para aullar su presencia. Cuentan sin necesidad de hablar. Se quedaron sin palabras… o quizá se las llevó el aire. \n  \nPuede compartir este evento en:
URL:https://www.mientrada.net/evento/teatro-infantil-2026-sin-palabras-13-00/
LOCATION:Centro Cultural Vicente Aleixandre\, Calle Jabalcuza\, 9\, Alhaurín de la Torre\, 29130\, España
CATEGORIES:Alhaurín de la Torre,Centro Cultural Vicente Aleixandre,Ciclo Teatro Infantil Alh. de la Torre
ATTACH;FMTTYPE=image/jpeg:https://www.mientrada.net/wp-content/uploads/2024/01/Cartel-Sin-palabras.jpg
END:VEVENT
BEGIN:VEVENT
DTSTART;TZID=Europe/Madrid:20260221T120000
DTEND;TZID=Europe/Madrid:20260221T120000
DTSTAMP:20260423T033208
CREATED:20240116T110639Z
LAST-MODIFIED:20251218T105448Z
UID:86907-1771675200-1771675200@www.mientrada.net
SUMMARY:El fantástico viaje de Jonás el espermatozoide
DESCRIPTION:XX CICLO DE TEATRO INFANTIL 2026. \nEl Espejo Negro. \nEsta es la historia de Jonás\, un diminuto y pequeño espermatozoide que se negaba a concursar en la gran carrera de la fecundación. Prefería dormir y vaguear plácidamente en el interior del testículo donde vivía. \nPero el tiempo se acababa\, y nuestro vago y dormilón espermatozoide tenía que emprender el viaje más fantástico y alucinante de toda su vida. Un viaje sin retorno\, lleno de peligros y aventuras\, en busca del óvulo perdido… \n  \nPuede compartir este evento en:
URL:https://www.mientrada.net/evento/teatro-infantil-2026-viaje-de-jonas/
LOCATION:Centro Cultural Vicente Aleixandre\, Calle Jabalcuza\, 9\, Alhaurín de la Torre\, 29130\, España
CATEGORIES:Alhaurín de la Torre,Centro Cultural Vicente Aleixandre,Ciclo Teatro Infantil Alh. de la Torre
ATTACH;FMTTYPE=image/jpeg:https://www.mientrada.net/wp-content/uploads/2024/01/Cartel-Viaje-Jonas.jpg
END:VEVENT
END:VCALENDAR