BEGIN:VCALENDAR
VERSION:2.0
PRODID:-//mientrada.net - ECPv5.16.0//NONSGML v1.0//EN
CALSCALE:GREGORIAN
METHOD:PUBLISH
X-ORIGINAL-URL:https://www.mientrada.net
X-WR-CALDESC:Eventos para mientrada.net
REFRESH-INTERVAL;VALUE=DURATION:PT1H
X-Robots-Tag:noindex
X-PUBLISHED-TTL:PT1H
BEGIN:VTIMEZONE
TZID:Europe/Madrid
BEGIN:DAYLIGHT
TZOFFSETFROM:+0100
TZOFFSETTO:+0200
TZNAME:CEST
DTSTART:20250330T010000
END:DAYLIGHT
BEGIN:STANDARD
TZOFFSETFROM:+0200
TZOFFSETTO:+0100
TZNAME:CET
DTSTART:20251026T010000
END:STANDARD
END:VTIMEZONE
BEGIN:VEVENT
DTSTART;TZID=Europe/Madrid:20250208T120000
DTEND;TZID=Europe/Madrid:20250208T120000
DTSTAMP:20260423T011835
CREATED:20240116T110639Z
LAST-MODIFIED:20250107T125839Z
UID:83988-1739016000-1739016000@www.mientrada.net
SUMMARY:Doble Burbuja
DESCRIPTION:XIX CICLO DE TEATRO INFANTIL 2025. \nCompañía 7 burbujas.\nEspectáculo familiar de pompas de jabón y clown. \nBienvenidas y bienvenidos a nuestra loca comedia de pompas de jabón donde el público es protagonista clave. Con ella hemos recorrido innumerables aventuras\, despertando la magia en grandes y pequeños y desarrollando un lenguaje común a todos\, la alegría de la vida que nos une. Con el juego y la creación de nuevas imágenes y texturas en el juego dramático\, BURBUJA siempre recibe sonrisas y aplausos entusiastas. Porque una burbuja vale más que mil palabras\, no pierdas la ocasión de verla. Y recuerda que\, aunque las pompas de jabón desaparezcan\, su belleza y su magia podemos guardarlas para siempre. \n  \nPuede compartir este evento en:
URL:https://www.mientrada.net/evento/teatro-infantil-2025-doble-burbuja/
LOCATION:Centro Cultural Vicente Aleixandre\, Calle Jabalcuza\, 9\, Alhaurín de la Torre\, 29130\, España
CATEGORIES:Alhaurín de la Torre,Centro Cultural Vicente Aleixandre,Ciclo Teatro Infantil Alh. de la Torre
ATTACH;FMTTYPE=image/jpeg:https://www.mientrada.net/wp-content/uploads/2024/01/Cartel-Burbuja.jpg
END:VEVENT
END:VCALENDAR