BEGIN:VCALENDAR
VERSION:2.0
PRODID:-//mientrada.net - ECPv5.16.0//NONSGML v1.0//EN
CALSCALE:GREGORIAN
METHOD:PUBLISH
X-ORIGINAL-URL:https://www.mientrada.net
X-WR-CALDESC:Eventos para mientrada.net
REFRESH-INTERVAL;VALUE=DURATION:PT1H
X-Robots-Tag:noindex
X-PUBLISHED-TTL:PT1H
BEGIN:VTIMEZONE
TZID:Europe/Madrid
BEGIN:DAYLIGHT
TZOFFSETFROM:+0100
TZOFFSETTO:+0200
TZNAME:CEST
DTSTART:20250330T010000
END:DAYLIGHT
BEGIN:STANDARD
TZOFFSETFROM:+0200
TZOFFSETTO:+0100
TZNAME:CET
DTSTART:20251026T010000
END:STANDARD
END:VTIMEZONE
BEGIN:VEVENT
DTSTART;TZID=Europe/Madrid:20250215T120000
DTEND;TZID=Europe/Madrid:20250215T120000
DTSTAMP:20260422T200412
CREATED:20240116T110639Z
LAST-MODIFIED:20250107T130348Z
UID:83989-1739620800-1739620800@www.mientrada.net
SUMMARY:Baby-Lonia
DESCRIPTION:XIX CICLO DE TEATRO INFANTIL 2025. \nCompañía Petit Teatro.\nTeatro para bebés y primera infancia (de 9 meses a 5 años). \nBaby-Lonia conjuga la música\, la danza y las marionetas. Las texturas\, los colores y las formas llevarán a los pequeños a una ilusión compartida con los mayores. Baby-Lonia nos muestra un día cualquiera en un lugar de juego donde ocurrirán situaciones mágicas\, divertidas\, acercándonos\, con amor\, al mundo de la Naturaleza\, de los Animales\, de los Sueños\, del Circo y del Espacio. Desde el amanecer hasta el anochecer ocurrirán cosas sorprendentes en Baby-Lonia. Su personaje principal\, Conejo\, conocerá a Pájaro\, a Sol\, a Luna y jugará con las Estrellas. \n  \nPuede compartir este evento en:
URL:https://www.mientrada.net/evento/teatro-infantil-2025-baby-lonia/
LOCATION:Centro Cultural Vicente Aleixandre\, Calle Jabalcuza\, 9\, Alhaurín de la Torre\, 29130\, España
CATEGORIES:Alhaurín de la Torre,Centro Cultural Vicente Aleixandre,Ciclo Teatro Infantil Alh. de la Torre
ATTACH;FMTTYPE=image/jpeg:https://www.mientrada.net/wp-content/uploads/2024/01/Cartel-Babylonia.jpg
END:VEVENT
END:VCALENDAR