BEGIN:VCALENDAR
VERSION:2.0
PRODID:-//mientrada.net - ECPv5.16.0//NONSGML v1.0//EN
CALSCALE:GREGORIAN
METHOD:PUBLISH
X-ORIGINAL-URL:https://www.mientrada.net
X-WR-CALDESC:Eventos para mientrada.net
REFRESH-INTERVAL;VALUE=DURATION:PT1H
X-Robots-Tag:noindex
X-PUBLISHED-TTL:PT1H
BEGIN:VTIMEZONE
TZID:Europe/Madrid
BEGIN:DAYLIGHT
TZOFFSETFROM:+0100
TZOFFSETTO:+0200
TZNAME:CEST
DTSTART:20260329T010000
END:DAYLIGHT
BEGIN:STANDARD
TZOFFSETFROM:+0200
TZOFFSETTO:+0100
TZNAME:CET
DTSTART:20261025T010000
END:STANDARD
END:VTIMEZONE
BEGIN:VEVENT
DTSTART;TZID=Europe/Madrid:20260801T223000
DTEND;TZID=Europe/Madrid:20260801T223000
DTSTAMP:20260425T143733
CREATED:20260424T095535Z
LAST-MODIFIED:20260424T100558Z
UID:87471-1785623400-1785623400@www.mientrada.net
SUMMARY:I Fiesta de la Bulería Conil
DESCRIPTION:Al cante: \n\nLuis el Zambo\nAntonio Reyes\nPedro el Granaino\nDuquende\nLuis Moneo\nRemedios Reyes\nChato de Málaga\n\n  \nGuitarras: \n\nDomingo Rubichi\nJulio Romero\nJuan Manuel Moneo\nNono Reyes\n\n  \nPalmas: \n\nJose Rubichi\nJose Carrasco\n\n  \nAl baile: \n\nCarmen Herrera\n\n  \nAl cante del baile: \n\nJose el Mijita\n\n  \nPresenta: Jose María Castaño \n  \nPrecios: \n\nentrada anticipada: 30€\nentrada en puerta: 35€\n\n  \nPuede compartir este evento en:
URL:https://www.mientrada.net/evento/fiesta-buleria-conil-2026/
LOCATION:Recinto Cultural La Chanca\, C. Almadraba\, Conil de la Frontera\, Cádiz\, 11140\, España
CATEGORIES:Conil de la Frontera,Flamenco,Recinto Cultural La Chanca
ATTACH;FMTTYPE=image/jpeg:https://www.mientrada.net/wp-content/uploads/2026/04/Cartel-Buleria-Conil-2026.jpg
END:VEVENT
END:VCALENDAR