BEGIN:VCALENDAR
VERSION:2.0
PRODID:-//mientrada.net - ECPv5.16.0//NONSGML v1.0//EN
CALSCALE:GREGORIAN
METHOD:PUBLISH
X-ORIGINAL-URL:https://www.mientrada.net
X-WR-CALDESC:Eventos para mientrada.net
REFRESH-INTERVAL;VALUE=DURATION:PT1H
X-Robots-Tag:noindex
X-PUBLISHED-TTL:PT1H
BEGIN:VTIMEZONE
TZID:Europe/Madrid
BEGIN:DAYLIGHT
TZOFFSETFROM:+0100
TZOFFSETTO:+0200
TZNAME:CEST
DTSTART:20220327T010000
END:DAYLIGHT
BEGIN:STANDARD
TZOFFSETFROM:+0200
TZOFFSETTO:+0100
TZNAME:CET
DTSTART:20221030T010000
END:STANDARD
END:VTIMEZONE
BEGIN:VEVENT
DTSTART;TZID=Europe/Madrid:20221009T120000
DTEND;TZID=Europe/Madrid:20221009T130000
DTSTAMP:20260419T163034
CREATED:20220915T092129Z
LAST-MODIFIED:20220915T093841Z
UID:13599-1665316800-1665320400@www.mientrada.net
SUMMARY:Los increíbles cuentos de Botón y Chincheta
DESCRIPTION:Botón y Chincheta\, son dos cuentacuentos trotamundos que han guardado todo tipo de historias\, juegos y aventuras en sus maletas. Prepárate porque empezamos a volar desde nuestra butaca al maravilloso mundo de los cuentos. Cada día sus historias cambian y se adaptarán a una temática: Halloween\, Navidad\, Día de Los Enamorados\, Bienvenida al verano o Fin del Cole. ¡No puedes perderte ninguno! \n9 de octubre: Somos Bombón y Chincheta\nAcabamos de llegar de nuestros viajes llenos de historias y aventuras a la Joaquín Eléjar y te las queremos contar todas. Descubre el mundo a través de nuestros cuentos ideales para disfrutar en familia de forma activa. \n13 de noviembre: Cuentos con mucho ritmo\nChincheta lleva el ritmo en el cuerpo\, Botón no sabe ni lo que es un tres por cuatro\, pero juntos van a darle ritmo al día con éste ‘canta-cuentos’\, una aventura más que te van a contar. \n4 de diciembre: Cuentos un rato raros\n¿Te has dado cuenta de que todos somos raros? Diferentes pero iguales ¿Verdad? Los protagonistas de las historias de hoy son tan capaces de hacer cualquier cosa como tú y yo\, y no\, no tienen superpoderes\, ¿o sí? \n  \nFicha artística: \n\nJamp Paló: Botón\nTony Casacales: Chincheta\n\n  \nPuede compartir este evento en:
URL:https://www.mientrada.net/evento/los-increibles-cuentos-de-boton-y-chincheta/2022-10-09/
LOCATION:Sala Joaquín Eléjar\, Calle San Juan Bosco\, 79\, Málaga\, Málaga\, 29014\, España
CATEGORIES:Cuentacuentos,Málaga,Sala Joaquín Eléjar
ATTACH;FMTTYPE=image/jpeg:https://www.mientrada.net/wp-content/uploads/2022/09/CartelA3_Boton-y-Chincheta-Oct.Nov_.Dic22_compressed-page-001.jpg
END:VEVENT
END:VCALENDAR