BEGIN:VCALENDAR
VERSION:2.0
PRODID:-//mientrada.net - ECPv5.16.0//NONSGML v1.0//EN
CALSCALE:GREGORIAN
METHOD:PUBLISH
X-ORIGINAL-URL:https://www.mientrada.net
X-WR-CALDESC:Eventos para mientrada.net
REFRESH-INTERVAL;VALUE=DURATION:PT1H
X-Robots-Tag:noindex
X-PUBLISHED-TTL:PT1H
BEGIN:VTIMEZONE
TZID:Europe/Madrid
BEGIN:DAYLIGHT
TZOFFSETFROM:+0100
TZOFFSETTO:+0200
TZNAME:CEST
DTSTART:20220327T010000
END:DAYLIGHT
BEGIN:STANDARD
TZOFFSETFROM:+0200
TZOFFSETTO:+0100
TZNAME:CET
DTSTART:20221030T010000
END:STANDARD
END:VTIMEZONE
BEGIN:VEVENT
DTSTART;TZID=Europe/Madrid:20220903T203000
DTEND;TZID=Europe/Madrid:20220903T220000
DTSTAMP:20260421T023423
CREATED:20220628T092232Z
LAST-MODIFIED:20220823T110127Z
UID:12760-1662237000-1662242400@www.mientrada.net
SUMMARY:Ganadores del VII Concurso Internacional de Música
DESCRIPTION:Festival de Música Internacional de Marbella. \nConcierto de los Ganadores del VII Concurso Internacional de Música de Marbella. \nObras virtuosas para piano solo de diversos autores. \nInvitaciones disponibles a partir del miércoles 24 de agosto. \nPuede compartir este evento en:
URL:https://www.mientrada.net/evento/ganadores-vii-concurso-internacional-musica-marbella/
LOCATION:Auditorio José Pernía Calderón\, Parque de la Constitución\, Marbella\, Málaga\, 29601\, España
CATEGORIES:Auditorio José Pernía Calderón (Marbella),Festival de Música Internacional,Marbella
ATTACH;FMTTYPE=image/jpeg:https://www.mientrada.net/wp-content/uploads/2022/06/Cartel-03-09-2022.jpg
END:VEVENT
END:VCALENDAR