BEGIN:VCALENDAR
VERSION:2.0
PRODID:-//mientrada.net - ECPv5.16.0//NONSGML v1.0//EN
CALSCALE:GREGORIAN
METHOD:PUBLISH
X-ORIGINAL-URL:https://www.mientrada.net
X-WR-CALDESC:Eventos para mientrada.net
REFRESH-INTERVAL;VALUE=DURATION:PT1H
X-Robots-Tag:noindex
X-PUBLISHED-TTL:PT1H
BEGIN:VTIMEZONE
TZID:Europe/Madrid
BEGIN:DAYLIGHT
TZOFFSETFROM:+0100
TZOFFSETTO:+0200
TZNAME:CEST
DTSTART:20220327T010000
END:DAYLIGHT
BEGIN:STANDARD
TZOFFSETFROM:+0200
TZOFFSETTO:+0100
TZNAME:CET
DTSTART:20221030T010000
END:STANDARD
END:VTIMEZONE
BEGIN:VEVENT
DTSTART;TZID=Europe/Madrid:20220908T203000
DTEND;TZID=Europe/Madrid:20220908T220000
DTSTAMP:20260420T225905
CREATED:20220628T113646Z
LAST-MODIFIED:20220707T091323Z
UID:12776-1662669000-1662674400@www.mientrada.net
SUMMARY:Oriana Kemelmajer y Alba Llorach
DESCRIPTION:Festival de Música Internacional de Marbella. \nPianistas ganadoras de premios internacionales. Obras de L. van Beethoven\, M. Ravel\, C. V. Alkan\, N. Rimsky-Korsakov\, J. Brahms\, Ch. Offenbach y A. Piazzolla. \nPuede compartir este evento en:
URL:https://www.mientrada.net/evento/oriana-kemelmajer-alba-llorach/
LOCATION:Auditorio José Pernía Calderón\, Parque de la Constitución\, Marbella\, Málaga\, 29601\, España
CATEGORIES:Auditorio José Pernía Calderón (Marbella),Festival de Música Internacional,Marbella
ATTACH;FMTTYPE=image/jpeg:https://www.mientrada.net/wp-content/uploads/2022/06/Cartel-08-09-2022.jpg
END:VEVENT
END:VCALENDAR