BEGIN:VCALENDAR
VERSION:2.0
PRODID:-//mientrada.net - ECPv5.16.0//NONSGML v1.0//EN
CALSCALE:GREGORIAN
METHOD:PUBLISH
X-ORIGINAL-URL:https://www.mientrada.net
X-WR-CALDESC:Eventos para mientrada.net
REFRESH-INTERVAL;VALUE=DURATION:PT1H
X-Robots-Tag:noindex
X-PUBLISHED-TTL:PT1H
BEGIN:VTIMEZONE
TZID:Europe/Madrid
BEGIN:DAYLIGHT
TZOFFSETFROM:+0100
TZOFFSETTO:+0200
TZNAME:CEST
DTSTART:20230326T010000
END:DAYLIGHT
BEGIN:STANDARD
TZOFFSETFROM:+0200
TZOFFSETTO:+0100
TZNAME:CET
DTSTART:20231029T010000
END:STANDARD
END:VTIMEZONE
BEGIN:VEVENT
DTSTART;TZID=Europe/Madrid:20230401T190000
DTEND;TZID=Europe/Madrid:20230401T203000
DTSTAMP:20260425T161643
CREATED:20230331T163224Z
LAST-MODIFIED:20230331T163251Z
UID:18825-1680375600-1680381000@www.mientrada.net
SUMMARY:Gala flamenca - Día mundial del Pueblo Gitano
DESCRIPTION:Entrada gratuita hasta completar aforo \nNerja celebra el Día Mundial del Pueblo Gitano con una serie de actividades que finalizan con esta Gala flamenca en el Centro Cultural\, en la que actuarán cuadros flamencos de Málaga\, Granada y Jerez. Previamente\, tendrá lugar un flashmob en la plaza detrás del teatro y se leerá el Manifiesto del Día del Pueblo Gitano. \nTambién pueden asistir gratuitamente a las actividades que se realizarán en el Museo de Nerja el día anterior desde las 7 de la tarde: proyección de cortometraje\, exposición de pintura y performance flamenca. \n  \nPuede compartir este evento en:
URL:https://www.mientrada.net/evento/gala-flamenca-dia-mundial-del-pueblo-gitano/
LOCATION:Centro Cultural Villa de Nerja\, Calle Granada 45\, Nerja\, Málaga\, 29780\, España
CATEGORIES:Centro Cultural Villa de Nerja,Flamenco,Nerja
ATTACH;FMTTYPE=image/jpeg:https://www.mientrada.net/wp-content/uploads/2023/03/Cartel-Dia-pueblo-gitano.jpg
END:VEVENT
BEGIN:VEVENT
DTSTART;TZID=Europe/Madrid:20230416T160000
DTEND;TZID=Europe/Madrid:20230416T180000
DTSTAMP:20260425T161643
CREATED:20230331T094922Z
LAST-MODIFIED:20230331T101118Z
UID:18818-1681660800-1681668000@www.mientrada.net
SUMMARY:MANGUARA
DESCRIPTION:Artista invitado: Antonio Flamenkito. \n  \nHorarios: \n\nBarra de comida desde las 13:00 h.\nConciertos a partir de las 16:00 h.\n\n  \nPrecios: \n\nentrada anticipada: 12€\nen puerta: 15€\n\n  \nPuede compartir este evento en:
URL:https://www.mientrada.net/evento/manguara/
LOCATION:Cortijo San Joaquín\, Camino de los Alcabuceros\, 6\, Málaga\, Málaga\, 29010\, España
CATEGORIES:Flamenco,Málaga
ATTACH;FMTTYPE=image/jpeg:https://www.mientrada.net/wp-content/uploads/2023/03/Cartel-Manguara.jpg
END:VEVENT
BEGIN:VEVENT
DTSTART;TZID=Europe/Madrid:20230429T200000
DTEND;TZID=Europe/Madrid:20230429T220000
DTSTAMP:20260425T161643
CREATED:20230405T162440Z
LAST-MODIFIED:20230409T100537Z
UID:18902-1682798400-1682805600@www.mientrada.net
SUMMARY:Bienal de Arte Flamenco de Málaga - Gala inaugural
DESCRIPTION:VIII Bienal de Arte Flamenco de Málaga. \n\nManuel Liñán\, Alfonso Losa\, El Yiyo\, con la colaboración especial de Carrete. \nCarrete y su larga trayectoria nos hace reflexionar sobre la evolución del baile a través de los años y las diferentes maneras en las que el cuerpo de un hombre es capaz de dar forma a la Danza flamenca. Esta reflexión se convierte en movimiento en el espectáculo Gala Flamenca. Por tanto\, la personalidad de Carrete\, un hombre de raza\, ambiguo\, luchador y amante del arte\, es el motor que impulsa a celebrar el paso del tiempo y la evolución de este arte. Un espectáculo impregnado por las cualidades que este gran artista nos transmite desde su madurez: libertad\, raza\, naturalidad\, amor y respeto. \nDirige el espectáculo el coreógrafo y bailaor Manuel Liñán\, Premio Nacional de Danza 2017. Con un don trascendental\, Liñán despierta los ritmos\, las imágenes y las posibilidades más salvajes de la danza (The Financial Times UK\, 2017). \nCarrete y Manuel Liñán se acompañan en escena de dos de los bailaores más notables de la escena actual: Alfonso Losa\, Premio de la Crítica Festival de Jerez 2022 y el más contemporáneo de los bailarines clásicos; y El Yiyo\, exponente del flamenco más racial que destaca por su carisma y autenticidad. Les acompaña un elenco de excepción encabezado por la cantaora Sandra Carrasco\, portadora de una de las voces más especiales del nuevo flamenco. \n  \nFICHA ARTÍSTICA Y TÉCNICA: \n\nBaile: Manuel Liñán\, Alfonso Losa\, El Yiyo y Carrete de Málaga.\nCantaores: Antonio campos y David Carpio\nArtista Invitada: Sandra Carrasco\nGuitarras: Francisco Vinuesa\, Javier Ibañez\nPercusión: Kike Terrón\nEquipo técnico: Alvaro Estrada y Ángel Olaya\nDirección: Manuel Liñán\nCoreografía: Manuel Liñán\, Alfonso Losa\, El Yiyo. Diseño de Iluminación: Álvaro Estrada\nProducción: FLAMENCO FESTIVAL\n\n\n  \nPuede compartir este evento en:
URL:https://www.mientrada.net/evento/bienal-flamenco-malaga-gala-inaugural/
LOCATION:Auditorio Edgar Neville\, Calle Pacífico\, 54\, Málaga\, Málaga\, 29004\, España
CATEGORIES:Auditorio Edgar Neville,Flamenco,Málaga,VIII Bienal de Arte Flamenco de Málaga
ATTACH;FMTTYPE=image/jpeg:https://www.mientrada.net/wp-content/uploads/2023/04/Cartel-Gala-inaugural.jpg
END:VEVENT
BEGIN:VEVENT
DTSTART;TZID=Europe/Madrid:20230430T130000
DTEND;TZID=Europe/Madrid:20230430T143000
DTSTAMP:20260425T161643
CREATED:20230405T162440Z
LAST-MODIFIED:20230405T172037Z
UID:18908-1682859600-1682865000@www.mientrada.net
SUMMARY:Domingos de vermut y potaje
DESCRIPTION:VIII Bienal de Arte Flamenco de Málaga. \n\n«Es la hora del vermut» elegante expresión y maravillosa excusa para provocar un encuentro\, una inspiración\, unas risas\, una agustera y un «abrir el apetito» sin igual. \nEl show que Maui nos propone es una miscelánea de teatro\, música\, repentismo\, pellizco y palabra usando el potaje como protagonista. Comenzaremos por preparar el cuerpo con un vermut\, después la cantactriz cocinará en directo este plato propio de su Utrera\, de su casa. Para ayudarle en esta tarea cada domingo recibe en su cocina a un invitado que aporta el condimento ideal a esta pócima mágica. \n«Domingos de Vermut y Potaje» es un espectáculo de 40 -75 minutos de duración que culminará en el patio de butacas\, donde espectadores y artistas se unen en torno al potaje para recrear esos momentos tan gitanos donde la guasa\, el cante\, la pataíta\, una guitarra\, y la verdad más auténtica\, se dan la mano de manera natural. La interacción con el público\, la improvisación y la chispa harán de esta experiencia algo tan auténtico como irrepetible. ¡Que comience la ceremonia! Y en un momento el teatro se impregnará de un aroma que es un ole tu alé\, de potaje. \n  \nFICHA ARTÍSTICA: \n\nVoz e interpretación y guión: Maui\nGuitarra flamenca: Paco Soto\nPalmas\, coros y coreografía: Kiko Martín & Juan Carlos Gil\nDirección artística: Miguel Ángel Rojas\nProducción: Teatro Flamenco Madrid\n\n\n  \nPuede compartir este evento en:
URL:https://www.mientrada.net/evento/bienal-flamenco-malaga-domingos-de-vermut-y-potaje/
LOCATION:Auditorio Edgar Neville\, Calle Pacífico\, 54\, Málaga\, Málaga\, 29004\, España
CATEGORIES:Auditorio Edgar Neville,Flamenco,Málaga,VIII Bienal de Arte Flamenco de Málaga
ATTACH;FMTTYPE=image/jpeg:https://www.mientrada.net/wp-content/uploads/2023/04/Cartel-Vermut.jpg
END:VEVENT
END:VCALENDAR