BEGIN:VCALENDAR
VERSION:2.0
PRODID:-//mientrada.net - ECPv5.16.0//NONSGML v1.0//EN
CALSCALE:GREGORIAN
METHOD:PUBLISH
X-ORIGINAL-URL:https://www.mientrada.net
X-WR-CALDESC:Eventos para mientrada.net
REFRESH-INTERVAL;VALUE=DURATION:PT1H
X-Robots-Tag:noindex
X-PUBLISHED-TTL:PT1H
BEGIN:VTIMEZONE
TZID:Europe/Madrid
BEGIN:DAYLIGHT
TZOFFSETFROM:+0100
TZOFFSETTO:+0200
TZNAME:CEST
DTSTART:20230326T010000
END:DAYLIGHT
BEGIN:STANDARD
TZOFFSETFROM:+0200
TZOFFSETTO:+0100
TZNAME:CET
DTSTART:20231029T010000
END:STANDARD
END:VTIMEZONE
BEGIN:VEVENT
DTSTART;TZID=Europe/Madrid:20230820T220000
DTEND;TZID=Europe/Madrid:20230820T220000
DTSTAMP:20260424T225742
CREATED:20230724T121913Z
LAST-MODIFIED:20230725T090008Z
UID:64818-1692568800-1692568800@www.mientrada.net
SUMMARY:Miguel de Molina
DESCRIPTION:Entre dos orillas\, una vida bailada. \nLa compañía malagueña de baile flamenco Antonio de Verónica & Saray Cortés presenta una original y atrevida propuesta de reconocimiento al singular y eterno artista malagueño Miguel de Molina\, máximo exponente de la copla española que se ganó el reconocimiento del público y del mundo artístico en general por su inquebrantable entrega y compromiso con el arte. Artista ‘por los cuatro costaos’\, vanguardista\, creador y trabajador incansable\, dejó un amplio legado de su polifacética actividad artística\, marcada por la fuerza de su arrolladora personalidad. \nSu manera de cantar\, de vestir\, de mirar\, de interpretar\, de poner en escena y decorar… todas sus formas se hicieron arte y crearon escuela. Arte y vida\, persona y personaje se fundían en Miguel Frías de Molina. \n  \nEntrada gratuita (gasto de gestión no incluido). \n  \nPuede compartir este evento en:
URL:https://www.mientrada.net/evento/miguel-de-molina/
LOCATION:Finca El Portón\, Calle Juan Carlos I\, Alhaurín de la Torre\, Málaga\, 29130\, España
CATEGORIES:Alhaurín de la Torre,Finca El Portón,Flamenco
ATTACH;FMTTYPE=image/jpeg:https://www.mientrada.net/wp-content/uploads/2023/07/Cartel-Miguel-de-Molina.jpg
END:VEVENT
BEGIN:VEVENT
DTSTART;TZID=Europe/Madrid:20230829T223000
DTEND;TZID=Europe/Madrid:20230829T223000
DTSTAMP:20260424T225742
CREATED:20220701T082944Z
LAST-MODIFIED:20230822T111449Z
UID:67262-1693348200-1693348200@www.mientrada.net
SUMMARY:VI CABILDO FLAMENCO ARCHIDONA - El guiri\, el payo y el gitano
DESCRIPTION:Ciclo de conciertos: \n\n29/08/2023 El guiri\, el payo y el gitano\n30/08/2023 Lin Cortés – Gitanerías\n31/08/2023 Rocío Bazán – Intrépida\n01/09/2023 Raúl Rodríguez – La Razón Eléctrica\n\n  \nPor la compra de la entrada del concierto se adquiere el derecho a acceder a las actividades de ese día. Por tanto los asistentes a los conciertos tendrán\, con esa entrada\, prioridad en las conferencias de ese día. \n  \nSalón Biblioteca Municipal: \n\n12:30 «La Malagueñita» por Ángeles Cruzado.\n20:00 «Flamencas Cuentan» con Encarna Anillo.\n\n  \nPrecios: \n\nEntrada: 15€\n\n  \nPuede compartir este evento en:
URL:https://www.mientrada.net/evento/cabildo-flamenco-archidona-guiri-payo-gitano/
LOCATION:Claustro IES Luis Barahona de Soto\, C/ Pilarejo\, Archidona\, Málaga\, España
CATEGORIES:Archidona,Claustro IES Luis Barahona de Soto,Flamenco
ATTACH;FMTTYPE=image/jpeg:https://www.mientrada.net/wp-content/uploads/2022/07/Cartel-Cabildo-Dia-08-29.jpg
END:VEVENT
BEGIN:VEVENT
DTSTART;TZID=Europe/Madrid:20230830T223000
DTEND;TZID=Europe/Madrid:20230830T223000
DTSTAMP:20260424T225742
CREATED:20220701T082944Z
LAST-MODIFIED:20230822T111510Z
UID:67279-1693434600-1693434600@www.mientrada.net
SUMMARY:VI CABILDO FLAMENCO ARCHIDONA - Lin Cortés\, Gitanerías
DESCRIPTION:Ciclo de conciertos: \n\n29/08/2023 El guiri\, el payo y el gitano\n30/08/2023 Lin Cortés – Gitanerías\n31/08/2023 Rocío Bazán – Intrépida\n01/09/2023 Raúl Rodríguez – La Razón Eléctrica\n\n  \nPor la compra de la entrada del concierto se adquiere el derecho a acceder a las actividades de ese día. Por tanto los asistentes a los conciertos tendrán\, con esa entrada\, prioridad en las conferencias de ese día. \n  \nSalón Biblioteca Municipal: \n\n12:30 «La Trini» por Ramón Soler.\n20:00 «Flamencas Cuentan» con Antonia Contreras.\n\n  \nPrecios: \n\nEntrada: 15€\n\n  \nPuede compartir este evento en:
URL:https://www.mientrada.net/evento/cabildo-flamenco-archidona-lin-cortes-gitanerias/
LOCATION:Claustro IES Luis Barahona de Soto\, C/ Pilarejo\, Archidona\, Málaga\, España
CATEGORIES:Archidona,Claustro IES Luis Barahona de Soto,Flamenco
ATTACH;FMTTYPE=image/jpeg:https://www.mientrada.net/wp-content/uploads/2022/07/Cartel-Cabildo-Dia-08-30.jpg
END:VEVENT
BEGIN:VEVENT
DTSTART;TZID=Europe/Madrid:20230831T223000
DTEND;TZID=Europe/Madrid:20230831T223000
DTSTAMP:20260424T225742
CREATED:20220701T082944Z
LAST-MODIFIED:20230822T111421Z
UID:67280-1693521000-1693521000@www.mientrada.net
SUMMARY:VI CABILDO FLAMENCO ARCHIDONA - Rocío Bazán\, Intrépida
DESCRIPTION:Ciclo de conciertos: \n\n29/08/2023 El guiri\, el payo y el gitano\n30/08/2023 Lin Cortés – Gitanerías\n31/08/2023 Rocío Bazán – Intrépida\n01/09/2023 Raúl Rodríguez – La Razón Eléctrica\n\n  \nPor la compra de la entrada del concierto se adquiere el derecho a acceder a las actividades de ese día. Por tanto los asistentes a los conciertos tendrán\, con esa entrada\, prioridad en las conferencias de ese día. \n  \nSalón Biblioteca Municipal: \n\n12:30 «La Repompa de Málaga» por Paco Roji\, y la colaboración especial de Carrete.\n20:00 «Flamencas Cuentan» con Lole Montoya.\n\n  \nPrecios: \n\nEntrada: 15€\n\n  \nPuede compartir este evento en:
URL:https://www.mientrada.net/evento/cabildo-flamenco-archidona-rocio-bazan-intrepida/
LOCATION:Claustro IES Luis Barahona de Soto\, C/ Pilarejo\, Archidona\, Málaga\, España
CATEGORIES:Archidona,Claustro IES Luis Barahona de Soto,Flamenco
ATTACH;FMTTYPE=image/jpeg:https://www.mientrada.net/wp-content/uploads/2022/07/Cartel-Cabildo-Dia-08-31.jpg
END:VEVENT
END:VCALENDAR