BEGIN:VCALENDAR
VERSION:2.0
PRODID:-//mientrada.net - ECPv5.16.0//NONSGML v1.0//EN
CALSCALE:GREGORIAN
METHOD:PUBLISH
X-WR-CALNAME:mientrada.net
X-ORIGINAL-URL:https://www.mientrada.net
X-WR-CALDESC:Eventos para mientrada.net
REFRESH-INTERVAL;VALUE=DURATION:PT1H
X-Robots-Tag:noindex
X-PUBLISHED-TTL:PT1H
BEGIN:VTIMEZONE
TZID:Europe/Madrid
BEGIN:DAYLIGHT
TZOFFSETFROM:+0100
TZOFFSETTO:+0200
TZNAME:CEST
DTSTART:20230326T010000
END:DAYLIGHT
BEGIN:STANDARD
TZOFFSETFROM:+0200
TZOFFSETTO:+0100
TZNAME:CET
DTSTART:20231029T010000
END:STANDARD
END:VTIMEZONE
BEGIN:VEVENT
DTSTART;TZID=Europe/Madrid:20230901T223000
DTEND;TZID=Europe/Madrid:20230901T223000
DTSTAMP:20260425T051052
CREATED:20220701T082944Z
LAST-MODIFIED:20230822T111756Z
UID:67281-1693607400-1693607400@www.mientrada.net
SUMMARY:VI CABILDO FLAMENCO ARCHIDONA - Raúl Rodríguez\, La Razón Eléctrica
DESCRIPTION:Ciclo de conciertos: \n\n29/08/2023 El guiri\, el payo y el gitano\n30/08/2023 Lin Cortés – Gitanerías\n31/08/2023 Rocío Bazán – Intrépida\n01/09/2023 Raúl Rodríguez – La Razón Eléctrica\n\n  \nPor la compra de la entrada del concierto se adquiere el derecho a acceder a las actividades de ese día. Por tanto los asistentes a los conciertos tendrán\, con esa entrada\, prioridad en las conferencias de ese día. \n  \nSalón Biblioteca Municipal: \n\n12:30 «La Niña de Antequera» por Rafel Cáceres.\n20:00 «Flamencas Cuentan» con Mariquilla.\n\n  \nPrecios: \n\nEntrada: 15€\n\n  \nPuede compartir este evento en:
URL:https://www.mientrada.net/evento/cabildo-flamenco-archidona-raul-rodriguez/
LOCATION:Claustro IES Luis Barahona de Soto\, C/ Pilarejo\, Archidona\, Málaga\, España
CATEGORIES:Archidona,Claustro IES Luis Barahona de Soto,Flamenco
ATTACH;FMTTYPE=image/jpeg:https://www.mientrada.net/wp-content/uploads/2022/07/Cartel-Cabildo-Dia-09-01.jpg
END:VEVENT
BEGIN:VEVENT
DTSTART;TZID=Europe/Madrid:20230902T220000
DTEND;TZID=Europe/Madrid:20230902T220000
DTSTAMP:20260425T051052
CREATED:20230719T232644Z
LAST-MODIFIED:20230829T091926Z
UID:21355-1693692000-1693692000@www.mientrada.net
SUMMARY:XX FESTIVAL DE ARTE FLAMENCO DE BENALMÁDENA
DESCRIPTION:Al cante: \n\nJuan Villar\nPedro El Granaino\nAntonio Reyes\nChato de Málaga\n\n  \nGuitarra: \n\nManuel Jero\nLuis El Salao\nPatrocinio hijo\n\n  \nPalmas: \n\nJosé Rubichi\nCarlos Grilo\n\n  \nBaile: Grupo de baile Sandra Cisneros \nPresenta: Juan Garrido \n  \nPrecios: \n\nventa anticipada: 10€\ntaquilla día del evento: 15€\n\n  \nPuede compartir este evento en:
URL:https://www.mientrada.net/evento/festival-flamenco-benalmadena/
LOCATION:Auditorio de las Palomas\, Av. de Rocío Jurado\, 0\, Benalmádena\, Málaga\, 29630\, España
CATEGORIES:Auditorio de Benalmádena,Benalmádena,Flamenco
ATTACH;FMTTYPE=image/jpeg:https://www.mientrada.net/wp-content/uploads/2023/07/Cartel-Festival-Flamenco-Benalmadena.jpg
END:VEVENT
BEGIN:VEVENT
DTSTART;TZID=Europe/Madrid:20230922T200000
DTEND;TZID=Europe/Madrid:20230922T200000
DTSTAMP:20260425T051052
CREATED:20230905T112725Z
LAST-MODIFIED:20230905T113111Z
UID:79434-1695412800-1695412800@www.mientrada.net
SUMMARY:Alfonso Losa y Patricia Guerrero - AlterEgo
DESCRIPTION:Preestreno – Flamenco In Progress. \nBasado en la relación entre los autores e intérpretes Patricia Guerrero y Alfonso Losa\, esta obra es un encuentro entre dos cuerpos que se descubren mediante la danza\, estimulando sus reacciones más viscerales\, donde la acción escénica consecuencia de esta conexión creativa\, camina en búsqueda de su álter ego. Su alter ego es el dueto\, donde se proyectan inﬁnidad de posibles y se permite indagar de una manera más atrevida dentro del confort de esta relación de admiración artística. \nPatricia Guerrero dibuja ﬁguras geométricas con su baile. Luego las transforma\, las deshace y las vuelve a convertir en elementos vitales. Alfonso Losa crea nuevos esquemas sin romper moldes\, construye sin deconstruir\, trabaja con la autenticidad. Baila como es. Álter ego es un ensayo de sobre el movimiento que les permite afrontar retos compartidos haciendo de esta obra una pieza única con espacio de desarrollo continuo. \n  \nPATRICIA GUERRERO. \nPatricia Guerrero tiene profundas raíces flamencas\, al tiempo que siempre ha explorado otros estilos de música y danza. Comienza a recibir clases a los tres años de edad\, en la academia de su madre. Su aprendizaje incluye a maestros como Mario Maya y Rubén Olmo\, con influencias del clásico español y del contemporáneo. En 2010 estrena su primer trabajo en solitario\, Desde el Albayzín\, con el que recorre Europa.\, y aparece como solista en la gira mundial del espectáculo Flamenco Hoy y en la película Flamenco\, Flamenco de Carlos Saura. En 2011 Patricia es elegida primera bailarina del Ballet Flamenco de Andalucía. Las producciones de su propia compañía incluyen Latidos del agua (2013) y Touché. En 2016 estrena en la XIX Bienal de Sevilla Catedral\, galardonado con el Giraldillo a Mejor Espectáculo\, y candidato a dos Premios Max 2017\, incluyendo Mejor Intérprete Femenina de Danza. En 2018 da otro salto de calidad con Distopía\, también estrenada en Bienal y nominada esta vez a tres Premios Max. En 2019 estrena Pies de Barro en la Noche Blanca del Flamenco de Córdoba. En 2020 presenta en la Bienal de Sevilla Paraíso Perdido\, espectáculo con el violagambista Fahmi Alqhai\, en el que danza sobre repertorio barroco\, y Proceso Eterno\, un recital flamenco con Dani de Morón\, Sergio el Colorao y Agustín Diassera. Ha actuado en los teatros y festivales más prestigiosos: New York City Center\, Teatro Nacional Chaillot de Paris\, Teatros del Canal (Madrid)\, Teatro Central y Teatro Lope de Vega (Sevilla)\, Piccolo Teatro de Milán\, Instituto Bozar de Bruselas\, Grand Theatre de Luxemburgo\, Casa de la Música de Moscú\, etc. \n  \nALFONSO LOSA. \nEs el más genuino representante actual de la escuela madrileña de danza flamenca y el necesario puente entre sus maestros y las nuevas generaciones: en plena madurez artística Alfonso Losa ha logrado articular su propio lenguaje con el que es capaz de transmitir los conceptos más auténticamente identitarios del baile tradicional a través de los nuevos códigos de la danza de nuestros días\, de los cuales él es uno de sus artífices. Alfonso Losa ha conseguido armonizar la austeridad\, la verticalidad y la elegancia de la escuela madrileña con una rítmica vertiginosa y un prodigioso dominio corporal. Es el más clásico de los contemporáneos y el más contemporáneo de los clásicos.\nPremios como «El Desplante» (Festival de La Unión) o el Mejor Bailarín del Certamen de Danza Española y Flamenco de Madrid avalan una trayectoria de progreso que ha sido observada y valorada por artistas como Enrique Morente\, Tomatito\, Gerardo Núñez\, Enrique de Melchor\, Niño Josele\, Rubén Dantas o Montse Cortés\, que han reclamado su compañía en los escenarios. \n  \nFicha artística y técnica: \n\nCoreografía: Alfonso Losa y Patricia Guerrero\nComposición Musical: Fran Vinuesa\nDiseño de Vestuario: Belén de la Quintana\nDiseño de iluminación: Olga García\nDirección de Producción y Management: Bleu Prod\, Loic Batos\nBaile: Alfonso Losa y Patricia Guerrero\nMúsicos: Sandra Carrasco\, Fran Vinuesa e Ismael de la Rosa\nIluminación: Alvaro Estradaç\nSonido: Angel Olalla\n\n  \nPuede compartir este evento en:
URL:https://www.mientrada.net/evento/alfonso-losa-y-patricia-guerrero-alterego/
LOCATION:Teatro Municipal Villa de Torrox\, Av. Isaac Albéniz\, 3\, Torrox\, Málaga\, 29793\, España
CATEGORIES:Flamenco,Teatro Municipal Villa de Torrox,Torrox
ATTACH;FMTTYPE=image/jpeg:https://www.mientrada.net/wp-content/uploads/2023/09/Cartel-Alter-Ego.jpg
END:VEVENT
BEGIN:VEVENT
DTSTART;TZID=Europe/Madrid:20230929T200000
DTEND;TZID=Europe/Madrid:20230929T200000
DTSTAMP:20260425T051052
CREATED:20230905T112725Z
LAST-MODIFIED:20230905T164547Z
UID:79439-1696017600-1696017600@www.mientrada.net
SUMMARY:Laboratoria - Qué Quiere La Niña
DESCRIPTION:Preestreno – Flamenco In Progress. \nLaboratoriA es una compañía afincada en Barcelona pionera en la interpretación feminista del flamenco que nos presenta su tercer espectáculo en creación con título «Qué quiere la niña». \nEn este nuevo proceso artístico el colectivo quiere vincular la experimentación en el flamenco con una faceta importante de la cultura popular. Basándose en los pregones\, estilos musicales que cantaban algunos vendedores ambulantes y que han nutrido el flamenco dando lugar a estilos consolidados\, se proponen abordar algunas problemáticas actuales que nos afectan como mujeres\, como artistas y como ciudadanas: la fragmentación\, la dispersión y la exigencia\, la necesidad de promocionar y comercializar constantemente nuestro trabajo en un mercado cultural muy competitivo\, la conciliación familiar\, la reivindicación de la cultura popular y del vínculo comunitario en un mundo cada vez más individualista o la alegría como fuerza transformadora. \n  \nPuede compartir este evento en:
URL:https://www.mientrada.net/evento/laboratoria-que-quiere-la-nina/
LOCATION:Teatro Municipal Villa de Torrox\, Av. Isaac Albéniz\, 3\, Torrox\, Málaga\, 29793\, España
CATEGORIES:Flamenco,Teatro Municipal Villa de Torrox,Torrox
ATTACH;FMTTYPE=image/jpeg:https://www.mientrada.net/wp-content/uploads/2023/09/Cartel-Laboratoria.jpg
END:VEVENT
END:VCALENDAR