BEGIN:VCALENDAR
VERSION:2.0
PRODID:-//mientrada.net - ECPv5.16.0//NONSGML v1.0//EN
CALSCALE:GREGORIAN
METHOD:PUBLISH
X-ORIGINAL-URL:https://www.mientrada.net
X-WR-CALDESC:Eventos para mientrada.net
REFRESH-INTERVAL;VALUE=DURATION:PT1H
X-Robots-Tag:noindex
X-PUBLISHED-TTL:PT1H
BEGIN:VTIMEZONE
TZID:Europe/Madrid
BEGIN:DAYLIGHT
TZOFFSETFROM:+0100
TZOFFSETTO:+0200
TZNAME:CEST
DTSTART:20220327T010000
END:DAYLIGHT
BEGIN:STANDARD
TZOFFSETFROM:+0200
TZOFFSETTO:+0100
TZNAME:CET
DTSTART:20221030T010000
END:STANDARD
END:VTIMEZONE
BEGIN:VEVENT
DTSTART;TZID=Europe/Madrid:20221209T200000
DTEND;TZID=Europe/Madrid:20221209T213000
DTSTAMP:20260426T054748
CREATED:20221121T130942Z
LAST-MODIFIED:20221122T094354Z
UID:14645-1670616000-1670621400@www.mientrada.net
SUMMARY:Galería - José Maldonado
DESCRIPTION:Galería se define como un espectáculo contemporáneo y multidisciplinar donde se combinan tres lenguajes: la danza\, que utiliza como eje inicial el flamenco\, la plástica\, con exposición de obra pictórica y creación en directo de una nueva obra y el lenguaje audiovisual\, con una pieza interactiva que une los tres lenguajes. El propósito de este montaje es introducir al espectador en una acogedora atmósfera visual y sonora no convencional en la que se desarrollan las distintas coreografías\, en una arriesgada y versátil puesta en escena de 360o. José Maldonado presenta en solitario cuatro escenas donde rinde homenaje al arte y la cultura\, a las figuras de cuatro artistas insignes españoles. Falla\, Lorca\, Dalí y Carmen Amaya sirven de inspiración a Maldonado en la creación de este maravilloso paseo cultural. \nGalería es un espacio único\, exclusivo\, dinámico y exquisito en el que se contemplará la danza y la obra explosiva y elegante de este artista. Sirviendo él como nexo de unión entre esas figuras y el espectador\, todo comenzará con una primera parada imprevisible y efímera. Este trabajo muestra a Maldonado en todo su esplendor. Enseña lo delicado y minucioso de su forma de trabajar y también la fuerza de su interpretación y el poder de su estética. Maldonado es arte en estado puro. \nDirección\, idea original\, coreografía\, baile y pintura: José Maldonado.\nCo-dirección: Mariana Collado.\nMúsica original: Víctor Guadiana\, Carlos Cuenca\, Pablo Gómez Molina\, José Almarcha\, Sandra Carrasco\, Belén Cabanes y Mariola Membrives.\nAsistencia coreográfica: Lorena Nogal y Juan Carlos Lérida.\nDiseño de iluminación: Antonio Valiente AAI.\nSonido y vídeo: Víctor Tomé.\nVisuales Dirección y edición: Marta Romeo. Dirección de fotografía: Lluís Miras.\nFotografía fija: Laura Abad. Diseño de sonido y mezcla: Enrique G. Bermejo (Kamikaze Estudi).\nDirección de producción: Lucía Mancheño. Distribución: Cal Producciones\nDiseño cartel y dossier: Julio Ruiz. Fotografía cartel y dossier: Ana Palma y Laura Abad. \nJosé Maldonado es uno de los artistas emergentes en el panorama flamenco actual . Bailarín y coreógrafo\, combina la tradición con la vanguardia. Nace en Barcelona\, ciudad donde a temprana edad inicia sus estudios artísticos. Es titulado en danza española y flamenco por el Conservatorio Profesional de Barcelona (Instituto del Teatro).\nTrayectoria. Su carrera profesional va de la mano de numerosos artistas y compañías de renombre\, siendo solicitado en muchas de ellas como bailarín solista o artista invitado y realizando giras por todo el mundo\, recorriendo los más importantes festivales de teatro y danza. “Reversible” de Manuel Liñán. “Laberíntica” de Marco Flores. “Vamos al tiroteo” y “Con la música a otra parte” de Rafaela Carrasco. “Torero»\, “Soledades Piedra y Cielo” y «La casa de Bernarda Alba” de Antonio Canales. “Penélope”\, “Andanzas” y “Fedra” de Javier Latorre. “Oro viejo” de Rocío Molina. “Sevilla” de María Pagés. “La Celestina” y “Flamenco” de Carmen Cortes. “Poeta en Nueva York” de Blanca Li. “Titanium” de Rojas y Rodríguez. “Sed” de Carlos Chamorro. “Cuando amanece” de Belén López. “Tendencias” de Alfonso Losa. “Roble” de Guadalupe Torres. En la «Memoria del Cante 1922” Ballet Flamenco de Andalucía. “Flamenco Hoy” de Carlos Saura. “Federico García” de Pep Tosar\, “Flamenconautas” y “Lorca por Bach” de Shoji Kojima son algunos de los más importantes. Compagina su trabajo en compañías con algunos de los mejores tablaos: El Cordobés\, Corral de la Morería\, Casa Patas\, Corral de la Pacheca\, Las Carboneras\, Los Tarantos\, Tablao de Carmen\, Villa Rosa. Coreografía para diferentes entidades y compañías de danza. «Trigo limpio» y “La Follía” creado para el Conservatorio Superior de Danza María de Ávila\, «La Taca» y “De remate” coreografía creada para Institut del Teatre en Barcelona\, «Triana»\, “Eterna” y “Latido” para la Compañía Flamenco Vivo Carlota Santana en Nueva York\, «Dúo» para la compañía Rojas y Rodriguez\, entre otras. \n  \nPuede compartir este evento en:
URL:https://www.mientrada.net/evento/galeria-jose-maldonado/
LOCATION:Teatro Municipal Villa de Torrox\, Av. Isaac Albéniz\, 3\, Torrox\, Málaga\, 29793\, España
CATEGORIES:Flamenco,Teatro Municipal Villa de Torrox,Torrox
ATTACH;FMTTYPE=image/jpeg:https://www.mientrada.net/wp-content/uploads/2022/11/Cartel-JOSE-MALDONADO.jpg
END:VEVENT
END:VCALENDAR