BEGIN:VCALENDAR
VERSION:2.0
PRODID:-//mientrada.net - ECPv5.16.0//NONSGML v1.0//EN
CALSCALE:GREGORIAN
METHOD:PUBLISH
X-WR-CALNAME:mientrada.net
X-ORIGINAL-URL:https://www.mientrada.net
X-WR-CALDESC:Eventos para mientrada.net
REFRESH-INTERVAL;VALUE=DURATION:PT1H
X-Robots-Tag:noindex
X-PUBLISHED-TTL:PT1H
BEGIN:VTIMEZONE
TZID:Europe/Madrid
BEGIN:DAYLIGHT
TZOFFSETFROM:+0100
TZOFFSETTO:+0200
TZNAME:CEST
DTSTART:20230326T010000
END:DAYLIGHT
BEGIN:STANDARD
TZOFFSETFROM:+0200
TZOFFSETTO:+0100
TZNAME:CET
DTSTART:20231029T010000
END:STANDARD
END:VTIMEZONE
BEGIN:VEVENT
DTSTART;TZID=Europe/Madrid:20230326T180000
DTEND;TZID=Europe/Madrid:20230326T190000
DTSTAMP:20260424T030810
CREATED:20230118T161052Z
LAST-MODIFIED:20230206T203008Z
UID:15161-1679853600-1679857200@www.mientrada.net
SUMMARY:III Festival Títeres - Soy una nuez
DESCRIPTION:III FESTIVAL DE TÍTERES Y MARIONETAS DE SAN PEDRO ALCÁNTARA.\nZum Zum Teatre – Marionetas. \nLa abogada Marinetti es una mujer implacable y amargada que ha denunciado a casi todo el vecindario. Su vida cambia el día en el que Omar\, un niño refugiado\, cae de una rama de su nogal. El niño transforma su vida por completo y para poder quedarse con él\, dice que es una nuez y que\, según una antigua ley\, todo fruto que caiga en su jardín le pertenece. El juez y el fiscal\, incrédulos\, escuchan a los testigos. Mientras\, Omar recuerda cómo tuvo que huir de un país en guerra y cómo perdió a sus padres en el mar\, esperando tener una oportunidad en la vida. \nPremio Fetén 2021 a la mejor dirección y a la interpretación coral. \nPúblico familiar (a partir de 5 años). \n  \nPuede compartir este evento en:
URL:https://www.mientrada.net/evento/festival-titeres-soy-una-nuez/
LOCATION:Centro de Artes Escénicas La Alcoholera\, Calle la Morena 4\, Marbella\, Málaga\, 29670\, España
CATEGORIES:Festival de Títeres y Marionetas,Infantil,La Alcoholera,San Pedro Alcántara
ATTACH;FMTTYPE=image/jpeg:https://www.mientrada.net/wp-content/uploads/2023/01/Cartel-Soy-una-nuez.jpg
END:VEVENT
END:VCALENDAR