BEGIN:VCALENDAR
VERSION:2.0
PRODID:-//mientrada.net - ECPv5.16.0//NONSGML v1.0//EN
CALSCALE:GREGORIAN
METHOD:PUBLISH
X-ORIGINAL-URL:https://www.mientrada.net
X-WR-CALDESC:Eventos para mientrada.net
REFRESH-INTERVAL;VALUE=DURATION:PT1H
X-Robots-Tag:noindex
X-PUBLISHED-TTL:PT1H
BEGIN:VTIMEZONE
TZID:Europe/Madrid
BEGIN:DAYLIGHT
TZOFFSETFROM:+0100
TZOFFSETTO:+0200
TZNAME:CEST
DTSTART:20230326T010000
END:DAYLIGHT
BEGIN:STANDARD
TZOFFSETFROM:+0200
TZOFFSETTO:+0100
TZNAME:CET
DTSTART:20231029T010000
END:STANDARD
END:VTIMEZONE
BEGIN:VEVENT
DTSTART;TZID=Europe/Madrid:20230507T180000
DTEND;TZID=Europe/Madrid:20230507T190000
DTSTAMP:20260423T001809
CREATED:20230118T161052Z
LAST-MODIFIED:20230206T203123Z
UID:15164-1683482400-1683486000@www.mientrada.net
SUMMARY:III Festival Títeres - A la luna
DESCRIPTION:III FESTIVAL DE TÍTERES Y MARIONETAS DE SAN PEDRO ALCÁNTARA.\nVoilá Producciones. \nA luna nace de la idea de trabajar el teatro infantil desde un punto de vista audiovisual\, donde una simple pantalla sirve para transportar al espectador a diferentes mundos. Dibujos animados\, escenarios que cobran vida\, planos imposibles… Y una actriz que\, gracias a su integración en escena\, consigue construir un relato infantil lleno de fantasía donde todo es posible. \nUna técnica compleja de animación y mapping al servicio de un cuento donde la imaginación es la mejor herramienta para construir la realidad. Todo para contar una pequeña gran historia\, llena de color y diversión para los más pequeños y\, a la vez\, espectacular y conmovedora para los adultos. \nLa universalidad del relato -emocionante y cercano- mezclado con una sorprendente puesta en escena ha llevado a A la luna a recorrer el mundo. Aún inmersos en la gira nacional\, en tan solo un año los gansos de Tara ya han viajado a lugares tan dispares como el festival Off de Avignon de 2016\, a Buenos Aires en una producción encabezada por la actriz Florencia Torrente\, o a París\, donde puede verse en la Grande Comedie. Mientras se prepara para volar a China el próximo año\, A la luna es el primer espectáculo familiar que desembarca en El Pavón Teatro Kamikaze. \nPúblico familiar (a partir de 4 años) \n  \nPuede compartir este evento en:
URL:https://www.mientrada.net/evento/festival-titeres-a-la-luna/
LOCATION:Centro de Artes Escénicas La Alcoholera\, Calle la Morena 4\, Marbella\, Málaga\, 29670\, España
CATEGORIES:Festival de Títeres y Marionetas,Infantil,La Alcoholera,San Pedro Alcántara
ATTACH;FMTTYPE=image/jpeg:https://www.mientrada.net/wp-content/uploads/2023/01/Cartel-A-la-luna.jpg
END:VEVENT
END:VCALENDAR