BEGIN:VCALENDAR
VERSION:2.0
PRODID:-//mientrada.net - ECPv5.16.0//NONSGML v1.0//EN
CALSCALE:GREGORIAN
METHOD:PUBLISH
X-ORIGINAL-URL:https://www.mientrada.net
X-WR-CALDESC:Eventos para mientrada.net
REFRESH-INTERVAL;VALUE=DURATION:PT1H
X-Robots-Tag:noindex
X-PUBLISHED-TTL:PT1H
BEGIN:VTIMEZONE
TZID:Europe/Madrid
BEGIN:DAYLIGHT
TZOFFSETFROM:+0100
TZOFFSETTO:+0200
TZNAME:CEST
DTSTART:20230326T010000
END:DAYLIGHT
BEGIN:STANDARD
TZOFFSETFROM:+0200
TZOFFSETTO:+0100
TZNAME:CET
DTSTART:20231029T010000
END:STANDARD
END:VTIMEZONE
BEGIN:VEVENT
DTSTART;TZID=Europe/Madrid:20230520T180000
DTEND;TZID=Europe/Madrid:20230520T190000
DTSTAMP:20260422T212049
CREATED:20230118T161052Z
LAST-MODIFIED:20230206T203210Z
UID:15166-1684605600-1684609200@www.mientrada.net
SUMMARY:III Festival Títeres - El príncipe feliz
DESCRIPTION:III FESTIVAL DE TÍTERES Y MARIONETAS DE SAN PEDRO ALCÁNTARA.\nBuho Teatro. \nLa estatua de un príncipe se encuentra en lo alto de una columna donde puede ver toda la ciudad. Una golondrina que retrasa su emigración ve que el príncipe está llorando a causa de la injusticia que observa desde su posición. Cuando vivía siempre pensó que todo el mundo era feliz como él\, y ahora podía comprobar la triste realidad del sufrimiento de su pueblo que es confirmado por la golondrina\, la cual le ayuda a socorre a los mas necesitados. \nPúblico familiar (a partir de 5 años). \n  \nFicha artística : \n\nActores: Carmela La Chocolata\, Jesualdo Díaz\, Juan Luis Clavijo\nTexto: Jesualdo Díaz y Juan Luis Clavijo\nDirección: Jesualdo Díaz y Juan Luis Clavijo\nAyudante de dirección: Anabel Rueda\nCoreógrafa: Carmela la Chocolata\nDiseño Plástico: Jorge Magia\nMúsica: Francisco Gomez\nDiseño de iluminación: Juan Luis Clavijo\n\n  \nPuede compartir este evento en:
URL:https://www.mientrada.net/evento/festival-titeres-el-principe-feliz/
LOCATION:Centro de Artes Escénicas La Alcoholera\, Calle la Morena 4\, Marbella\, Málaga\, 29670\, España
CATEGORIES:Festival de Títeres y Marionetas,Infantil,La Alcoholera,San Pedro Alcántara
ATTACH;FMTTYPE=image/jpeg:https://www.mientrada.net/wp-content/uploads/2023/01/Cartel-Principe-feliz.jpg
END:VEVENT
END:VCALENDAR