BEGIN:VCALENDAR
VERSION:2.0
PRODID:-//mientrada.net - ECPv5.16.0//NONSGML v1.0//EN
CALSCALE:GREGORIAN
METHOD:PUBLISH
X-ORIGINAL-URL:https://www.mientrada.net
X-WR-CALDESC:Eventos para mientrada.net
REFRESH-INTERVAL;VALUE=DURATION:PT1H
X-Robots-Tag:noindex
X-PUBLISHED-TTL:PT1H
BEGIN:VTIMEZONE
TZID:Europe/Madrid
BEGIN:DAYLIGHT
TZOFFSETFROM:+0100
TZOFFSETTO:+0200
TZNAME:CEST
DTSTART:20210328T010000
END:DAYLIGHT
BEGIN:STANDARD
TZOFFSETFROM:+0200
TZOFFSETTO:+0100
TZNAME:CET
DTSTART:20211031T010000
END:STANDARD
END:VTIMEZONE
BEGIN:VEVENT
DTSTART;TZID=Europe/Madrid:20210701T213000
DTEND;TZID=Europe/Madrid:20210701T223000
DTSTAMP:20260421T013656
CREATED:20210524T091125Z
LAST-MODIFIED:20210526T170911Z
UID:8544-1625175000-1625178600@www.mientrada.net
SUMMARY:LOS JARDINES DE LA TÉRMICA - OFM JAZZ SINFÓNICO
DESCRIPTION:ORQUESTA FILARMÓNICA DE MÁLAGA \nPROGRAMA JAZZ SINFÓNICO \nJosé Carra Trío con la Orquesta Filarmónica de Málaga \n\nObertura (Northern)\nEl camino\nLa sombra del verso\nNieva en mis huellas\nEl corazón de la hormiga\nAlba\nCharlie\nKodama\n\nJOSÉ CARRA TRIO: \n\nJOSE CARRA\, piano\nBORI ALBERO\, contrabajo\nDANI DOMÍNGUEZ\, batería\n\nDirectora: MARÍA DEL MAR MUÑOZ VARO \n  \nPrecio: 15€ / 10€ (entrada reducida para mayores de 65 años\, jóvenes hasta 21 años y personas con movilidad reducida. Será necesario presentar documentación que lo acredite con la entrada). \n  \nNORMAS DE OBLIGADO CUMPLIMIENTO: \n\nPor cuestiones de seguridad\, no se encuentran disponibles algunos asientos. Una vez haya ocupado su butaca\, por favor\, no cambie de asiento.\nObligatorio el uso correcto de la mascarilla (cubriendo nariz y boca) en todo el recinto.\n\n  \nComparte este evento en:
URL:https://www.mientrada.net/evento/jardines-termica-jazz-sinfonico/
LOCATION:Jardines de la Térmica\, Av. de los Guindos\, 48\, Málaga\, Málaga\, 29004\, España
CATEGORIES:Jazz,Los jardines de la Térmica,Málaga,Orquesta Filarmónica de Málaga
ATTACH;FMTTYPE=image/jpeg:https://www.mientrada.net/wp-content/uploads/2021/05/destacado-termica-21.jpg
END:VEVENT
BEGIN:VEVENT
DTSTART;TZID=Europe/Madrid:20210702T213000
DTEND;TZID=Europe/Madrid:20210702T223000
DTSTAMP:20260421T013656
CREATED:20210524T091125Z
LAST-MODIFIED:20210526T170823Z
UID:8576-1625261400-1625265000@www.mientrada.net
SUMMARY:LOS JARDINES DE LA TÉRMICA - OFM JAZZ SINFÓNICO
DESCRIPTION:ORQUESTA FILARMÓNICA DE MÁLAGA \nPROGRAMA JAZZ SINFÓNICO \nJosé Carra Trío con la Orquesta Filarmónica de Málaga \n\nObertura (Northern)\nEl camino\nLa sombra del verso\nNieva en mis huellas\nEl corazón de la hormiga\nAlba\nCharlie\nKodama\n\nJOSÉ CARRA TRIO: \n\nJOSE CARRA\, piano\nBORI ALBERO\, contrabajo\nDANI DOMÍNGUEZ\, batería\n\nDirectora: MARÍA DEL MAR MUÑOZ VARO \n  \nPrecio: 15€ / 10€ (entrada reducida para mayores de 65 años\, jóvenes hasta 21 años y personas con movilidad reducida. Será necesario presentar documentación que lo acredite con la entrada). \n  \nNORMAS DE OBLIGADO CUMPLIMIENTO: \n\nPor cuestiones de seguridad\, no se encuentran disponibles algunos asientos. Una vez haya ocupado su butaca\, por favor\, no cambie de asiento.\nObligatorio el uso correcto de la mascarilla (cubriendo nariz y boca) en todo el recinto.\n\n  \nComparte este evento en:
URL:https://www.mientrada.net/evento/jardines-termica-jazz-sinfonico-2/
LOCATION:Jardines de la Térmica\, Av. de los Guindos\, 48\, Málaga\, Málaga\, 29004\, España
CATEGORIES:Jazz,Los jardines de la Térmica,Málaga,Orquesta Filarmónica de Málaga
ATTACH;FMTTYPE=image/jpeg:https://www.mientrada.net/wp-content/uploads/2021/05/destacado-termica-21.jpg
END:VEVENT
BEGIN:VEVENT
DTSTART;TZID=Europe/Madrid:20210703T213000
DTEND;TZID=Europe/Madrid:20210703T223000
DTSTAMP:20260421T013656
CREATED:20210526T165407Z
LAST-MODIFIED:20210527T100522Z
UID:8614-1625347800-1625351400@www.mientrada.net
SUMMARY:DANI + Glenn Brath DJ
DESCRIPTION:Dani es una compositora e intérprete que transita por las sendas más aterciopeladas e intimistas del pop contemporáneo. Una propuesta fresca que está fusionando el pasado de cantantes como Jeanette o Jane Birkin\, con bases que suenan a la música de hoy. \nEsta amalgama seguramente nos traerá muchas sorpresas más en un futuro. \nPresenta su primer disco\, veinte. \n  \nNORMAS DE OBLIGADO CUMPLIMIENTO: \n\nPor cuestiones de seguridad\, no se encuentran disponibles algunos asientos. Una vez haya ocupado su butaca\, por favor\, no cambie de asiento.\nObligatorio el uso correcto de la mascarilla (cubriendo nariz y boca) en todo el recinto.\n\n  \nComparte este evento en:
URL:https://www.mientrada.net/evento/dani-glenn-brath-dj/
LOCATION:Jardines de la Térmica\, Av. de los Guindos\, 48\, Málaga\, Málaga\, 29004\, España
CATEGORIES:Concierto,Los jardines de la Térmica,Málaga
ATTACH;FMTTYPE=image/jpeg:https://www.mientrada.net/wp-content/uploads/2021/05/destacado-termica-21.jpg
END:VEVENT
BEGIN:VEVENT
DTSTART;TZID=Europe/Madrid:20210708T213000
DTEND;TZID=Europe/Madrid:20210708T223000
DTSTAMP:20260421T013656
CREATED:20210524T091125Z
LAST-MODIFIED:20210526T170738Z
UID:8554-1625779800-1625783400@www.mientrada.net
SUMMARY:LOS JARDINES DE LA TÉRMICA - OFM TANGO SINFONICO
DESCRIPTION:ORQUESTA FILARMÓNICA DE MÁLAGA \nPROGRAMA TANGO SINFÓNICO \nA.PIAZZOLLA \n\nOblivion\nAdios nonino\n\nC. CONSTANTINI\, Concierto para bandoneón y orquesta \n\nI. Allegro\nII. Cantabile\nIII. Animato\n\nG. GERSHWIN\, Un americano en París \n  \nCLAUDIO CONSTANTINI\, bandoneón \nDirector: SALVADOR VÁZQUEZ \n  \nPrecio: 15€ / 10€ (entrada reducida para mayores de 65 años\, jóvenes hasta 21 años y personas con movilidad reducida. Será necesario presentar documentación que lo acredite con la entrada). \n  \nNORMAS DE OBLIGADO CUMPLIMIENTO: \n\nPor cuestiones de seguridad\, no se encuentran disponibles algunos asientos. Una vez haya ocupado su butaca\, por favor\, no cambie de asiento.\nObligatorio el uso correcto de la mascarilla (cubriendo nariz y boca) en todo el recinto.\n\n  \nComparte este evento en:
URL:https://www.mientrada.net/evento/jardines-termica-tango-sinfonico/
LOCATION:Jardines de la Térmica\, Av. de los Guindos\, 48\, Málaga\, Málaga\, 29004\, España
CATEGORIES:Los jardines de la Térmica,Málaga,Orquesta Filarmónica de Málaga,Tango
ATTACH;FMTTYPE=image/jpeg:https://www.mientrada.net/wp-content/uploads/2021/05/destacado-termica-21.jpg
END:VEVENT
BEGIN:VEVENT
DTSTART;TZID=Europe/Madrid:20210709T213000
DTEND;TZID=Europe/Madrid:20210709T223000
DTSTAMP:20260421T013656
CREATED:20210524T091125Z
LAST-MODIFIED:20210526T170654Z
UID:8574-1625866200-1625869800@www.mientrada.net
SUMMARY:LOS JARDINES DE LA TÉRMICA - OFM TANGO SINFONICO
DESCRIPTION:ORQUESTA FILARMÓNICA DE MÁLAGA \nPROGRAMA TANGO SINFÓNICO \nA.PIAZZOLLA \n\nOblivion\nAdios nonino\n\nC. CONSTANTINI\, Concierto para bandoneón y orquesta \n\nI. Allegro\nII. Cantabile\nIII. Animato\n\nG. GERSHWIN\, Un americano en París \n  \nCLAUDIO CONSTANTINI\, bandoneón \nDirector: SALVADOR VÁZQUEZ \n  \nPrecio: 15€ / 10€ (entrada reducida para mayores de 65 años\, jóvenes hasta 21 años y personas con movilidad reducida. Será necesario presentar documentación que lo acredite con la entrada). \n  \nNORMAS DE OBLIGADO CUMPLIMIENTO: \n\nPor cuestiones de seguridad\, no se encuentran disponibles algunos asientos. Una vez haya ocupado su butaca\, por favor\, no cambie de asiento.\nObligatorio el uso correcto de la mascarilla (cubriendo nariz y boca) en todo el recinto.\n\n  \nComparte este evento en:
URL:https://www.mientrada.net/evento/jardines-termica-tango-sinfonico-2/
LOCATION:Jardines de la Térmica\, Av. de los Guindos\, 48\, Málaga\, Málaga\, 29004\, España
CATEGORIES:Los jardines de la Térmica,Málaga,Orquesta Filarmónica de Málaga,Tango
ATTACH;FMTTYPE=image/jpeg:https://www.mientrada.net/wp-content/uploads/2021/05/destacado-termica-21.jpg
END:VEVENT
BEGIN:VEVENT
DTSTART;TZID=Europe/Madrid:20210710T213000
DTEND;TZID=Europe/Madrid:20210710T223000
DTSTAMP:20260421T013656
CREATED:20210526T165407Z
LAST-MODIFIED:20210527T100632Z
UID:8618-1625952600-1625956200@www.mientrada.net
SUMMARY:CHICO BLANCO + Innerkid DJ
DESCRIPTION:Chico Blanco recupera géneros como el house de los 90\, el eurodance o el UK garage para cruzarlos con el ADN de la música urbana actual. La sensación tras escuchar por primera vez canciones como «WTF Is In My Cup”\, “No ValeNa” o“Gominola” es la de estar ante algo totalmente nuevo. \nSus letras reflejan el espíritu de una generación que solo quiere «bailar bajo la luz de discoteca» como escape al mundo casi distópico en el que vivimos. Baile y letras tan crudas como llenas de positivismo definen a un artista único. \n  \nNORMAS DE OBLIGADO CUMPLIMIENTO: \n\nPor cuestiones de seguridad\, no se encuentran disponibles algunos asientos. Una vez haya ocupado su butaca\, por favor\, no cambie de asiento.\nObligatorio el uso correcto de la mascarilla (cubriendo nariz y boca) en todo el recinto.\n\n  \nComparte este evento en:
URL:https://www.mientrada.net/evento/chico-blanco-innerkid-dj/
LOCATION:Jardines de la Térmica\, Av. de los Guindos\, 48\, Málaga\, Málaga\, 29004\, España
CATEGORIES:Concierto,Los jardines de la Térmica,Málaga
ATTACH;FMTTYPE=image/jpeg:https://www.mientrada.net/wp-content/uploads/2021/05/destacado-termica-21.jpg
END:VEVENT
BEGIN:VEVENT
DTSTART;TZID=Europe/Madrid:20210716T213000
DTEND;TZID=Europe/Madrid:20210716T223000
DTSTAMP:20260421T013656
CREATED:20210526T165407Z
LAST-MODIFIED:20210716T115101Z
UID:8602-1626471000-1626474600@www.mientrada.net
SUMMARY:Kinexcencia\, Laboratorio de improvisación escénica
DESCRIPTION:¡AVISO IMPORTANTE: EVENTO CANCELADO! \nSe ha devuelto el importe de sus entradas de manera automática\, no tiene que hacer ninguna gestión adicional. Recibirá el dinero en la cuenta de la misma tarjeta con la que hizo el pago.\n \n  \nEsta plataforma de laboratorios escénicos de Artes Vivas realiza improvisaciones multidisciplinares en las que la danza\, música\, poesía\, artes plásticas\, teatro etc. Que conviven en un mismo espacio holístico. Los artistas desarrollan sus improvisaciones a través de una serie de pautas propuestas por el público que serán dinamizadas por 2 maestros de ceremonias\, encargados de que el espectáculo transcurra con ritmo y fluidez. En este espectáculo se fusionarán artistas\, rompiendo estereotipos y entrando en una sola atmósfera. \n  \nCUERPO:\nNuria Estebánez\nMarta Reguera\nYosbani Rodriguez \n  \nMÚSICA:\nJuanlu Montoro \n  \nVOZ:\nAlessandra García \n  \nARTES PLÁSTICAS:\nPedro Ocaña\nMimi Ripoll \n  \nNORMAS DE OBLIGADO CUMPLIMIENTO: \n\nPor cuestiones de seguridad\, no se encuentran disponibles algunos asientos. Una vez haya ocupado su butaca\, por favor\, no cambie de asiento.\nObligatorio el uso correcto de la mascarilla (cubriendo nariz y boca) en todo el recinto.\n\n  \nComparte este evento en:
URL:https://www.mientrada.net/evento/kinexcencia/
LOCATION:Jardines de la Térmica\, Av. de los Guindos\, 48\, Málaga\, Málaga\, 29004\, España
CATEGORIES:Los jardines de la Térmica,Málaga,Teatro
ATTACH;FMTTYPE=image/jpeg:https://www.mientrada.net/wp-content/uploads/2021/05/Cancelado-Kinexcencia.jpg
END:VEVENT
BEGIN:VEVENT
DTSTART;TZID=Europe/Madrid:20210722T213000
DTEND;TZID=Europe/Madrid:20210722T223000
DTSTAMP:20260421T013656
CREATED:20210526T165407Z
LAST-MODIFIED:20210722T080407Z
UID:8619-1626989400-1626993000@www.mientrada.net
SUMMARY:LADILLA RUSA + DJ Elio
DESCRIPTION:¡AVISO IMPORTANTE: CAMBIO DE FECHA! \nEl concierto de Ladilla Rusa en los Jardines de La Térmica previsto para el 17 de julio pasará a celebrarse el próximo jueves 22 de julio a las 21:30 horas y con DJ Elio (en lugar de You To Me DJ). \nLas entradas adquiridas para la antigua fecha (17/07/2021) siguen valiendo para la nueva fecha (22/07/2021).  \nEl plazo de 5 días para solicitar la devolución finalizó ayer\, según establece el artículo 23 del Decreto 10/2003\, de 28 de enero\, del Reglamento general de la admisión de las personas en los establecimientos de espectáculos públicos y actividades recreativas de la Junta de Andalucía. \n  \nEl grupo de electropop Ladilla Rusa nació en 2017 como una broma de dos amigos de toda la vida\, los periodistas Tania Lozano y Víctor F. Clares. Desde entonces\, y siempre con el humor y la fiesta como bandera\, el grupo ha popularizado canciones como Bebo (de bar en peor)\, Criando Malvas\, Princesas o la que es ya casi un himno de verbena\, Macaulay Culkin. \nEn 2019\, ya bajo el paraguas del sello barcelonés El Genio Equivocado\, editan el single «KITT y los coches del pasado» con millones de reproducciones en Youtube. Recientemente han editado dos nuevos temas\, «Macarrones pop» y «A un metro y medio de ti» (su himno de la pandemia)\, y están grabando nuevas composiciones para lanzar en 2021. \n  \nNORMAS DE OBLIGADO CUMPLIMIENTO: \n\nPor cuestiones de seguridad\, no se encuentran disponibles algunos asientos. Una vez haya ocupado su butaca\, por favor\, no cambie de asiento.\nObligatorio el uso correcto de la mascarilla (cubriendo nariz y boca) en todo el recinto.\n\n  \nComparte este evento en:
URL:https://www.mientrada.net/evento/ladilla-rusa-you-to-me-dj/
LOCATION:Jardines de la Térmica\, Av. de los Guindos\, 48\, Málaga\, Málaga\, 29004\, España
CATEGORIES:Concierto,Los jardines de la Térmica,Málaga
ATTACH;FMTTYPE=image/jpeg:https://www.mientrada.net/wp-content/uploads/2021/05/destacado-termica-21.jpg
END:VEVENT
BEGIN:VEVENT
DTSTART;TZID=Europe/Madrid:20210723T213000
DTEND;TZID=Europe/Madrid:20210723T223000
DTSTAMP:20260421T013656
CREATED:20210526T170346Z
LAST-MODIFIED:20210527T101100Z
UID:8607-1627075800-1627079400@www.mientrada.net
SUMMARY:Roberto\, de Popacademia Fama
DESCRIPTION:La obra se compone del protagonista Roberto\, un chico con síndrome de down y cinco bailarinas más con diferentes problemas sociales causados por la asolación de la pandemia vivida en el 2020. La pieza representa el problema emocional que ha causado ésta y como estos jóvenes hacen frente a esta situación después de encontrarse bailando. \nRoberto es un joven bailarín con Síndrome de Down graduado en Arte Dramáticoen ESAEM y miembro del elenco de la Academia Fama. Un bailarín y actor muy expresivo y creativo que entiende muy bien las circunstancias y así las representa. \nRoberto\, sus sentimientos son puros y su único lenguaje es la danza.\nOlympia\, la rebelde y la diseñadora del cambio.\nEllen\, decidida de agarrar el futuro con sus manos. \nEl Corps de Ballet se compone de 5 chicas con educación en Ballet clásico y contemporáneo\, con gran habilidad expresiva y fantástica técnica de todos los estilos de Danza. \n  \nNORMAS DE OBLIGADO CUMPLIMIENTO: \n\nPor cuestiones de seguridad\, no se encuentran disponibles algunos asientos. Una vez haya ocupado su butaca\, por favor\, no cambie de asiento.\nObligatorio el uso correcto de la mascarilla (cubriendo nariz y boca) en todo el recinto.\n\n  \nComparte este evento en:
URL:https://www.mientrada.net/evento/roberto-de-popacademia-fama/
LOCATION:Jardines de la Térmica\, Av. de los Guindos\, 48\, Málaga\, Málaga\, 29004\, España
CATEGORIES:Los jardines de la Térmica,Málaga,Teatro
ATTACH;FMTTYPE=image/jpeg:https://www.mientrada.net/wp-content/uploads/2021/05/destacado-termica-21.jpg
END:VEVENT
BEGIN:VEVENT
DTSTART;TZID=Europe/Madrid:20210724T213000
DTEND;TZID=Europe/Madrid:20210724T223000
DTSTAMP:20260421T013656
CREATED:20210526T165407Z
LAST-MODIFIED:20210724T125958Z
UID:8620-1627162200-1627165800@www.mientrada.net
SUMMARY:Noche Transdisciplina
DESCRIPTION:¡AFORO COMPLETO! \nTRANSDISCIPLINA A/V es un encuentro de experimentación audiovisual que\, cada dos meses\, organiza un evento en vivo en el que artistas de diferentes disciplinas (visuales\, música\, danza\, performance) ofrecen una experiencia escénica\, visual y musical libre de etiquetas y clasificaciones. \nEl proyecto lo forman: \nAZAEL FERRER — azaelferrer.com Artista multimedia\, diseñador visual y escénico para música\, teatro\, danza y performances. Es colaborador del colectivo artístico Merchants of Reality (San Francisco) y co-fundador de La Caverna de Amores (Málaga). Algunas de sus actuaciones destacadas incluyen obras en el SFMOMA\, Burning Man Festival\, California Academy of Sciences y SXSW. \nCHINOWSKI GARACHANA — tesladream.org teslaradio.bandcamp.com Artivista sonoro y explorador electrónico\, es miembro fundador de El sueño de Tesla y del Grupo de Activación Sonora y creador de la audioteca de la ULEX (Universidad Libre Experimental). Forma parte de los ensambles electroacústicos Teslaradio y Sonora Masala. Actualmente es profesor de prácticas en grabación y edición de audio en la Facultad de Comunicación Audiovisual de la UMA. \nALEJANDRO LÉVAR — latrama.es soundcloud.com/madeja Compositor\, productor y director de arte. Es co-fundador y responsable creativo del estudio de diseño audiovisual Latrama\, con sede en Málaga\, especializado en publicidad y comunicación audiovisual. Compone para teatro y danza contemporánea y lidera la banda de electrónica experimental Madeja\, orginalmente formada en Hamburgo (Alemania)\, a la par que explora su faceta de cantautor en solitario. \nPALOMA PEÑARRUBIA — lasfloresnolloranmusic.com mapstothemusic.com vimeo.com/bromo Compositora de formación clásica y técnica\, su versatilidad\, eclecticismo y depurado sonido le permiten colaborar en múltiples proyectos\, cosechado críticas favorables y nominaciones a “Mejor Música Original” en los Premios ARESAN (por “La Grieta\, entre animales salvajes”\, 2015) y los Premios ASECAN (por “Seis y Medio”\, largometraje de 2015). Además de en cine y teatro\, Paloma colabora realizando la música original para Fashion Films de marcas como Oysho\, Izzue y Jack & Jones. \n  \nNORMAS DE OBLIGADO CUMPLIMIENTO: \n\nPor cuestiones de seguridad\, no se encuentran disponibles algunos asientos. Una vez haya ocupado su butaca\, por favor\, no cambie de asiento.\nObligatorio el uso correcto de la mascarilla (cubriendo nariz y boca) en todo el recinto.\n\n  \nComparte este evento en:
URL:https://www.mientrada.net/evento/noche-transdisciplina/
LOCATION:Jardines de la Térmica\, Av. de los Guindos\, 48\, Málaga\, Málaga\, 29004\, España
CATEGORIES:Concierto,Los jardines de la Térmica,Málaga
ATTACH;FMTTYPE=image/jpeg:https://www.mientrada.net/wp-content/uploads/2021/05/destacado-termica-21.jpg
END:VEVENT
BEGIN:VEVENT
DTSTART;TZID=Europe/Madrid:20210730T213000
DTEND;TZID=Europe/Madrid:20210730T223000
DTSTAMP:20260421T013656
CREATED:20210526T171647Z
LAST-MODIFIED:20210724T103824Z
UID:8611-1627680600-1627684200@www.mientrada.net
SUMMARY:La Cabra\, de El Espejo Negro
DESCRIPTION:¡AGOTADO EL AFORO! \nUna «troupe» de marionetistas gitanos irrumpe en medio de la calle entre palmas y música de raza\, abocados al arte de la calle se buscan la vida pidiendo con desparpajo a la gente. Todos ellos llenos de arte\, y maestros de la «des-vergüenza»… \n¡Música en directo y enlatada! Cantes flamencos y discotequeros\, auténticos zapateados sobre cajas de cartón realizados por «La Cabra» y la abuela de la familia\, auténtica bailaora de gomaespuma\, pegamento y fieltro\, en un singular cuadro flamenco.  \nLas marionetas harán poner a prueba la paciencia y la imaginación de todo el clan familiar y la sorpresa y admiración del público. \n  \nAutor\, guión y dirección: Ángel Calvente \n  \nNORMAS DE OBLIGADO CUMPLIMIENTO: \n\nPor cuestiones de seguridad\, no se encuentran disponibles algunos asientos. Una vez haya ocupado su butaca\, por favor\, no cambie de asiento.\nObligatorio el uso correcto de la mascarilla (cubriendo nariz y boca) en todo el recinto.\n\n  \nComparte este evento en:
URL:https://www.mientrada.net/evento/la-cabra-el-espejo-negro/
LOCATION:Jardines de la Térmica\, Av. de los Guindos\, 48\, Málaga\, Málaga\, 29004\, España
CATEGORIES:Los jardines de la Térmica,Málaga,Teatro
ATTACH;FMTTYPE=image/jpeg:https://www.mientrada.net/wp-content/uploads/2021/05/destacado-termica-21.jpg
END:VEVENT
BEGIN:VEVENT
DTSTART;TZID=Europe/Madrid:20210731T213000
DTEND;TZID=Europe/Madrid:20210731T223000
DTSTAMP:20260421T013656
CREATED:20210526T165407Z
LAST-MODIFIED:20210731T120258Z
UID:8621-1627767000-1627770600@www.mientrada.net
SUMMARY:DREYMA + Festiboy DJ
DESCRIPTION:¡AFORO COMPLETO! \nUn día cualquiera hace cinco años Mel y Cris se conocieron en Málaga. Fue tal el calambrazo del primer encuentro que esa misma tarde acabaron borrachas\, ensimismadas la una con la otra y celebrando —sin saberlo aún— haber formado una de las duplas artísticas más interesantes del panorama nacional. Pocas semanas después comenzarían a ensayar entre pósters de Patti Smith y La Luz y bajo el tan apropiado nombre de Dreyma\, que en islandés responde al significado de soñar. Tomando distancia\, hoy cuesta visualizar a las integrantes del proyecto por separado pues\, se sabe\, desde prácticamente aquel momento\, ambas funcionan como una suerte de binomio simbiótico que no ha dejado de maquinar\, sentir y crear en conjunto desde entonces\, pero ciertamente hubo trabajos previos: Mel (voz\, sintetizador\, percusión) pertenecía al grupo de metal avant-garde Santa Marta Golden como vocalista y letrista\, mientras\, Cris (voz\, guitarra) formó parte de los efímeros Tina And The Hookahs en tiempos de universidad\, también al frente de la voz solista. En 2017 moldearon su sonido\, el cual ellas mismas acertaron definir como dream-core\, bajo la influencia de artistas como Warpaint o Massive Attack: cajas de ritmos\, electrónica orgánica\, guitarras cristalinas estratificadas a base de loops y la más profunda de laS reverberaciones. Un paisaje sonoro oscuro\, ensoñador\, por momentos delicado y frágil como\, en otros\, visceral y agresivo\, perdido entre guturales y gritos al estilo de las terapias de Arthur Janov —en Dreyma también se busca sanar desde lo más recóndito de uno mismo—. Aquel año acompañó con la salida de su primer EP homónimo\, muchos conciertos y hasta el premio de Disco Grande (Radio 3) como banda revelación. En 2018 no tardarían en embarcarse en un proyecto aún más ambicioso\, ‘Moonlight’\, un trabajo conceptual y audiovisual sobre la vivencia más extrema y al desnudo de las emociones del ser humano. Desde aquel último trabajo siguieron ofreciendo directos (esas explosiones controladas y catárticas de entraña y nervio)\, se trasladaron a Barcelona y empezaron a modelar ‘Salvaje’\, el primer LP del grupo que saldrá el 16 de abril. Ya en plena desescalada de mayo presentaron el single ‘Amanita’\, próximamente el 5 de marzo lanzarán ‘Anfibia’ y el 26 del mismo mes publicarán el último adelanto del debut\, la canción homónima al disco. \nSALVAJE. \nEste nuevo trabajo\, el cual se encuentra en plena continuidad lógica con la propuesta y el sonido de Dreyma\, es de entrada una renuncia a la industria del algoritmo\, del click rápido; también una negación al esqueleto del disco tradicional. ‘Salvaje’ es una obra completa y que pertenece al universo exclusivo de Dreyma\, un continuum en el que no importa el principio ni el final\, sino cómo recorrer el camino que invitan a transitar. \nSi bien este se divide en ocho temas\, escucharlo a saltos supondría lo mismo que recortar un mapa en mil pedazos o que alterar el orden de las páginas de una novela sin instrucciones previas\, una suerte de alegato ‘rayuelesco’. Las canciones implican también un abandono de estructuras pop\, prefiriendo servirse de texturas\, una amplia paleta de sonidos y matices que adentran al oyente en túneles y bosques y le hacen reaparecer en otros lugares\, acompañado de un sentimiento expresivo y un sentido dramático de la interpretación mejor encajado que nunca antes en sus referencias anteriores. \nUna prueba de que ‘Salvaje’ avanza sobre el camino que empezaron a desbrozar desde su primer EP es que repitan con el productor de su último trabajo\, Marcos Muñiz\, quien no sólo captura la esencia de la nueva referencia\, sino que comprende las sensibilidades que supone adentrarse en el mundo de Dreyma. Otra evidencia sería el trabajo sobre sonidos que ya han podido intuirse anteriormente\, como las músicas que lejos quedan del acomodo de los oídos occidentales\, aquí mediados a través de la influencia de Ibeyi\, Dengue Dengue Dengue y diversos folclores.\nSegún se completa el recorrido\, hasta se atisba un regusto a Einstürzende Neubauten en las secciones percusivas entre la marejada de guitarras acuosas\, estética trip-hop y melodías sinuosas cantadas en inglés\, francés\, español y hasta un conjuro en enoquiano. En las letras de este LP existe un denominador común\, un halo de hechizo y enigma\, una deriva mística en la estela de Anna von Hausswolff o Chelsea Wolfe. ‘Salvaje’ es en esencia el regreso a lo primitivo\, una aproximación pura a la belleza y el dolor\, el contacto material con la vida\, la confrontación con la naturaleza\, lo animal y lo sexual; ‘Salvaje’ es la intensidad de ser radicalmente consciente de la existencia de uno mismo. \n  \nNORMAS DE OBLIGADO CUMPLIMIENTO: \n\nPor cuestiones de seguridad\, no se encuentran disponibles algunos asientos. Una vez haya ocupado su butaca\, por favor\, no cambie de asiento.\nObligatorio el uso correcto de la mascarilla (cubriendo nariz y boca) en todo el recinto.\n\n  \nComparte este evento en:
URL:https://www.mientrada.net/evento/dreyma-festiboy-dj/
LOCATION:Jardines de la Térmica\, Av. de los Guindos\, 48\, Málaga\, Málaga\, 29004\, España
CATEGORIES:Concierto,Los jardines de la Térmica,Málaga
ATTACH;FMTTYPE=image/jpeg:https://www.mientrada.net/wp-content/uploads/2021/05/destacado-termica-21.jpg
END:VEVENT
END:VCALENDAR