BEGIN:VCALENDAR
VERSION:2.0
PRODID:-//mientrada.net - ECPv5.16.0//NONSGML v1.0//EN
CALSCALE:GREGORIAN
METHOD:PUBLISH
X-ORIGINAL-URL:https://www.mientrada.net
X-WR-CALDESC:Eventos para mientrada.net
REFRESH-INTERVAL;VALUE=DURATION:PT1H
X-Robots-Tag:noindex
X-PUBLISHED-TTL:PT1H
BEGIN:VTIMEZONE
TZID:Europe/Madrid
BEGIN:DAYLIGHT
TZOFFSETFROM:+0100
TZOFFSETTO:+0200
TZNAME:CEST
DTSTART:20210328T010000
END:DAYLIGHT
BEGIN:STANDARD
TZOFFSETFROM:+0200
TZOFFSETTO:+0100
TZNAME:CET
DTSTART:20211031T010000
END:STANDARD
END:VTIMEZONE
BEGIN:VEVENT
DTSTART;TZID=Europe/Madrid:20210703T213000
DTEND;TZID=Europe/Madrid:20210703T223000
DTSTAMP:20260421T065734
CREATED:20210526T165407Z
LAST-MODIFIED:20210527T100522Z
UID:8614-1625347800-1625351400@www.mientrada.net
SUMMARY:DANI + Glenn Brath DJ
DESCRIPTION:Dani es una compositora e intérprete que transita por las sendas más aterciopeladas e intimistas del pop contemporáneo. Una propuesta fresca que está fusionando el pasado de cantantes como Jeanette o Jane Birkin\, con bases que suenan a la música de hoy. \nEsta amalgama seguramente nos traerá muchas sorpresas más en un futuro. \nPresenta su primer disco\, veinte. \n  \nNORMAS DE OBLIGADO CUMPLIMIENTO: \n\nPor cuestiones de seguridad\, no se encuentran disponibles algunos asientos. Una vez haya ocupado su butaca\, por favor\, no cambie de asiento.\nObligatorio el uso correcto de la mascarilla (cubriendo nariz y boca) en todo el recinto.\n\n  \nComparte este evento en:
URL:https://www.mientrada.net/evento/dani-glenn-brath-dj/
LOCATION:Jardines de la Térmica\, Av. de los Guindos\, 48\, Málaga\, Málaga\, 29004\, España
CATEGORIES:Concierto,Los jardines de la Térmica,Málaga
ATTACH;FMTTYPE=image/jpeg:https://www.mientrada.net/wp-content/uploads/2021/05/destacado-termica-21.jpg
END:VEVENT
END:VCALENDAR