BEGIN:VCALENDAR
VERSION:2.0
PRODID:-//mientrada.net - ECPv5.16.0//NONSGML v1.0//EN
CALSCALE:GREGORIAN
METHOD:PUBLISH
X-WR-CALNAME:mientrada.net
X-ORIGINAL-URL:https://www.mientrada.net
X-WR-CALDESC:Eventos para mientrada.net
REFRESH-INTERVAL;VALUE=DURATION:PT1H
X-Robots-Tag:noindex
X-PUBLISHED-TTL:PT1H
BEGIN:VTIMEZONE
TZID:Europe/Madrid
BEGIN:DAYLIGHT
TZOFFSETFROM:+0100
TZOFFSETTO:+0200
TZNAME:CEST
DTSTART:20210328T010000
END:DAYLIGHT
BEGIN:STANDARD
TZOFFSETFROM:+0200
TZOFFSETTO:+0100
TZNAME:CET
DTSTART:20211031T010000
END:STANDARD
END:VTIMEZONE
BEGIN:VEVENT
DTSTART;TZID=Europe/Madrid:20210723T213000
DTEND;TZID=Europe/Madrid:20210723T223000
DTSTAMP:20260421T065711
CREATED:20210526T170346Z
LAST-MODIFIED:20210527T101100Z
UID:8607-1627075800-1627079400@www.mientrada.net
SUMMARY:Roberto\, de Popacademia Fama
DESCRIPTION:La obra se compone del protagonista Roberto\, un chico con síndrome de down y cinco bailarinas más con diferentes problemas sociales causados por la asolación de la pandemia vivida en el 2020. La pieza representa el problema emocional que ha causado ésta y como estos jóvenes hacen frente a esta situación después de encontrarse bailando. \nRoberto es un joven bailarín con Síndrome de Down graduado en Arte Dramáticoen ESAEM y miembro del elenco de la Academia Fama. Un bailarín y actor muy expresivo y creativo que entiende muy bien las circunstancias y así las representa. \nRoberto\, sus sentimientos son puros y su único lenguaje es la danza.\nOlympia\, la rebelde y la diseñadora del cambio.\nEllen\, decidida de agarrar el futuro con sus manos. \nEl Corps de Ballet se compone de 5 chicas con educación en Ballet clásico y contemporáneo\, con gran habilidad expresiva y fantástica técnica de todos los estilos de Danza. \n  \nNORMAS DE OBLIGADO CUMPLIMIENTO: \n\nPor cuestiones de seguridad\, no se encuentran disponibles algunos asientos. Una vez haya ocupado su butaca\, por favor\, no cambie de asiento.\nObligatorio el uso correcto de la mascarilla (cubriendo nariz y boca) en todo el recinto.\n\n  \nComparte este evento en:
URL:https://www.mientrada.net/evento/roberto-de-popacademia-fama/
LOCATION:Jardines de la Térmica\, Av. de los Guindos\, 48\, Málaga\, Málaga\, 29004\, España
CATEGORIES:Los jardines de la Térmica,Málaga,Teatro
ATTACH;FMTTYPE=image/jpeg:https://www.mientrada.net/wp-content/uploads/2021/05/destacado-termica-21.jpg
END:VEVENT
END:VCALENDAR