BEGIN:VCALENDAR
VERSION:2.0
PRODID:-//mientrada.net - ECPv5.16.0//NONSGML v1.0//EN
CALSCALE:GREGORIAN
METHOD:PUBLISH
X-WR-CALNAME:mientrada.net
X-ORIGINAL-URL:https://www.mientrada.net
X-WR-CALDESC:Eventos para mientrada.net
REFRESH-INTERVAL;VALUE=DURATION:PT1H
X-Robots-Tag:noindex
X-PUBLISHED-TTL:PT1H
BEGIN:VTIMEZONE
TZID:Europe/Madrid
BEGIN:DAYLIGHT
TZOFFSETFROM:+0100
TZOFFSETTO:+0200
TZNAME:CEST
DTSTART:20220327T010000
END:DAYLIGHT
BEGIN:STANDARD
TZOFFSETFROM:+0200
TZOFFSETTO:+0100
TZNAME:CET
DTSTART:20221030T010000
END:STANDARD
END:VTIMEZONE
BEGIN:VEVENT
DTSTART;TZID=Europe/Madrid:20221210T123000
DTEND;TZID=Europe/Madrid:20221210T135000
DTSTAMP:20260424T233035
CREATED:20221108T102759Z
LAST-MODIFIED:20221205T100354Z
UID:14526-1670675400-1670680200@www.mientrada.net
SUMMARY:Vuelve la Magia por Navidad 3
DESCRIPTION:Nada hace pensar que se retrase el show de magia más esperado. \nIlusionistas: Juan Garrido & Richard Granda. \n  \nPrecio: \n\n13 euros anticipada online.\n15 euros en taquilla.\n\n  \nPuede compartir este evento en:
URL:https://www.mientrada.net/evento/vuelve-la-magia-por-navidad-3-2022-12-03/2022-12-10/2/
LOCATION:Sala Joaquín Eléjar\, Calle San Juan Bosco\, 79\, Málaga\, Málaga\, 29014\, España
CATEGORIES:Magia,Málaga,Sala Joaquín Eléjar
ATTACH;FMTTYPE=image/png:https://www.mientrada.net/wp-content/uploads/2022/11/Cartel_Vuelve-la-magia-por-Navidad-3.png
END:VEVENT
END:VCALENDAR