BEGIN:VCALENDAR
VERSION:2.0
PRODID:-//mientrada.net - ECPv5.16.0//NONSGML v1.0//EN
CALSCALE:GREGORIAN
METHOD:PUBLISH
X-ORIGINAL-URL:https://www.mientrada.net
X-WR-CALDESC:Eventos para mientrada.net
REFRESH-INTERVAL;VALUE=DURATION:PT1H
X-Robots-Tag:noindex
X-PUBLISHED-TTL:PT1H
BEGIN:VTIMEZONE
TZID:Europe/Madrid
BEGIN:DAYLIGHT
TZOFFSETFROM:+0100
TZOFFSETTO:+0200
TZNAME:CEST
DTSTART:20210328T010000
END:DAYLIGHT
BEGIN:STANDARD
TZOFFSETFROM:+0200
TZOFFSETTO:+0100
TZNAME:CET
DTSTART:20211031T010000
END:STANDARD
END:VTIMEZONE
BEGIN:VEVENT
DTSTART;TZID=Europe/Madrid:20210513T190000
DTEND;TZID=Europe/Madrid:20210513T200000
DTSTAMP:20260423T233903
CREATED:20210119T163941Z
LAST-MODIFIED:20210508T110651Z
UID:6879-1620932400-1620936000@www.mientrada.net
SUMMARY:DEQUENVESSENDO
DESCRIPTION:¡ENTRADAS AGOTADAS! \nDequenvessendo es un grupo de música gallega que nace en el 2016 dentro de la Asociación Cultural Triskell de Armentón (Arteixo)\, con la idea de formar un proyecto basado en los cuartetos de música tradicional. En su inicio\, estaba formado por Bieito Romero Diéguez\, Miguel Ocampo Bermúdez y los hermanos Miguel y Pablo Rosales Reboiras. Poco a poco empiezan a introducirse en el folk inspirados en la forma de hacer música de grupos como Luar na Lubre\, Milladoiro\, Silly Wizard o The Tannahil Weavers\, claramente enmarcados en el folk celta atlántico. Durante este tiempo el grupo participó en numerosas foliadas de prestigio como los Cantos de Taberna de Folgoso do Courel o la Foliada de A Fonsagrada. Fueron invitados en el año 2017 a tocar en el acto inaugural de la Exposición del XXX Aniversario de Luar Na Lubre\, también en un concierto-conferencia realizado en la sede central de la Fundación Paideia en A Coruña\, en el II Festival Lágrimas de San Lorenzo\, en Pumarín (Balboa)\, en las Fiestas de Bardaos (San Sadurniño) o en la 34º Edición del Festival da Carballeira de Zas entre otros… El primer concierto que hizo el grupo fuera de Galicia fue en la Noche de San Juan de 2017 en Cubillos del Sil (El Bierzo)\, en esta actuación entienden la necesidad de incorporar más instrumentistas para enriquecer la musicalidad del grupo\, y en la I Romería de Sisalde (Arteixo)\, unos meses más tarde\, se incorpora al grupo el guitarrista Natahel Regueiro. \nEn el año 2018\, en un concierto en los Xardíns de Méndez Núñez (A Coruña)\, el grupo obtiene su formación actual\, con la incorporación de Irene Cerqueiro como vocalista e instrumentista. Durante el tiempo que lleva el grupo en activo tuvieron la ocasión de participar en numerosos conciertos entre los que son a destacar: I Romería de Esgos (Ourense)\, II y III Romería de Pastoriza (Arteixo)\, XXVI Magosto de Balboa (El Bierzo)\, Pub A Cova Céltica (A Coruña)\, Hotel Bela Fisterra (Fisterra)\, I Edición de BioCultura en el recinto de ExpoCoruña (A Coruña)\, y de forma regular en la programación cultural de A Casa das Crechas (Compostela) donde actuaron en repetidas ocasiones con un notable éxito… En la actualidad el grupo está clasificado para participar en el Festival de Ortigueira dentro del Proxecto Runas 2019 junto al grupo de música celta murciano Túa y los japoneses Yuki Kojima Band. \nBIEITO ROMERO DIÉGUEZ (Coruña 1998): Gaita y flauta travesera. Desde que era pequeño tiene una gran vinculación con la música gracias a su padre\, Bieito Romero\, miembro fundador de Luar na Lubre\, con el que empieza a tocar la gaita teniéndolo de profesor. A los 8 años empieza los estudios de guitarra y lenguaje musical en la Escuela Municipal de Música de Arteixo obteniendo el Grado Medio de Música. Más tarde empieza a aprender acordeón diatónico junto a Brais Maceiras y Bieito Romero. Durante todo este tiempo tuvo la ocasión de acompañar numerosas veces a Luar na Lubre y gravar en el disco Ribeira Sacra. Actualmente imparte clases en la Asociación Cultural Triskell\, Armentón. \nIRENE CERQUEIRO ESPINOSA (Coruña 1998): Voz\, flauta travesera y teclado. Empieza sus estudios de flauta en el Conservatorio de A Coruña a los 8 años. Cursa actualmente el último año de Pedagogía Musical en el Conservatorio Superior de A Coruña. En el año 2015 obtiene el Grado 8 en la especialidad de Canto Moderno con titulación RockSchool. Colaboró con otras agrupaciones a lo largo de su carrera musical\, como Luar Na Lubre o la Orquesta de Cámara Galega. Actualmente ejerce como músico y docente en diferentes escuelas. \nPABLO ROSALES REBOIRAS (Coruña 1998): Whistle\, zanfona y gaitas. Empieza a aprender gaita en Elviña\, en la Asociación Cultural Tempo Novo\, pero trasladaría su aprendizaje a la Asociación Cultural Triskell\, en Armentón (Arteixo)\, de la mano de Bieito Romero quien le descubre otros instrumentos\, como los whistles y la zanfona\, que le abrieron la posibilidad de gravar para el grupo ‘A Moura’ y colaborar\, con la gaita\, en varios escenarios junto a Luar Na Lubre. Actualmente imparte clases en Tempo Novo\, Elviña. \nJORGE SALGADO BECEIRO (Cedeira 1994): Guitarras y Bouzouki. Con 6 años empieza a estudiar música en la Escuela Robaleira de Cedeira\, donde inicia su camino en la guitarra y en percusión. Durante unos años fue percusionista (tamboril y pandereta) en la Asociación Cultural Buxainas de Cedeira. Desde que se mudó a Coruña para estudiar Química y\, actualmente\, la tesis doctoral\, fue miembro de varios grupos de la zona (Say My Name\, Proyecto Moucho\, Irene Caruncho). Ahora mismo es también miembro del grupo de folk Airoa\, donde toca la guitarra\, bouzouki\, banjo y bodhran. \nMIGUEL OCAMPO BERMÚDEZ (Coruña 1999): Percusión. Empieza a tocar el bodhran 4 años por la influencia de su tío\, Patxi Bermúdez miembro de Luar na Lubre\, teniéndolo siempre como referente. En 2016 entra como tamborileiro en la Banda de Gaitas de Armentón\, de la Asociación Cultural Triskell. \nMIGUEL ROSALES REBOIRAS (Coruña 1986): Acordeón diatónico y Teclado. Empezó estudiando gaita en la Asociación Cultural Tempo Novo (Elviña)\, pronto se interesa por el acordeón diatónico\, que aprende junto a Brais Maceiras. Posteriormente entra en la Asociación Cultural Triskell\, tocando la gaita\, el acordeón y diversos instrumentos de la percusión tradicional. \n  \n \n  \n  \nNORMAS DE OBLIGADO CUMPLIMIENTO: \n\nPor cuestiones de seguridad\, no se encuentran disponibles algunos asientos. Una vez haya ocupado su butaca\, por favor\, no cambie de asiento.\nObligatorio el uso correcto de la mascarilla (cubriendo nariz y boca) en todo el recinto.\nSi una vez sacada la entrada no puede acudir al espectáculo\, por favor comuníquelo por correo (cultura@malaga.es) o por teléfono (952133950).\nEntrada solo con invitación. No acudir al teatro si no dispone de ella.\n\nSigue los eventos por ‘streaming’ en el canal culturama de youtube: https://www.youtube.com/user/CulturamaMlg \nComparte este evento en:
URL:https://www.mientrada.net/evento/dequenvessendo/
LOCATION:Centro Cultural MVA\, Calle Ollerías\, 33\, Málaga\, Málaga\, 29012\, España
CATEGORIES:Centro Cultural Provincial MVA,Culturama,Málaga,Música
ATTACH;FMTTYPE=image/jpeg:https://www.mientrada.net/wp-content/uploads/2021/01/Cartel-Dequenvessendo.jpg
END:VEVENT
BEGIN:VEVENT
DTSTART;TZID=Europe/Madrid:20210527T200000
DTEND;TZID=Europe/Madrid:20210527T210000
DTSTAMP:20260423T233903
CREATED:20210504T122110Z
LAST-MODIFIED:20210508T110604Z
UID:7645-1622145600-1622149200@www.mientrada.net
SUMMARY:JOSELE SANTIAGO (FORMATO DÚO\, CON DAVID KRAHE)
DESCRIPTION:Reserva de entradas: a partir de las 10:00 h. del 20/05/2021. \nCiclo Entrance-MaF \nLa obra de Josele –por cuenta propia o con Los Enemigos– forma parte de una tradición ya secular. Él la ha estudiado en profundidad\, cultivando en sus exigentes surcos durante más de tres décadas con notable resultado. El caso es que a nuestro hombre el cuerpo le pedía un cambio de registro. La idea de grabar con otras premisas sónicas junto a Raúl Fernández “Refree” rondaba desde tiempo atrás. Así que dicho y hecho. \nEn otoño de 2016\, Josele y Raúl empezaron a registrar “Transilvania” en el estudio que este último tiene en la Ciudad Condal. La jefatura en el puente de mando sigue siendo de las canciones\, pero el uniforme que lucen se antoja muy distinto al habitual. En aquellas sesiones caseras domina el talante lúdico y prospectivo. Hay indagación\, probatura y hallazgos valiosos. Que nadie se asuste. Estamos ante un disco que preserva la esencia del autor\, aunque ofrece una perspectiva diferente sobre su música\, renovada y tonificante. Un disco de rock\, en cualquier caso. \nCésar Luquero \n  \n \n  \n  \nNORMAS DE OBLIGADO CUMPLIMIENTO: \n\nPor cuestiones de seguridad\, no se encuentran disponibles algunos asientos. Una vez haya ocupado su butaca\, por favor\, no cambie de asiento.\nObligatorio el uso correcto de la mascarilla (cubriendo nariz y boca) en todo el recinto.\nSi una vez sacada la entrada no puede acudir al espectáculo\, por favor comuníquelo por correo (cultura@malaga.es) o por teléfono (952133950).\nEntrada solo con invitación. No acudir al teatro si no dispone de ella.\n\n  \nSigue los eventos por ‘streaming’ en el canal culturama de youtube: https://www.youtube.com/user/CulturamaMlg \n  \nComparte este evento en:
URL:https://www.mientrada.net/evento/josele-santiago/
LOCATION:Centro Cultural MVA\, Calle Ollerías\, 33\, Málaga\, Málaga\, 29012\, España
CATEGORIES:Centro Cultural Provincial MVA,Culturama,Málaga,Música
ATTACH;FMTTYPE=image/jpeg:https://www.mientrada.net/wp-content/uploads/2021/05/Cartel-Josele-Santiago.jpg
END:VEVENT
END:VCALENDAR