BEGIN:VCALENDAR
VERSION:2.0
PRODID:-//mientrada.net - ECPv5.16.0//NONSGML v1.0//EN
CALSCALE:GREGORIAN
METHOD:PUBLISH
X-WR-CALNAME:mientrada.net
X-ORIGINAL-URL:https://www.mientrada.net
X-WR-CALDESC:Eventos para mientrada.net
REFRESH-INTERVAL;VALUE=DURATION:PT1H
X-Robots-Tag:noindex
X-PUBLISHED-TTL:PT1H
BEGIN:VTIMEZONE
TZID:Europe/Madrid
BEGIN:DAYLIGHT
TZOFFSETFROM:+0100
TZOFFSETTO:+0200
TZNAME:CEST
DTSTART:20210328T010000
END:DAYLIGHT
BEGIN:STANDARD
TZOFFSETFROM:+0200
TZOFFSETTO:+0100
TZNAME:CET
DTSTART:20211031T010000
END:STANDARD
END:VTIMEZONE
BEGIN:VEVENT
DTSTART;TZID=Europe/Madrid:20211007T200000
DTEND;TZID=Europe/Madrid:20211007T210000
DTSTAMP:20260423T013809
CREATED:20210907T145233Z
LAST-MODIFIED:20211002T164000Z
UID:9707-1633636800-1633640400@www.mientrada.net
SUMMARY:Sonograma
DESCRIPTION:CICLO EnTrance \nEntrada con invitación hasta completar aforo. \nSONOGRAMA publican ‘La noche más oscura’\, su segundo álbum. \nEl cuarteto madrileño vuelve cinco años después de su álbum de debut\, tiempo durante el cual sus miembros han participado en otros proyectos de éxito como Rufus T. Firefly\, Viva Suecia o Ángel Stanich.  Desde su habitual propuesta cuidada y detallista\, Sonograma hacen en ‘La noche más oscura’ un alegato en favor de las emociones reales y las distancias cortas.   Este segundo disco de Sonograma ha sido producido junto a Juanma Latorre (Vetusta Morla)\, grabado y masterizado con Dany Richter en su estudio ‘El lado izquierdo’ y mezclado por Ramiro Nieto (Right Ons). \n“Una de las cosas más difíciles para cualquier artista es encontrar su propia voz y no sólo musicalmente hablando. Buscar lo original por lo original no parece una manera de atajar el camino. Primero porque si no somos capaces de generar emociones en otros humanos nada de esto tiene sentido\, pero también porque por muy extravagante que sea lo que se nos pueda ocurrir\, probablemente alguien lo haya hecho antes o lo esté haciendo en este momento en otra parte del mundo.   Trabajar en la producción de un artista que se encuentra en esa búsqueda es todo un reto: ser acompañante y no protagonista en esa búsqueda de sí mismos. La verdadera gloria acontece cuando ese proceso culmina y tú estás ahí para presenciarlo. Esa fue la sensación de gozo por el descubrimiento compartido que sentí participando en el disco de Sonograma. Sentí que les había acompañado al centro de su jungla para descubrir allí un potosí resplandeciente que siempre había estado ahí esperándoles. Siento por este álbum orgullo y felicidad de haber contribuido al alumbramiento de algo tan excitante y poco frecuente como es redescubrir historias conocidas a través de una nueva manera de contarlas.  No hay prácticamente nada convencional en las canciones de Sonograma: las estructuras y la narrativa en la mayoría de las ocasiones desafían la mecánica del pop instantáneo pero sin generar una distancia emocional con quien las escucha. Los timbres y los arreglos son un intento permanente de colar la sorpresa con aspecto de familiaridad. Las letras no caen en nada parecido a inercias\, frases hechas o retóricas herméticas. La franqueza convive perfectamente con la ironía\, la candidez con la amargura y el costumbrismo con el comentario social. Todo ello unido hacen de la escucha de este disco una inmersión en una historia propia\, fascinante\, en un universo que solo les podría pertenecer a ellos y que podemos explorar a nuestras anchas para encontrar ecos de nosotros mismos. Hoy por hoy\, que una obra artística te arranque de nuestro presente perfecto\, eternamente fugaz y pasajero\, y te sumerja durante un rato en un relato emocionante no solo es insólito\, es ese santo grial que buscamos a cada paso. Por mi parte\, yo pienso emborracharme bebiendo de él todo lo que pueda…”. \nJuanma Latorre (Vetusta Morla). \n  \n \n  \nNORMAS DE OBLIGADO CUMPLIMIENTO: \n\nPor favor\, siga en todo momento las indicaciones higienico-sanitarias dadas por el personal de la sala.\nObligatorio el uso correcto de la mascarilla (cubriendo nariz y boca) en todo el recinto.\nSi una vez sacada la entrada no puede acudir al espectáculo\, por favor comuníquelo por correo (cultura@malaga.es) o por teléfono (952133950).\nEntrada solo con invitación. No acudir al teatro si no dispone de ella.\n\n  \nComparte este evento en:
URL:https://www.mientrada.net/evento/sonograma/
LOCATION:Centro Cultural MVA\, Calle Ollerías\, 33\, Málaga\, Málaga\, 29012\, España
CATEGORIES:Centro Cultural Provincial MVA,Culturama,Málaga,Música
ATTACH;FMTTYPE=image/jpeg:https://www.mientrada.net/wp-content/uploads/2021/09/cartel-sonograma.jpg
END:VEVENT
BEGIN:VEVENT
DTSTART;TZID=Europe/Madrid:20211008T200000
DTEND;TZID=Europe/Madrid:20211008T211000
DTSTAMP:20260423T013809
CREATED:20210907T145233Z
LAST-MODIFIED:20211002T163956Z
UID:9580-1633723200-1633727400@www.mientrada.net
SUMMARY:TRASH¡
DESCRIPTION:ESCENIK \nEntrada con invitación hasta completar aforo. Público adulto \nEn un vertedero postapocalíptico\, donde se encuentra una pequeña charca de agua \, cuatro individuos reaprenden a comunicarse entre sí\, reutilizando los diferentes objetos que encuentran en ese inmenso basurero\, que nos recuerdan a la de una civilización pasada \, la nuestra. Como en el principio de nuestra civilización\, los instrumentos más ancestrales y primarios fueron los de percusión\, de esta misma forma\, nuestros supervivientes utilizarán la percusión para comunicarse\, reciclando con ingenio un nuevo mundo sonoro desconocido y sorprendente\, y donde el humor se convierte en el mejor arma para volver crear lazos como la amistad\, la compasión y quizás\, un mundo mejor. \n  \nFICHA ARTÍSTICA: \n\nProducción: YLLANA & Töthem\nDirección: YLLANA\nAyudante de dirección: Jony Elías\nVestuario y Make Up: Tatiana de Sarabia\nMúsica: TÖTHEM\nDirección musical: Gorka González\nEspacio Sonoro: Nacho Ramírez\nEscenografía: TOOMPAK Luthiers:\nTOOMPAK Elenco: Bruno Alves\, Frank Rodríguez\, Gorka González\, Miguel Ángel Pareja\, Felipe Dueñas\n\nDuración 80 m \n \n  \nNORMAS DE OBLIGADO CUMPLIMIENTO: \n\nPor favor\, siga en todo momento las indicaciones higienico-sanitarias dadas por el personal de la sala.\nObligatorio el uso correcto de la mascarilla (cubriendo nariz y boca) en todo el recinto.\nSi una vez sacada la entrada no puede acudir al espectáculo\, por favor comuníquelo por correo (cultura@malaga.es) o por teléfono (952133950).\nEntrada solo con invitación. No acudir al teatro si no dispone de ella.\n\n  \nComparte este evento en:
URL:https://www.mientrada.net/evento/trash/
LOCATION:Centro Cultural MVA\, Calle Ollerías\, 33\, Málaga\, Málaga\, 29012\, España
CATEGORIES:Centro Cultural Provincial MVA,Culturama,Málaga,Teatro
ATTACH;FMTTYPE=image/jpeg:https://www.mientrada.net/wp-content/uploads/2021/09/CARTEL-TRASH-8OCT.jpg
END:VEVENT
BEGIN:VEVENT
DTSTART;TZID=Europe/Madrid:20211014T200000
DTEND;TZID=Europe/Madrid:20211014T210000
DTSTAMP:20260423T013809
CREATED:20210907T145233Z
LAST-MODIFIED:20211011T072825Z
UID:9696-1634241600-1634245200@www.mientrada.net
SUMMARY:Mikel Azpiroz
DESCRIPTION:CICLO «CON SELLO PROPIO»\nMikel Azpiroz\nJueves 14 de OCTUBRE\nMÚSICA\nMVA \nEntrada con invitación hasta completar aforo. \nMIKEL AZPIROZ presenta ISLAK \n​​Mikel Azpiroz presenta su nuevo álbum Islak (‘Islas/Reflejos’). Siguiendo la estela de sus anteriores discos ¬Gaua y Zuri¬ a piano solo\, edita una colección de nueve composiciones propias que interpreta en un fabuloso piano de cola Steinway&Sons modelo B del año 1978. La música de Azpiroz –tal como la ha descrito el crítico musical Ricardo Aldarondo– pasa por múltiples estaciones\, sin conformar compartimentos estancos\, creando un lenguaje que sintetiza un estilo rico en matices y elegante en melodías\, con notas que nunca son gratuitas: impresionismo\, aromas exóticos de otras tierras\, también vascas\, el blues más esquinado\, ligeras derivas vanguardistas… Son piezas con una significativa carga espiritual que dirigen al oyente a un estado introspectivo y meditativo que aporta calma y armonía\, reivindicando quietud y sosiego frente a frenetismo y ruido. \nMikel Azpiroz (Donostia\, 1971) se inició en el piano a los seis años y sus estudios de música clásica en el conservatorio derivaron pronto hacia el jazz y el blues. Aunque se licenció en ingeniería industrial\, siempre tuvo clara la pasión por la música\, y desarrolla su trayectoria como músico\, compositor y productor tanto en proyectos propios (Elkano Browning Cream) como en colaboraciones (The Waifs\, Duncan Dhu\, Travellin’ Brothers\, Jabier Muguruza\, Elena Setién…). \nMikel Azpiroz: piano\nFernando Neira: contrabajo\nKarlos Arancegui: batería \n  \n \n  \nComparte este evento en:
URL:https://www.mientrada.net/evento/mikel-azpiroz/
LOCATION:Centro Cultural MVA\, Calle Ollerías\, 33\, Málaga\, Málaga\, 29012\, España
CATEGORIES:Centro Cultural Provincial MVA,Culturama,Málaga,Música
ATTACH;FMTTYPE=image/jpeg:https://www.mientrada.net/wp-content/uploads/2021/09/cartel-mikel.jpg
END:VEVENT
BEGIN:VEVENT
DTSTART;TZID=Europe/Madrid:20211015T200000
DTEND;TZID=Europe/Madrid:20211015T211500
DTSTAMP:20260423T013809
CREATED:20210907T145233Z
LAST-MODIFIED:20211011T072726Z
UID:9591-1634328000-1634332500@www.mientrada.net
SUMMARY:LOS HERMANOS MACHADO
DESCRIPTION:ESCENIK\nLOS HERMANOS MACHADO\nTEATRO DEL TEMPLE\nARTES ESCÉNICAS\nViernes 15 de octubre. 20 H.\nMVA \nEntrada con invitación hasta completar aforo. Público adulto \nLos hermanos Machado \nAntonio Machado ya cantaba a las dos Españas antes de sufrirlas. Paradigma de amante del país\, siempre quiso mejorar esta tierra y empujó por ello una República en la que creía. Estuvo con ella desde el minuto uno y la defendió hasta el final frente a quienes la abandonaban en una guerra fratricida.\nAl otro lado de la trinchera su hermano mayor\, Manuel\, aquél que le condujo en sus primeros pasos poéticos y vitales\, aquél a quien siempre pudo recurrir estaba ahora en Burgos\, del lado de los sublevados\, diciendo que no había dos Españas sino una\, grande y acaudillada España.\nPocas familias literarias ejemplifican el desgarro que provoca una guerra civil como la de los Machado. Durante tres años\, los hermanos\, que se sabían en bandos opuestos\, no quisieron criticarse\, pero tampoco se hablaron. Y cuando Manuel quiso encontrarse con Antonio\, el diálogo ya no era posible. Nosotros ponemos el teatro que les permita ese encuentro que no pudieron tener. \nFICHA ARTÍSTICA \nDirección Carlos Martín\nTexto Alfonso Plou\nProducción María López Insausti\nDramaturgia Alfonso Plou\, Carlos Martín y María López Insausti\nAyudante de dirección y Coordinación técnica Alfonso Plou\nComposición Musical Gonzalo Alonso\nViolonchelo en la grabación Elva Trullén\nViolín en la grabación Tereza Polyvka\nViolín y canto en escena Alba Gallego\nEspacio escénico Carlos Martín\nEscenografía (diseño y coordinación) Oscar Sanmartín\nIluminación Tatoño Perales\nVestuario Ana Sanagustín\nConstrucción de decorados Jesús Sancho Cuartero\nFotografía Marcos Cebrián\nVídeo Víctor Izquierdo\nDiseño gráfico Línea Diseño\nEquipo de producción Pilar Mayor y Pilara Pinilla\nTécnicos en gira Javier López Julián y Federico Martín \nREPARTO \nAntonio Machado Carlos Martín\nManuel Machado Félix Martín\nEllas Alba Gallego \nDuración: 90 M. \n \n  \nComparte este evento en:
URL:https://www.mientrada.net/evento/los-hermanos-machado/
LOCATION:Centro Cultural MVA\, Calle Ollerías\, 33\, Málaga\, Málaga\, 29012\, España
CATEGORIES:Centro Cultural Provincial MVA,Culturama,Málaga,Teatro
ATTACH;FMTTYPE=image/jpeg:https://www.mientrada.net/wp-content/uploads/2021/09/CARTEL-LOS-HERMANOS-MACHADO-15-OCT.jpg
END:VEVENT
BEGIN:VEVENT
DTSTART;TZID=Europe/Madrid:20211017T200000
DTEND;TZID=Europe/Madrid:20211017T210000
DTSTAMP:20260423T013809
CREATED:20210907T145233Z
LAST-MODIFIED:20211011T072633Z
UID:9876-1634500800-1634504400@www.mientrada.net
SUMMARY:Gisele Jackson & The Shu Shu’s Trio
DESCRIPTION:MALAKA FEST \nFestival Internacional de Blues y Músicas Afroamericanas \n  \n \n  \nComparte este evento en:
URL:https://www.mientrada.net/evento/gisele-jackson-the-shu-shus-trio/
LOCATION:Centro Cultural MVA\, Calle Ollerías\, 33\, Málaga\, Málaga\, 29012\, España
CATEGORIES:Centro Cultural Provincial MVA,Concierto,Culturama,Málaga,Música
ATTACH;FMTTYPE=image/jpeg:https://www.mientrada.net/wp-content/uploads/2021/09/cartel-modelo-A3-_malaga-scaled.jpg
END:VEVENT
BEGIN:VEVENT
DTSTART;TZID=Europe/Madrid:20211022T200000
DTEND;TZID=Europe/Madrid:20211022T211000
DTSTAMP:20260423T013809
CREATED:20210907T145233Z
LAST-MODIFIED:20211017T095802Z
UID:9586-1634932800-1634937000@www.mientrada.net
SUMMARY:DESMONTANDO MUSICALES. LOS GRANDES FRACASOS DE BROADWAY
DESCRIPTION:ESCENIK \nNuevo teatro musical \nEntrada con invitación hasta completar aforo. Público adulto. \n  \nUn investigador apasionado de los musicales de Broadway descubre un Museo muy particular en el que espera encontrar los mejores recuerdos de sus obras favoritas… pero pronto se dará cuenta de que el lugar esconde sorpresas inesperadas y personajes muy extraños. A lo largo de su visita descubrirá la cara oculta de los grandes «flops» de Broadway: aquellos grandes musicales destinados al éxito pero que\, inesperadamente\, terminaron convirtiéndose en grandes fracasos. \n  \nFICHA ARTÍSTICA: \n\nReparto: Franc de Luna\, Estefanía Moscoso\, Jacaranda Rey\, Álex Franconetti y Nacho Doña (piano)\nIdea original y dirección musical: Nacho Doña\nGuión y dirección escénica: Manolo Supertramp\nAdaptación y arreglos musicales: Nacho Doña\nEscenografía\, vestuario y producción: Nuevo Teatro Musical\n\nDuración 80 m \n \n  \nComparte este evento en:
URL:https://www.mientrada.net/evento/desmontando-musicales/
LOCATION:Centro Cultural MVA\, Calle Ollerías\, 33\, Málaga\, Málaga\, 29012\, España
CATEGORIES:Centro Cultural Provincial MVA,Culturama,Málaga,Música,Teatro
ATTACH;FMTTYPE=image/jpeg:https://www.mientrada.net/wp-content/uploads/2021/09/cartel-desmontando-musicales-22-oct1.jpg
END:VEVENT
BEGIN:VEVENT
DTSTART;TZID=Europe/Madrid:20211029T200000
DTEND;TZID=Europe/Madrid:20211029T205500
DTSTAMP:20260423T013809
CREATED:20210907T145233Z
LAST-MODIFIED:20211021T152230Z
UID:9595-1635537600-1635540900@www.mientrada.net
SUMMARY:NO PLEASURE
DESCRIPTION:CICLO ESCENIK.\nDirección y coreografía: Iker Karrera. \nLa anhedonia es la incapacidad de experimentar placer\, la pérdida de interés y disfrute en todas las actividades que alguna vez te gustaron. La sensación de que ya nada te importa ni te motiva. ¿Qué hacer cuando no sientes nada? Partiendo de esta idea\, el coreógrafo vasco Iker Karrera crea su nueva pieza NO PLEASURE. \nComo ya es habitual en sus trabajos\, el protagonismo reside en su propio lenguaje coreográfico\, basado en la fusión de diferentes géneros de danza\, que apuesta por entretener\, abrir nuevos caminos y conectar con nuevos públicos. \n  \nFICHA ARTÍSTICA: \n\nDirección y coreografía: Iker Karrera\nIntérpretes: Pablo Costas\, Carla Diego\, Belén Leroux\, César Louzán\, Raymond Naval y Yadira Rodríguez\nOjo externo: Fernando Lázaro\nDiseño de iluminación: Alberto D. Centeno A.E.C. y Álvaro Estrada A.A.I\nTécnico de iluminación: Álvaro Estrada\nDiseño de vestuario y estilismo: Laura Cortés\nSastra: Natalia Capillas\nDiseño de atrezzo: Matias Zanotti\nMúsica: Recondite\, Feathered Sun\, Charlotte Adigéry y Travis Lake\nProducción ejecutiva y distribución : Eva Marcelo / La Net A Escena\nFotografía: Alberto D. Centeno A.E.C. y Jacobo Medrano\n\n  \n \n  \nNORMAS DE OBLIGADO CUMPLIMIENTO: \n\nPor favor\, siga en todo momento las indicaciones higienico-sanitarias dadas por el personal de la sala.\nObligatorio el uso correcto de la mascarilla (cubriendo nariz y boca) en todo el recinto.\nSi una vez sacada la entrada no puede acudir al espectáculo\, por favor comuníquelo por correo (cultura@malaga.es) o por teléfono (952133950).\nEntrada solo con invitación. No acudir al teatro si no dispone de ella.\n\n  \nComparte este evento en:
URL:https://www.mientrada.net/evento/no-pleasure/
LOCATION:Centro Cultural MVA\, Calle Ollerías\, 33\, Málaga\, Málaga\, 29012\, España
CATEGORIES:Centro Cultural Provincial MVA,Culturama,Danza,Málaga,Teatro
ATTACH;FMTTYPE=image/jpeg:https://www.mientrada.net/wp-content/uploads/2021/09/CARTEL-NO-PLEASURE-29-OCT.jpg
END:VEVENT
BEGIN:VEVENT
DTSTART;TZID=Europe/Madrid:20211030T123000
DTEND;TZID=Europe/Madrid:20211030T133000
DTSTAMP:20260423T013809
CREATED:20210907T145233Z
LAST-MODIFIED:20211021T122214Z
UID:9723-1635597000-1635600600@www.mientrada.net
SUMMARY:JOPMA - Otoño Miguel Romero Esteo
DESCRIPTION:JOVEN ORQUESTA PROVINCIAL DE MÁLAGA \nSábado 30 de octubre a las 12:30h \nInvitaciones disponibles a partir de las 10:00 horas del lunes 25 de octubre de 2021.\n \n  \n \n  \nNORMAS DE OBLIGADO CUMPLIMIENTO: \n\nPor favor\, siga en todo momento las indicaciones higienico-sanitarias dadas por el personal de la sala.\nObligatorio el uso correcto de la mascarilla (cubriendo nariz y boca) en todo el recinto.\nSi una vez sacada la entrada no puede acudir al espectáculo\, por favor comuníquelo por correo (cultura@malaga.es) o por teléfono (952133950).\nEntrada solo con invitación. No acudir al teatro si no dispone de ella.\n\n  \nComparte este evento en:
URL:https://www.mientrada.net/evento/jopma-otono-miguel-romero-esteo/
LOCATION:Centro Cultural MVA\, Calle Ollerías\, 33\, Málaga\, Málaga\, 29012\, España
CATEGORIES:Centro Cultural Provincial MVA,Culturama,Málaga,Música
ATTACH;FMTTYPE=image/jpeg:https://www.mientrada.net/wp-content/uploads/2021/09/21-10-30-cartel-JOPMA-mva.jpg
END:VEVENT
END:VCALENDAR