BEGIN:VCALENDAR
VERSION:2.0
PRODID:-//mientrada.net - ECPv5.16.0//NONSGML v1.0//EN
CALSCALE:GREGORIAN
METHOD:PUBLISH
X-ORIGINAL-URL:https://www.mientrada.net
X-WR-CALDESC:Eventos para mientrada.net
REFRESH-INTERVAL;VALUE=DURATION:PT1H
X-Robots-Tag:noindex
X-PUBLISHED-TTL:PT1H
BEGIN:VTIMEZONE
TZID:Europe/Madrid
BEGIN:DAYLIGHT
TZOFFSETFROM:+0100
TZOFFSETTO:+0200
TZNAME:CEST
DTSTART:20210328T010000
END:DAYLIGHT
BEGIN:STANDARD
TZOFFSETFROM:+0200
TZOFFSETTO:+0100
TZNAME:CET
DTSTART:20211031T010000
END:STANDARD
END:VTIMEZONE
BEGIN:VEVENT
DTSTART;TZID=Europe/Madrid:20211202T200000
DTEND;TZID=Europe/Madrid:20211202T210000
DTSTAMP:20260422T214650
CREATED:20210907T145233Z
LAST-MODIFIED:20211126T160350Z
UID:9872-1638475200-1638478800@www.mientrada.net
SUMMARY:Dry Martina
DESCRIPTION:Mézclese 1/3 de jazz pop\, otra parte de brandy castizo\, y por último tequila dorado. Un toquecito de swing y unas gotas de américa latina. El toque ácido y deslenguado en las letras. Acompáñelo de oliva andaluza y sírvalo fresquito\, agitado y removido. Así es cóctel de Dry Martina\, compositora\, productora\, cantante y show woman galardonada con dos premios MIN de la música independiente española por sus dos ábumes anteriores\, «Momento Perfecto» y «Ahora». \nPara su tercer larga duración apuesta por bases electrónicas y samples vintage\, revitalizando su particular sonido\, sin dejar de reivindicar el bolero de los 50’s\, la canción melódica de los 60’s\, o los ritmos rumba funk de los 70’s. Como alguien dijo una vez “una voz de hoy para la música de siempre”. En directo\, dry Martina acapara el centro del escenario con su voz insinuante y su irresistible cadencia de baile\, que flanqueada por una escolta musical de lujo\, da forma un espectáculo único\, lleno de energía y buen gusto. \n  \n \n  \nNORMAS DE OBLIGADO CUMPLIMIENTO: \n\nPor favor\, siga en todo momento las indicaciones higienico-sanitarias dadas por el personal de la sala.\nObligatorio el uso correcto de la mascarilla (cubriendo nariz y boca) en todo el recinto.\nSi una vez sacada la entrada no puede acudir al espectáculo\, por favor comuníquelo por correo (cultura@malaga.es) o por teléfono (952133950).\nEntrada solo con invitación. No acudir al teatro si no dispone de ella.\n\n  \nComparte este evento en:
URL:https://www.mientrada.net/evento/dry-martina/
LOCATION:Centro Cultural MVA\, Calle Ollerías\, 33\, Málaga\, Málaga\, 29012\, España
CATEGORIES:Centro Cultural Provincial MVA,Concierto,Culturama,Málaga,Música
ATTACH;FMTTYPE=image/jpeg:https://www.mientrada.net/wp-content/uploads/2021/09/cartel-dry-martina.jpg
END:VEVENT
BEGIN:VEVENT
DTSTART;TZID=Europe/Madrid:20211203T200000
DTEND;TZID=Europe/Madrid:20211203T210000
DTSTAMP:20260422T214650
CREATED:20211201T231410Z
LAST-MODIFIED:20211201T231410Z
UID:10434-1638561600-1638565200@www.mientrada.net
SUMMARY:Premio a la Cultura Malagueña Antonio Garrido Moraga 2021
DESCRIPTION:Entrega del III Premio Antonio Garrido Moraga 2021. \nCon la actuación de The Hula Hula’s. \nEntrada por invitación. \n  \nPuede compartir este evento en:
URL:https://www.mientrada.net/evento/premio-a-la-cultura-malaguena-antonio-garrido-moraga-2021/
LOCATION:Centro Cultural MVA\, Calle Ollerías\, 33\, Málaga\, Málaga\, 29012\, España
CATEGORIES:Centro Cultural Provincial MVA,Culturama,Málaga
ATTACH;FMTTYPE=image/jpeg:https://www.mientrada.net/wp-content/uploads/2021/12/Cartel-Premios-Moraga-2021.jpg
END:VEVENT
BEGIN:VEVENT
DTSTART;TZID=Europe/Madrid:20211204T123000
DTEND;TZID=Europe/Madrid:20211204T133000
DTSTAMP:20260422T214650
CREATED:20210907T145233Z
LAST-MODIFIED:20211126T160556Z
UID:9880-1638621000-1638624600@www.mientrada.net
SUMMARY:Concierto de Navidad de la Orquesta Sinfónica de Málaga
DESCRIPTION:Director: Arturo Díez Boscovich\nSoprano: Lourdes Martín-Leiva\nTenor: Luis María Pacetti \n  \nPROGRAMA \nGuillermo Tell. Obertura. Galopp (G. Rossini)\nLa Viuda Alegre. No 2. Dúo “Lippen Schweigen” (F. Léhar)\nAuf der Jagd Polka. Op. 373 (J. Strauss)\nDein ist mein ganzes Herz. Das land des Lächelns (F. Léhar)\nWien\, du Stadt meiner Träume (R. Siezynski)\nTrish trash polka (J. Strauss)\nAn der Schönen Blauen Donau. Op. 314 (J. Strauss)\nUnter Donner unt Blitz Polka. Op. 324 (J. Strauss)\nHave yourself a Merry little Christmas (Hugh Martin y Ralph Blane)\nSuite de Jazz No 2. Valse (D. Shostakovich)\nMarcha Radetzky Op. 228 (J. Strauss I) \n  \n \n  \nNORMAS DE OBLIGADO CUMPLIMIENTO: \n\nPor favor\, siga en todo momento las indicaciones higienico-sanitarias dadas por el personal de la sala.\nObligatorio el uso correcto de la mascarilla (cubriendo nariz y boca) en todo el recinto.\nSi una vez sacada la entrada no puede acudir al espectáculo\, por favor comuníquelo por correo (cultura@malaga.es) o por teléfono (952133950).\nEntrada solo con invitación. No acudir al teatro si no dispone de ella.\n\n  \nComparte este evento en:
URL:https://www.mientrada.net/evento/concierto-de-navidad-osm-orquesta-sinfonica-de-malaga/
LOCATION:Centro Cultural MVA\, Calle Ollerías\, 33\, Málaga\, Málaga\, 29012\, España
CATEGORIES:Centro Cultural Provincial MVA,Concierto,Culturama,Málaga,Música
ATTACH;FMTTYPE=image/jpeg:https://www.mientrada.net/wp-content/uploads/2021/09/Cartel-OSM-Navidad-2021.jpg
END:VEVENT
BEGIN:VEVENT
DTSTART;TZID=Europe/Madrid:20211208T200000
DTEND;TZID=Europe/Madrid:20211208T210000
DTSTAMP:20260422T214650
CREATED:20210907T145233Z
LAST-MODIFIED:20211206T094636Z
UID:9712-1638993600-1638997200@www.mientrada.net
SUMMARY:Floridablanca
DESCRIPTION:Nota informativa: para las personas que reservaron entradas para la fecha inicial del concierto del 28/10/2021\, sus entradas solo son válidas si han enviado un correo de confirmación antes de las 14:00 h. del 1 de diciembre. Si no ha enviado dicho correo sus entradas han sido liberadas y necesitará sacar nuevas entradas. \n  \nCiclo EnTrance. \nNueva fecha: miércoles 8 de diciembre a las 20:00 h. \nFloridablanca sigue desvelando nuevos temas. ‘Mierda de temas’ se suma a los ya celebrados ‘DARK PUNK’\, ‘Madrid me mata’\, ‘Bomba de humo’\, ’Quieres Más (Mucho +)\, ‘te he bloqueado’\, ‘El Desencanto’ y ‘nuncatevayasnunca’\, engrosando sus nuevas formas de interpretar los sonidos de la noche. \nEl siguiente paso de Floridablanca descubre su versión más nocturna: las luces bajas\, los haces de color\, el tintineo de vasos con el hielo\, las pisadas sobre la pista\, el movimiento\, el calor; canciones que además de escucharse se tocan\, se sienten; y nos trasladan a esa madrugada en que todo fue perfecto. \nFloridablanca es un aire fresco y renovador de la música española. Definidos como parte de la banda sonora para un perfecto fin de semana\, sus canciones son himnos de synth-pop con influencias de la música disco y el funk de varias épocas. Ya con su primer disco convirtieron esa mirada nostálgica a la mentalidad y estética de los 80 en algo actual y en plena forma. Su hit single\, ‘Sólo de madrugada’\, permaneció un mes en el Top Viral de Spotify. \n  \n \n  \nNORMAS DE OBLIGADO CUMPLIMIENTO: \n\nPor favor\, siga en todo momento las indicaciones higienico-sanitarias dadas por el personal de la sala.\nObligatorio el uso correcto de la mascarilla (cubriendo nariz y boca) en todo el recinto.\nSi una vez sacada la entrada no puede acudir al espectáculo\, por favor comuníquelo por correo (cultura@malaga.es) o por teléfono (952133950).\nEntrada solo con invitación. No acudir al teatro si no dispone de ella.\n\n  \nComparte este evento en:
URL:https://www.mientrada.net/evento/floridablanca/
LOCATION:Centro Cultural MVA\, Calle Ollerías\, 33\, Málaga\, Málaga\, 29012\, España
CATEGORIES:Centro Cultural Provincial MVA,Culturama,Málaga,Música
ATTACH;FMTTYPE=image/jpeg:https://www.mientrada.net/wp-content/uploads/2021/09/cartel-florida.jpg
END:VEVENT
BEGIN:VEVENT
DTSTART;TZID=Europe/Madrid:20211210T200000
DTEND;TZID=Europe/Madrid:20211210T210000
DTSTAMP:20260422T214650
CREATED:20210907T145233Z
LAST-MODIFIED:20211205T215317Z
UID:9603-1639166400-1639170000@www.mientrada.net
SUMMARY:ARGHF!!! LA PAYASA SASA
DESCRIPTION:ESCENIK \nEugenia Manzanera \nEntrada con invitación. Público adulto. \nGRAMMELOT es un término de origen francés\, acuñado por los cómicos del arte a finales del siglo XVI\, significa “juego onomatopéyico de un discurso capaz de transmitir con ayuda de gestos\, ritmos y sonoridades particulares un discurso completo”. \nEn ARGHF !!! EUGENIA MANZANERA la Paya-Sasa no habla ningún idioma conocido en este planeta pero los utiliza todos\, utiliza sus sonidos \, cadencias\, sensualidades y tonalidades para crear una pieza poética-grotesca-delirante y alocada. \nEs un canto a la vida\, al sexo\, al amor\, a la muerte\, al desamor\, a la pasión\, al vértigo\, al terror\, al suicidio y la emoción…\, y sobre todo\, un rugido de buen humor. Por que… ¿qué sería de nosotros si no fuésemos un poco payasos\, un poco idiotas? \nFICHA ARTÍSTICA \nDirección y dramaturgia Eugenia Manzanera y Gloria Sanvicente\nInterpretación Eugenia Manzanera\nMúsica Original Anatol Rivero\nEscenografía Ignacio Sánchez\nDiseño Luces Raúl Baena \nDURACIÓN 60 M. \n  \n \n  \nComparte este evento en:
URL:https://www.mientrada.net/evento/arghf-la-payasa-sasa/
LOCATION:Centro Cultural MVA\, Calle Ollerías\, 33\, Málaga\, Málaga\, 29012\, España
CATEGORIES:Centro Cultural Provincial MVA,Culturama,Málaga,Música,Teatro
ATTACH;FMTTYPE=image/jpeg:https://www.mientrada.net/wp-content/uploads/2021/09/cartel-TEATRO-la-payasa-sasa.jpg
END:VEVENT
BEGIN:VEVENT
DTSTART;TZID=Europe/Madrid:20211211T200000
DTEND;TZID=Europe/Madrid:20211211T210000
DTSTAMP:20260422T214650
CREATED:20210907T145233Z
LAST-MODIFIED:20211205T215311Z
UID:9727-1639252800-1639256400@www.mientrada.net
SUMMARY:Piazzolla con Voz
DESCRIPTION:Día Internacional del Tango: ‘Piazzolla con Voz’ \nEntrada con invitación hasta completar aforo. \nBalada para un loco\, Los pájaros perdidos\, Vuelvo al Sur\, Chiquilín de Bachín\, Adiós Nonnino\, o Balada para mi muerte\, son algunos de los temas compuestos por Astor Piazzolla a los cuales autores como Horacio Ferrer\, Eladia Blázquez o Fernando Pino Solanas\, le han puesto letra. La idea de reunir a Norberto Rizzo (idea\, voz y dirección) y Fran Romguer (piano y arreglos)\, surge con el fin de crear un espectáculo íntimo donde poner en valor el trabajo de estos grandes autores que aportaron su talento para enriquecer\, aún más si cabe\, la calidad de estas canciones emblemáticas de la obra musical mundialmente conocida de Astor Piazzolla. \nNorberto Rizzo – Voz \nFran Romguer – Piano \n  \n \n  \nComparte este evento en:
URL:https://www.mientrada.net/evento/piazzolla-con-voz/
LOCATION:Centro Cultural MVA\, Calle Ollerías\, 33\, Málaga\, Málaga\, 29012\, España
CATEGORIES:Centro Cultural Provincial MVA,Culturama,Málaga,Música
ATTACH;FMTTYPE=image/jpeg:https://www.mientrada.net/wp-content/uploads/2021/09/cartel-piazzolla.jpg
END:VEVENT
BEGIN:VEVENT
DTSTART;TZID=Europe/Madrid:20211217T190000
DTEND;TZID=Europe/Madrid:20211217T200000
DTSTAMP:20260422T214650
CREATED:20210907T145233Z
LAST-MODIFIED:20211212T221644Z
UID:9615-1639767600-1639771200@www.mientrada.net
SUMMARY:HANSEL Y GRETEL
DESCRIPTION:Acuario teatro. \nEntrada con invitación hasta completar aforo. A partir de 5 años. \n  \nUn leñador y su mujer deciden abandonar a sus dos hijos\, pues no tienen trabajo ni nada que darles de comer. El padre los lleva al bosque\, pero Hansel\, que ha oído la conversación\, es precavido y arroja migajas de pan por el camino para poder volver. Sin embargo los pájaros se han comido las migajas. Se encuentran perdidos en el bosque y de pronto\, para su sorpresa\, descubren una casita hecha de tejas de nata\, paredes de chocolate y cristales de caramelo. Una extraña mujer los invita a pasar y ellos se sienten felices\, pero se trata de una malvada bruja que los encierra y alimenta sin parar con el único fin de comérselos. Hansel y Gretel tendrán que utilizar su ingenio para poder escapar. \nFICHA ARTÍSTICA \nActores: Cynthia García\, Arantxa Catalá\, Gari Lariz\, Manuel Villén\nTécnico de luz y sonido: Daniel Ruiz\nEscenografía: Acuario Teatro y Julián Camós\nAtrezo y vestuario: Álvaro J. Vílchez\, Pedro Vez y Acuario Teatro\nMúsica original: Patricia Quiroga y Antonio Meliveo\nArreglos: Manolo Toro y Antonio Meliveo\nLetras: Marta Guzmán\nEstudio de grabación: Línea Azul\nIngeniero de sonido: Antonio Meliveo\nCoreografías: Acuario Teatro\nDiseño de iluminación y efectos especiales: Equipo La Bujía\nFotografía: Rocío Berrobianco\nVídeo: Tecnomediatv\nAdaptación y Dirección: Marta y Diego Guzmán\nProducción: Acuario TeatroGepeto Prod \nDURACIÓN 60 m \n \n  \nComparte este evento en:
URL:https://www.mientrada.net/evento/hansel-y-gretel/
LOCATION:Centro Cultural MVA\, Calle Ollerías\, 33\, Málaga\, Málaga\, 29012\, España
CATEGORIES:Centro Cultural Provincial MVA,Culturama,Danza,Familiar,Málaga,Teatro
ATTACH;FMTTYPE=image/jpeg:https://www.mientrada.net/wp-content/uploads/2021/09/CARTEL-HANSEL-Y-GRETEL-17-DIC.jpg
END:VEVENT
BEGIN:VEVENT
DTSTART;TZID=Europe/Madrid:20211218T123000
DTEND;TZID=Europe/Madrid:20211218T132500
DTSTAMP:20260422T214650
CREATED:20210907T145233Z
LAST-MODIFIED:20211212T221510Z
UID:9619-1639830600-1639833900@www.mientrada.net
SUMMARY:MUSEUM
DESCRIPTION:La líquida teatro. \nEntrada con invitación hasta completar aforo. A partir de 6 años. \n  \nUn espectáculo divertido y didáctico para niños y niñas. Un maravilloso viaje que recorre la historia del arte de la mano de los grandes maestros: Picasso\, Van Gogh\, Velázquez\, Miguel Ángel\, Da Vinci… y las grandes maestras\, por supuesto: Tamara de Lempika\, Sofonisba Anguissola\, Frida Kahlo… \nTeatro de actores\, objetos\, títeres y proyecciones manipuladas en directo. \nEl arte universal es la excusa perfecta para estimular la comunicación\, la creatividad\, la percepción\, la sensibilidad y la expresión. ¡Y todo con una sonrisa! \nUna experiencia teatral que apuesta por la cercanía\, la interacción y el humor para contar esta sorprendente y original visita al “Museum”\, y así pequeños y mayores disfruten\, aprendan y se emocionen con el arte y el teatro. \nFicha artística: \nEn escena: Susana Almahano y Pape Labraca\nAutor y Dirección: David García-Intriago.\nVestuario: Maribel Fernández y Mari Carmen Martín.\nProducción y distribución: La Líquida. \nDuración 55 m. \n  \n \n  \nComparte este evento en:
URL:https://www.mientrada.net/evento/museum/
LOCATION:Centro Cultural MVA\, Calle Ollerías\, 33\, Málaga\, Málaga\, 29012\, España
CATEGORIES:Centro Cultural Provincial MVA,Culturama,Danza,Familiar,Málaga,Teatro
ATTACH;FMTTYPE=image/jpeg:https://www.mientrada.net/wp-content/uploads/2021/09/CARTEL-MUSEUM-18-DIC.jpg
END:VEVENT
BEGIN:VEVENT
DTSTART;TZID=Europe/Madrid:20211221T190000
DTEND;TZID=Europe/Madrid:20211221T195000
DTSTAMP:20260422T214650
CREATED:20210907T145233Z
LAST-MODIFIED:20211216T181058Z
UID:9623-1640113200-1640116200@www.mientrada.net
SUMMARY:LAS COTTON
DESCRIPTION:Disponible a partir del viernes 17 de diciembre a las 10:00h \nCICLO ESCENIK\nAnita Maravillas & Portal 21 \nEntrada con invitación hasta completar aforo. A partir de 5 años. \nDejando atrás los peligros de su pueblo natal\, la familia Cotton se dirige a la ciudad en busca de nuevas vidas y oportunidades. Entre los tejados y las luces de la ciudad\, entre las telas\, los hilos y las máquinas de la fábrica\, la madre y sus dos hijas vivirán nuevas aventuras y peligros desconocidos. Pero esta vez no están solas y se lanzarán con fuerza al deseo de ser felices. \n  \nFicha artística: \n\nIdea Original: Miren Larrea\nDirección: Iván Alonso\nIntérpretes: Miren Larrea/ Valentina Raposo/ Maren Basterretxea\nMúsica Original y Versiones: Fran Lasuen\nLetra Canciones: Miren Amuriza\nDiseño de Iluminación: Ion Chávez\nEscenografía: Iñaki Ziarrusta (Atx Teatroa)\nDiseño de Vestuario: Betitxe Saltua\nConstrucción de Títeres: Valentina Raposo\nAtrezzo: Jabi Tirado\nRegistro Audiovisual: Itxaso Díaz\nCartel/Programa de Mano: Maite Gurrutxaga\nFotógrafo: Txelu Angoitia\nProducción Ejecutiva: Ainhoa Bernaola\nProducción: Iratxe Extremiana\n\n  \nDuración: 50 m. \n  \n \n  \nComparte este evento en:
URL:https://www.mientrada.net/evento/las-cotton/
LOCATION:Centro Cultural MVA\, Calle Ollerías\, 33\, Málaga\, Málaga\, 29012\, España
CATEGORIES:Centro Cultural Provincial MVA,Culturama,Danza,Familiar,Málaga,Teatro
ATTACH;FMTTYPE=image/jpeg:https://www.mientrada.net/wp-content/uploads/2021/09/CARTEL-LAS-COTTON-21DIC.jpg
END:VEVENT
BEGIN:VEVENT
DTSTART;TZID=Europe/Madrid:20211222T190000
DTEND;TZID=Europe/Madrid:20211222T195500
DTSTAMP:20260422T214650
CREATED:20210907T145233Z
LAST-MODIFIED:20211222T151642Z
UID:9627-1640199600-1640202900@www.mientrada.net
SUMMARY:ALICIA
DESCRIPTION:CANCELADO: lamentamos comunicar que el evento de hoy se ha cancelado por causas ajenas a la organización. \n  \nCICLO ESCENIK\nLamaraña teatro \nEntrada con invitación hasta completar aforo. A partir de 5 años. \nAlicia es una niña que no entiende porqué las cosas tienen que ser como los mayores dicen\, una niña inquieta\, con muchas dudas por resolver…\nPersiguiendo a un conejo se adentrara en un mundo de fantasía. Un viaje lleno de aventuras con divertidos e insólitos personajes con los que canta\, baila e imagina…\nUn mundo mágico entre realidad y sueño\, donde reivindicar su infancia sin prisas. \n  \nFICHA ARTÍSTICA: \n\nDIRECCCIÓN Y DRAMATURGIA: SARIO TÉLLEZ\nTEXTO: ANTONIO RAPOSO\nARREGLOS MUSICALES: LUIS NAVARRO\nESCENOGRAFIA: LUIS MÉRIDA Y SARIO TÉLLEZ\nACTORES : JUAN LUIS CORRIENTES \, AURORA CASADO \, MARIA MARTINEZ DE TEJADA \, REBECA TORRES Y SARIO TELLEZ\nDISEÑO DE ILUMINACIÓN: NACHO ALMARCHA\nFOTOGRAFÍA : ANTONIO FALCÓN Y SALVADOR GIL\nVESTUARIO: CARMEN DE GILES\nTÉCNICO DE LUCES Y SONIDO: RAUL MARTÍN\nDISEÑO GRÁFICO: SALVADOR GIL\n\n  \nDuración 55 m. \n  \n \n  \nComparte este evento en:
URL:https://www.mientrada.net/evento/alicia/
LOCATION:Centro Cultural MVA\, Calle Ollerías\, 33\, Málaga\, Málaga\, 29012\, España
CATEGORIES:Centro Cultural Provincial MVA,Culturama,Danza,Familiar,Málaga,Teatro
ATTACH;FMTTYPE=image/jpeg:https://www.mientrada.net/wp-content/uploads/2021/09/cartel-alicia-22-dic.jpg
END:VEVENT
END:VCALENDAR