BEGIN:VCALENDAR
VERSION:2.0
PRODID:-//mientrada.net - ECPv5.16.0//NONSGML v1.0//EN
CALSCALE:GREGORIAN
METHOD:PUBLISH
X-ORIGINAL-URL:https://www.mientrada.net
X-WR-CALDESC:Eventos para mientrada.net
REFRESH-INTERVAL;VALUE=DURATION:PT1H
X-Robots-Tag:noindex
X-PUBLISHED-TTL:PT1H
BEGIN:VTIMEZONE
TZID:Europe/Madrid
BEGIN:DAYLIGHT
TZOFFSETFROM:+0100
TZOFFSETTO:+0200
TZNAME:CEST
DTSTART:20220327T010000
END:DAYLIGHT
BEGIN:STANDARD
TZOFFSETFROM:+0200
TZOFFSETTO:+0100
TZNAME:CET
DTSTART:20221030T010000
END:STANDARD
END:VTIMEZONE
BEGIN:VEVENT
DTSTART;TZID=Europe/Madrid:20220203T203000
DTEND;TZID=Europe/Madrid:20220203T213000
DTSTAMP:20260422T123602
CREATED:20210907T145233Z
LAST-MODIFIED:20220129T194555Z
UID:10738-1643920200-1643923800@www.mientrada.net
SUMMARY:Ailá
DESCRIPTION:Disponible a partir del 31 de ENERO a las 10:00h \nAilá \nMúsica. Ciclo «Con Sello propio»\n \nInformación específica de la actividad Ailá es una propuesta inspirada en la música tradicional de transmisión oral con el objetivo de hacer bailar y de sentir esa energía universal hecha “de raíces y de alas”\, pero también es una propuesta semántica\, un neologismo para nombrar la esencia emocional de nuestro pueblo presente en “los ecos de la memoria de quienes nos precedieron”. \nAilá nos sumerge en el universo Folk\, o ‘TRADI’ como prefieren denominarlo ellos\, con unos impecables arreglos desde las recogidas históricas del saber musical popular. Esto unido a la peculiar formación compuesta por cuatro músicos\, le dan un carácter único aportando una nueva sonoridad a su repertorio tradicional. Una nueva propuesta que viene del Folk para convertirse en ‘TRADI’. \nAdemás\, Ailá pretende con esta nueva propuesta artística hacer llegar su música de raíz a las generaciones más jóvenes\, con un lenguaje y sonidos más cercanos sin perder la esencia\, aportando una visión más amplia del universo musical en el panorama actual. \nAilá se fragua en las mágicas noches de foliada en ‘A Casa das Crechas’\, la cual\, al bajar el telón\, siempre daba cobijo a algunas y algunos de los protagonistas para seguir haciendo música. \nEstas pequeñas sesiones musicales se nutrían de un repertorio inspirado en archivos sonoros\, cancioneros populares y grabaciones musicales antiguas que entre todas y todos los presentes le daban forma e insuflaban vida. \nCon el tiempo\, y a partir de estos acordes de creación colectiva\, se conforma una banda con el veterano acordeonista y bombeiro Xan Pampín\, con una dilatada experiencia musical en grupos como Radio Cos o Banda das Crechas\, y que lleva el papel de investigador y arreglista del repertorio del grupo. \nLas voces y percusiones están a cargo de Manuele Pardo\, un músico y gaitero con gran experiencia musical en grupos como Os da Porfía\, Enxebres de San Lázaro\, A requinta de Xián\, AC a Mámou de Luou; y Ángela Carou\, una joven artista de Rianxo que tiene una formación amplia en la AC Brincadeira\, AC Fogo Fátuo y el Grupo vocal Fonetix. \nPor último\, a la trompeta y fliscorno\, Abel Gañete\, que viene de otra de las grandes tradiciones de nuestra tierra\, las bandas de música\, y como músico se ha formado en la Banda de Música Cultural de Teo\, Big Band de Marcos Pin e Pablo Castaño\, Charanga TNT. \nA través de Ailá\, nos traen al escenario un repertorio de piezas que rinde homenaje al legado de nuestra madres y abuelas\, a las agrupaciones folclóricas\, a los compiladores que recuperaron parte de nuestra historia y también estará presente el trabajo de artesanos\, de costureras\, de pintores\, y las gentes que forman parte de ese ecosistema vivo que aquí le llamamos tradición. \nFormación: \nÁNGELA CAROU – Voz y percusión\nMANUELE PARDO – Voz\, percusión y gaita\nABEL GAÑETE – Fliscorno y trompeta\nXAN PAMPÍN – Acordeón y bombo \n \n  \nComparte este evento en:
URL:https://www.mientrada.net/evento/aila/
LOCATION:Centro Cultural MVA\, Calle Ollerías\, 33\, Málaga\, Málaga\, 29012\, España
CATEGORIES:Centro Cultural Provincial MVA,Culturama,Málaga,Música
ATTACH;FMTTYPE=image/jpeg:https://www.mientrada.net/wp-content/uploads/2021/09/20220203_Aila_ConSelloPropio_cartel.jpg
END:VEVENT
BEGIN:VEVENT
DTSTART;TZID=Europe/Madrid:20220204T203000
DTEND;TZID=Europe/Madrid:20220204T213000
DTSTAMP:20260422T123602
CREATED:20220121T143253Z
LAST-MODIFIED:20220129T194553Z
UID:10809-1644006600-1644010200@www.mientrada.net
SUMMARY:Moonlight Serenade
DESCRIPTION:Disponible a partir del lunes 31 de enero a las 10:00h. \n  \nESCENIK\nMOONLIGHT SERENADE\nDivinas \nUn cabaret lunático y existencialista.\nUn cabaret divertido y absurdo\nUn cabaret único y reivindicativo.\nUn cabaret poético y mágico.\nUn cabaret que en estos tiempos que corren\, reclama calma y contemplación.\nUn cabaret surrealista\, porque en la Luna todo es al revés de como funciona aquí.\nUn cabaret donde las tres Divinas regresan a los escenarios y hacen lo que más les gusta: cantar\, bailar\, emocionar y divertir a la audiencia.\nVosotros ponéis la noche. Divinas ponen las estrellas y una serenata a la luz de la Luna para dar gracias y seguir disfrutando y reivindicando\nFICHA ARTÍSTICA\nDIVINAS – voces\, percusión\, claqué\, ondes\, ukelele\,…\nSoprano – Carla Móra\nMezzosoprano – Irene Ruiz\nContralto – Marta Móra \nClarinete\, saxo\, washboard\, ukelele\, ondes – Juli Aymí\nPiano\, teclados\, glockenspiel – Federico Mazzanti\nIdea original – Divinas & Martí Torras Mayneris\nProducción ejecutiva – Divinas \nDramaturgia & dirección escénica – Martí Torras Mayneris\nDirección y producción musical\, arreglos vocales & efectos sonoros – Irene Ruiz\nArreglos instrumentales – Federico Mazzanti\, Juli Aymí\, Gabriel Amargant\, Bernat Font\, Ivan Kovacevic\, Irene Ruiz\nCoach percusión – Lluís Molas\nBatería en “Fly me to the moon” – Martí Elías\nCreación & dirección coreográfica – Carla Móra\nCoreografía claqué – Marta Móra\nAsesoría de imagen\, diseño de vestuario\, maquillaje & peluquería – Glòria Duran\nProducción de vestuario – Glòria Duran\, Divinas & Pili Domínguez\nDiseño de escenografía – Martí Torras Mayneris\nConstrucción de escenografía – La Forja Del Vallès\, Enric Ruiz\, Toni Castro\nDiseño de sonido – Pere Albiñana (Sclat!)\nDiseño de iluminación – Martí Torras Mayneris & Toni Castro\nFotografía luna – Manuel Tejado\nFotografía cartel – David Ruano\nFotografías directo – Tania Palomeque\nVídeo – Mar Orfila\nDistribución – Alba Espinasa \nDuración 75 min \n \n  \nNORMAS DE OBLIGADO CUMPLIMIENTO: \n\nPor favor\, siga en todo momento las indicaciones higienico-sanitarias dadas por el personal de la sala.\nObligatorio el uso correcto de la mascarilla (cubriendo nariz y boca) en todo el recinto.\nSi una vez sacada la entrada no puede acudir al espectáculo\, por favor comuníquelo por correo (cultura@malaga.es) o por teléfono (952133950).\nEntrada solo con invitación. No acudir al teatro si no dispone de ella.\n\n  \nPuede compartir este evento en:
URL:https://www.mientrada.net/evento/moonlight-serenade/
LOCATION:Centro Cultural MVA\, Calle Ollerías\, 33\, Málaga\, Málaga\, 29012\, España
CATEGORIES:Centro Cultural Provincial MVA,Culturama,Málaga,Teatro
ATTACH;FMTTYPE=image/jpeg:https://www.mientrada.net/wp-content/uploads/2022/01/Cartel-Moonlight-Serenade.jpg
END:VEVENT
BEGIN:VEVENT
DTSTART;TZID=Europe/Madrid:20220211T203000
DTEND;TZID=Europe/Madrid:20220211T214000
DTSTAMP:20260422T123602
CREATED:20220121T143253Z
LAST-MODIFIED:20220207T112158Z
UID:10822-1644611400-1644615600@www.mientrada.net
SUMMARY:Serrana
DESCRIPTION:Disponible a partir del lunes 7 de febrero a las 10:00h. \nESCENIK\nCompañía Albadulake. \nSERRANA es un espectáculo abierto y transversal que profundiza en el Romance de la Serrana de la Vera tanto a nivel antropológico como existencial. La dramaturgia sostenida por tres personajes transcurre  paralela al Romance del siglo XV\, romance que nos cuenta el propio pueblo en formato video. La historia bien podría tratarse de una Serrana del siglo XXI. \nSin texto\, basado en un trabajo coreográfico y de teatro físico\, el espectáculo transita por la identidad cultural de un pueblo\, por su memoria y por su creación colectiva del mito\, con un punto de partida fundamental\, la reflexión de Caro Baroja ” Un pueblo difícilmente olvida a sus dioses”. El espectáculo comienza con el equilibrio natural del medio\, relacionando cada personaje a un elemento de la naturaleza\, aire\, agua\, tierra y se adentra y profundiza en la trasformación que el ser humano padece a través de las relaciones de poder\, abuso y conformidad. \nUn espectáculo con sabor a TIERRA\nUn espectáculo teñido de ROJO CEREZA. \n  \nFICHA ARTÍSTICA: \n\nDramaturgia y Dirección: Ángeles Vázquez Ortega\nCodirección: Juan Antonio Moreno Fernández\nMúsica: Milo ke Mandarini\nVideo proyecciones: Victor Vaquero González de Quevedo\nVideo documental: Israel J. Espino\nArtistas: Clara Ferrao Diz\, Alvaro Murillo\, Stefano Fabris\nLuces: Juan Antonio Moreno\nDirección coreográfica: Ángeles Vázquez\nEscenografía: Juan Antonio Moreno\nDiseño de vestuario: Ángeles Vázquez\nFotografía: Jorge Armestar\nTrainning actoral: Charo Feria\nProducción : Entrearte Al-Badulaque S.L.\nCo-producción: Consejería de Cultura\, Turismo y Deportes\, Junta de Extremadura\nDistribución: Asunción Blanco\n\nDURACIÓN: 70 M. \n  \n \n  \nNORMAS DE OBLIGADO CUMPLIMIENTO: \n\nPor favor\, siga en todo momento las indicaciones higienico-sanitarias dadas por el personal de la sala.\nObligatorio el uso correcto de la mascarilla (cubriendo nariz y boca) en todo el recinto.\nSi una vez sacada la entrada no puede acudir al espectáculo\, por favor comuníquelo por correo (cultura@malaga.es) o por teléfono (952133950).\nEntrada solo con invitación. No acudir al teatro si no dispone de ella.\n\n  \nPuede compartir este evento en:
URL:https://www.mientrada.net/evento/serrana/
LOCATION:Centro Cultural MVA\, Calle Ollerías\, 33\, Málaga\, Málaga\, 29012\, España
CATEGORIES:Centro Cultural Provincial MVA,Culturama,Málaga,Teatro
ATTACH;FMTTYPE=image/jpeg:https://www.mientrada.net/wp-content/uploads/2022/01/Cartel-Serrana.jpg
END:VEVENT
BEGIN:VEVENT
DTSTART;TZID=Europe/Madrid:20220217T203000
DTEND;TZID=Europe/Madrid:20220217T213000
DTSTAMP:20260422T123602
CREATED:20210907T145233Z
LAST-MODIFIED:20220212T194845Z
UID:10742-1645129800-1645133400@www.mientrada.net
SUMMARY:Borja Mompó 
DESCRIPTION:Disponible a partir del 14 de FEBRERO a las 10:00h \nCiclo Con Sello propio.\n \nBorja Mompó publica su primer trabajo como artista en solitario. Una pequeña escapada artística al margen de su banda Modelo de respuesta polar. \nEn esta primera referencia\, ha querido rodearse para esta aventura de profesionales como Charlie Bautista (Jero Romero\, Xoel López) y Dany Richter (Russian Red\, Christina Rosenvinge) para dar forma a un pequeño capricho musical que respira otras sonoridades más cercanas al folk o a la canción de autor. \nTras sus dos singles de adelanto\, ‘Tratar de ser nadie’ y ‘Mi alimento’\, el trabajo íntegro de este artista valenciano vio la luz el pasado marzo. Un trabajo grabado íntegramente a base de guitarras acústicas\, pianos y clarinetes. Una especie de aire antes de la tormenta o\, simplemente\, una escucha para disfrutar sin pensar mucho más allá. \n  \n \n  \nNORMAS DE OBLIGADO CUMPLIMIENTO: \n\nPor favor\, siga en todo momento las indicaciones higienico-sanitarias dadas por el personal de la sala.\nObligatorio el uso correcto de la mascarilla (cubriendo nariz y boca) en todo el recinto.\nSi una vez sacada la entrada no puede acudir al espectáculo\, por favor comuníquelo por correo (cultura@malaga.es) o por teléfono (952133950).\nEntrada solo con invitación. No acudir al teatro si no dispone de ella.\n\n  \nPuede compartir este evento en:
URL:https://www.mientrada.net/evento/borja-mompo%e2%80%a8/
LOCATION:Centro Cultural MVA\, Calle Ollerías\, 33\, Málaga\, Málaga\, 29012\, España
CATEGORIES:Centro Cultural Provincial MVA,Culturama,Málaga,Música
ATTACH;FMTTYPE=image/jpeg:https://www.mientrada.net/wp-content/uploads/2021/09/20220217_BorjaMompo_ConSelloPropio_cartel.jpg
END:VEVENT
BEGIN:VEVENT
DTSTART;TZID=Europe/Madrid:20220219T203000
DTEND;TZID=Europe/Madrid:20220219T223000
DTSTAMP:20260422T123602
CREATED:20220121T143253Z
LAST-MODIFIED:20220218T090650Z
UID:10825-1645302600-1645309800@www.mientrada.net
SUMMARY:El diario de K
DESCRIPTION:Disponible a partir del lunes 14 de febrero a las 10:00h. \nCÍA. TPT. \nAsociación Teatro Para Todos (T.P.T.) \, es un equipo multidisciplinario que trabaja con el teatro como herramienta educativa capaz de hacer visible problemáticas sociales. La metodología utilizada permite dar la oportunidad al público que asiste de que ellos mismos comiencen a crear una mente crítica\, respecto a la temática presentada\, lo que sienta las bases de una sociedad con capacidad crítica. \nT.P.T. está formado por profesionales de la Educación Social\, el Trabajo Social y las Artes Escénicas. Lleva a cabo diferentes acciones dirigidas a todo tipo de grupos sociales: Teatro Social\, formación en Teatro de las Personas Oprimidas\, dinamización comunitaria\, mediación y facilitación de procesos grupales\, dirección y producción de obras de Teatro Social\, Teatro Foro y Teatro Encuentro\, etc. Tratando temas como: La Violencia de género\, la Desigualdad Social\, las Relaciones Sociales\, la Discriminación\, entre otras. Asociación Teatro Para Todos cree fielmente en la transformación social y personal a través del teatro. \nEL DIARIO DE K relata la historia de una victima de Bullying en todas sus vertientes (ciberbullying\, acoso\, aislamiento social\, violencia física y verbal\, etc). Muestra como esta situación puede afectar a todo su entorno\, que se ve inmerso en una lucha constante entre la desesperación y el desconocimiento. \n  \nFICHA ARTÍSTICA: \n\nDRAMATURGIA y DIRECCIÓN: Chus Gómez\nREPARTO: Carlos Guirao /Ariadna Fabra/ Fran Guerrero/ Carmen Terán/ Lucía Fernandez/ Rocío Coca\nMOVIMIENTO: Chus Gómez\nESCENOGRAFÍA: Teatro Para Todos\nEQUIPO PEDAGÓGICO: Mª José Coca y Carmen Martín\nFOTOGRAFÍA: Dori de Aps Fotografia\nILUMINACIÓN: CÍA TPT\nUna producción de TEATRO PARA TODOS\n\nDuración 120 minutos\, repartidos en 40 minutos de obra de teatro y 80 minutos de foro con la participación del público. \n  \n \n  \nNORMAS DE OBLIGADO CUMPLIMIENTO: \n\nPor favor\, siga en todo momento las indicaciones higienico-sanitarias dadas por el personal de la sala.\nObligatorio el uso correcto de la mascarilla (cubriendo nariz y boca) en todo el recinto.\nSi una vez sacada la entrada no puede acudir al espectáculo\, por favor comuníquelo por correo (cultura@malaga.es) o por teléfono (952133950).\nEntrada solo con invitación. No acudir al teatro si no dispone de ella.\n\n  \nPuede compartir este evento en:
URL:https://www.mientrada.net/evento/el-diario-de-k/
LOCATION:Centro Cultural MVA\, Calle Ollerías\, 33\, Málaga\, Málaga\, 29012\, España
CATEGORIES:Centro Cultural Provincial MVA,Culturama,Málaga,Teatro
ATTACH;FMTTYPE=image/jpeg:https://www.mientrada.net/wp-content/uploads/2022/01/Cartel-El-diario-de-K.jpg
END:VEVENT
BEGIN:VEVENT
DTSTART;TZID=Europe/Madrid:20220225T203000
DTEND;TZID=Europe/Madrid:20220225T213000
DTSTAMP:20260422T123602
CREATED:20220121T143253Z
LAST-MODIFIED:20220221T081904Z
UID:10828-1645821000-1645824600@www.mientrada.net
SUMMARY:INÉS
DESCRIPTION:Disponible a partir del lunes 21 de febrero a las 10:00h. \nCiclo ESCENIK.\nJÓVENES CLÁSICOS. \n  \nLa historia de tres mujeres\, tres mujeres burladas\, tres mujeres que se llaman Inés. Cada una vive en una época y tiempo diferente\, las tres víctimas de diferentes Don Juanes\, pero todas ellas van a compartir existencia y voz en el mismo escenario. Ellas son un coro\, un eco que desteje el mito de la dependencia y necesidad femenina. Las tres protagonistas de este viaje son Doña Inés\, Inés e I. \nDoña Inés\, el personaje creado por Zorrilla\, siglos después está escondida en un convento donde el espacio y el tiempo parecen confundirse. Inés Ulloa es una mujer entregada y abandonada por un hombre por el que dejó de lado toda su vida profesional y personal. \nI es una estudiante universitaria recién llegada a la ciudad. Su mundo se desmorona cuando cae víctima del sexting por parte de un moderno “Don Juan”. \nFICHA ARTÍSTICA\nDIRECCIÓN Pedro Hofhuis\nDRAMATURGIA Sergio Rubio\nPRODUCCIÓN Jóvenes Clásicos \nDURACIÓN 70 minutos \n  \n \n  \nNORMAS DE OBLIGADO CUMPLIMIENTO: \n\nPor favor\, siga en todo momento las indicaciones higienico-sanitarias dadas por el personal de la sala.\nObligatorio el uso correcto de la mascarilla (cubriendo nariz y boca) en todo el recinto.\nSi una vez sacada la entrada no puede acudir al espectáculo\, por favor comuníquelo por correo (cultura@malaga.es) o por teléfono (952133950).\nEntrada solo con invitación. No acudir al teatro si no dispone de ella.\n\n  \nPuede compartir este evento en:
URL:https://www.mientrada.net/evento/ines/
LOCATION:Centro Cultural MVA\, Calle Ollerías\, 33\, Málaga\, Málaga\, 29012\, España
CATEGORIES:Centro Cultural Provincial MVA,Culturama,Málaga,Teatro
ATTACH;FMTTYPE=image/jpeg:https://www.mientrada.net/wp-content/uploads/2022/01/Cartel-Ines.jpg
END:VEVENT
END:VCALENDAR