BEGIN:VCALENDAR
VERSION:2.0
PRODID:-//mientrada.net - ECPv5.16.0//NONSGML v1.0//EN
CALSCALE:GREGORIAN
METHOD:PUBLISH
X-ORIGINAL-URL:https://www.mientrada.net
X-WR-CALDESC:Eventos para mientrada.net
REFRESH-INTERVAL;VALUE=DURATION:PT1H
X-Robots-Tag:noindex
X-PUBLISHED-TTL:PT1H
BEGIN:VTIMEZONE
TZID:Europe/Madrid
BEGIN:DAYLIGHT
TZOFFSETFROM:+0100
TZOFFSETTO:+0200
TZNAME:CEST
DTSTART:20220327T010000
END:DAYLIGHT
BEGIN:STANDARD
TZOFFSETFROM:+0200
TZOFFSETTO:+0100
TZNAME:CET
DTSTART:20221030T010000
END:STANDARD
END:VTIMEZONE
BEGIN:VEVENT
DTSTART;TZID=Europe/Madrid:20220401T203000
DTEND;TZID=Europe/Madrid:20220401T220000
DTSTAMP:20260422T040327
CREATED:20220121T143253Z
LAST-MODIFIED:20220323T131652Z
UID:10838-1648845000-1648850400@www.mientrada.net
SUMMARY:El premio
DESCRIPTION:Disponible a partir del lunes 28 de MARZO a las 10:00h. \nLa Quintana Teatro. \nEs una comedia ácida que habla de la situación de las personas dentro de un futuro próximo en el que el progreso tecnológico y la lucha hacia el éxito económico\, sentimental y social fuera tal\, que se vieron obligadas a caer en El Premio como única fórmula de conseguir la felicidad. \nEl Premio es un reallity en directo donde el público vota a quien merece llevarse el premio de su vida: Morir logrando la fama. Todo por un sueño. \n  \nFICHA ARTÍSTICA: \n\nDirectora: Marián Bañobre\nDramaturgia: Santiago Cortegoso\nActores: Victoria Teijeiro\, Raquel Espada/Lidia Veiga\, Xurxo Cortázar\nCreación: Colectiva\nEscenografía y vestuario: Marisa de Laiglesia\nDiseño de luces: Javier Quintana\nTécnico de luces: Anxo Outumuro\nVideo: Lucía Estévez\nCreación sonora: José Luis Fraga\nProducción: La Quintana Teatro\, Escenate y Zeena Producciones\nCoproducción: Centro Dramático Galego y Ayuntamiento de Madrid\nDistribución: Kandengue Arts\n\n  \nDuración: 90 m \n  \n \n  \nNORMAS DE OBLIGADO CUMPLIMIENTO: \n\nPor favor\, siga en todo momento las indicaciones higienico-sanitarias dadas por el personal de la sala.\nObligatorio el uso correcto de la mascarilla (cubriendo nariz y boca) en todo el recinto.\nSi una vez sacada la entrada no puede acudir al espectáculo\, por favor comuníquelo por correo (cultura@malaga.es) o por teléfono (952133950).\nEntrada solo con invitación. No acudir al teatro si no dispone de ella.\n\n  \nPuede compartir este evento en:
URL:https://www.mientrada.net/evento/el-premio/
LOCATION:Centro Cultural MVA\, Calle Ollerías\, 33\, Málaga\, Málaga\, 29012\, España
CATEGORIES:Centro Cultural Provincial MVA,Culturama,Málaga,Teatro
ATTACH;FMTTYPE=image/jpeg:https://www.mientrada.net/wp-content/uploads/2022/01/Cartel-El-premio.jpg
END:VEVENT
BEGIN:VEVENT
DTSTART;TZID=Europe/Madrid:20220402T203000
DTEND;TZID=Europe/Madrid:20220402T213000
DTSTAMP:20260422T040327
CREATED:20210907T145233Z
LAST-MODIFIED:20220323T131014Z
UID:10746-1648931400-1648935000@www.mientrada.net
SUMMARY:Los Hermanos Cubero 
DESCRIPTION:Disponible a partir del 28 de MARZO a las 10:00h \nCiclo Con Sello propio.\n \nLanza una moneda al aire. Si sale cara\, te tocan Los Hermanos Cubero de Errantes Telúricos: expansivos\, curiosos y orgullosamente impuros. Si sale cruz\, te tocan los de Proyecto Toribio: recogidos\, clásicos y orgullosamente puros. En cualquier caso\, sea cual sea la cara que te haya salido\, no olvides que siempre se trata de la misma moneda: la que Enrique y Roberto Cubero ya acuñaron en 2010 cuando empezaron su carrera demostrando que\, en cuestiones de folclore\, la tradición y la modernidad son lo mismo. \nExiste la tentación de considerar que este lanzamiento de dos discos en uno\, cada uno con su título\, es una suma de dos álbumes distintos. Y sí. Pero también no. Errantes Telúricos\, por supuesto\, es un proyecto que sale hacia fuera y cada canción incluye una colaboración con un artista invitado (no un featuring con fines mediáticos tan habitual en nuestros días\, no: una colaboración real y orgánica) que proviene de un estilo no especialmente folk: Amaia del pop\, Grupo de Expertos Solynieve y Josele Santiago del rock\, Rocío Márquez del flamenco\, Hendrik Röver y Los Míticos GT’s del blues\, Christina Rosenvinge\, Rodrigo Cuevas\, Nacho Vegas y Carmen París de la canción de autor y Ara Malikian de la clásica. Pero todos ellos\, se amalgaman con Los Hermanos Cubero para explorar la dimensión folclórica de los respectivos géneros de los que provienen. Qué mejores guías para acompañarles de la mano por las maravillas de la música de raíz que Enrique y Roberto. Porque Errantes Telúricos no es el disco de nuestros hermanos favoritos visitando otros estilos\, sino el disco de representantes de otros estilos invitados a pisar el terreno Cubero. \nQue Errantes Telúricos sea una casa de puertas abiertas\, no significa que en Proyecto Toribio estén cerradas. Al contrario: también es un proyecto de colaboraciones. Blanca Altable\, Jaime del Blanco\, Diego Galaz\, Paula Gómez\, Begoña Riobó\, Javier Román ‘El Niñu’\, María San Miguel y Águeda Sastre se unen a Los Hermanos Cubero para celebrar\, reivindicar y traer al presente el cancionero del maestro del violín jotero Toribio del Olmo. Aunque se trate de canciones que llevan años injustamente olvidadas\, Proyecto Toribio tampoco es un ejercicio de estilo arcaico: la belleza prístina de estos instrumentales es la misma en el S. XX que en el S. XXI. Quizá incluso es más belleza ahora: por insólita\, por genuina\, por contraste con sus alrededores sonoros. \nMirando hacia fuera o mirando hacia adentro\, Los Hermanos Cubero siguen siendo uno de los grupos más librepensadores de la música española\, sea folk o sea lo que sea. \n  \n \n  \nNORMAS DE OBLIGADO CUMPLIMIENTO: \n\nPor favor\, siga en todo momento las indicaciones higienico-sanitarias dadas por el personal de la sala.\nObligatorio el uso correcto de la mascarilla (cubriendo nariz y boca) en todo el recinto.\nSi una vez sacada la entrada no puede acudir al espectáculo\, por favor comuníquelo por correo (cultura@malaga.es) o por teléfono (952133950).\nEntrada solo con invitación. No acudir al teatro si no dispone de ella.\n\n  \nPuede compartir este evento en:
URL:https://www.mientrada.net/evento/los-hermanos-cubero%e2%80%a8/
LOCATION:Centro Cultural MVA\, Calle Ollerías\, 33\, Málaga\, Málaga\, 29012\, España
CATEGORIES:Centro Cultural Provincial MVA,Culturama,Málaga,Música
ATTACH;FMTTYPE=image/jpeg:https://www.mientrada.net/wp-content/uploads/2021/09/20220402_LosHermanosCubero_ConSelloPropio_cartel.jpg
END:VEVENT
BEGIN:VEVENT
DTSTART;TZID=Europe/Madrid:20220407T203000
DTEND;TZID=Europe/Madrid:20220407T213000
DTSTAMP:20260422T040327
CREATED:20210907T145233Z
LAST-MODIFIED:20220331T094640Z
UID:10750-1649363400-1649367000@www.mientrada.net
SUMMARY:Xabi Aburruzaga 
DESCRIPTION:Disponible a partir del 4 de abril a las 10:00h \nCiclo Con Sello propio.\n \nObservando su sonrisa pícara y su mirada limpia\, es fácil imaginarse al Xabi de 12 años aquel día en que se trajo de casa de Rufino Arrola su primera trikitixa. Ya nunca se separaría de ella\, de “su querida triki”. Arrola era amigo del padre de Xabi y aquel encuentro encendió\, sin premeditación\, una mecha que continúa prendida. El aprendizaje formal y el contacto directo con la tradición viva cristalizan en una primera maqueta con 4 temas compuestos por él mismo\, costeada con el fruto de su trabajo dando clases y tocando. A partir de la buena acogida de ese trabajo surgen los primeros encargos: la composición de la canción para la Ikastola Karmelo de Santutxu\, la canción de fiestas de Bermeo\, Egunaro egunaro kalien o la música del Ibilaldia’04\, de la Fiesta de las Ikastolas de Bizkaia\, junto con Fredi Paia. \nEn 2005 Xabi publica el libro de partituras Bizkaiko trikitixa\, que él define como «una joya; ya que nuestros mayores van desapareciendo y con ellos sus obras” y un disco del mismo nombre. En 2009 comenzará a ser la faceta de compositor la que tomará las riendas de la trayectoria discográfica de Xabi y lanza el disco Denboraren naufrago. Después de una temporada con conciertos en el País Vasco\, Grecia y Estados Unidos\, ve la luz Geure (lanzado con el propio sello de Xabi\, DND) su tercer trabajo discográfico\, donde Xabi avanza en su propio lenguaje artístico\, combinando el sonido folk y celta con aires jazzeros. En 2015 es cabeza de cartel de Ortigueira 2015 junto con Cristina Pato y Sharon Shannon. Desde Galicia a Quebec\, pasando por Asturias\, Bretaña\, Inglaterra\, Escocia e Irlanda\, el disco KeltiK (DND 2016) es un homenaje a la música celta\, donde no sabremos si es su música la que se acerca a la celta o es la celta la que se acerca a su música. \nSu quinto disco será Bost. Con él\, Xabi es seleccionado por Basque Music para actuar en la edición de 2020 del mayor mercado profesional de las músicas del mundo y de raíz: WOMEX. Y antes\, a finales de septiembre\, Bost recibe el Musika Bulegoa Saria\, el Premio de la Oficina de la Música Vasca. Su último disco es Aurrez Aurre\, grabado en directo en el Teatro Campos Elíseos de Bilbao. Es el testimonio de veinte años de trayectoria musical. \n  \n \n  \nNORMAS DE OBLIGADO CUMPLIMIENTO: \n\nPor favor\, siga en todo momento las indicaciones higienico-sanitarias dadas por el personal de la sala.\nObligatorio el uso correcto de la mascarilla (cubriendo nariz y boca) en todo el recinto.\nSi una vez sacada la entrada no puede acudir al espectáculo\, por favor comuníquelo por correo (cultura@malaga.es) o por teléfono (952133950).\nEntrada solo con invitación. No acudir al teatro si no dispone de ella.\n\n  \nComparte este evento en:
URL:https://www.mientrada.net/evento/xabi-aburruzaga%e2%80%a8/
LOCATION:Centro Cultural MVA\, Calle Ollerías\, 33\, Málaga\, Málaga\, 29012\, España
CATEGORIES:Centro Cultural Provincial MVA,Culturama,Málaga,Música
ATTACH;FMTTYPE=image/jpeg:https://www.mientrada.net/wp-content/uploads/2021/09/20220407_XabiAburruzaga_ConSelloPropio_cartel.jpg
END:VEVENT
BEGIN:VEVENT
DTSTART;TZID=Europe/Madrid:20220419T203000
DTEND;TZID=Europe/Madrid:20220419T220000
DTSTAMP:20260422T040327
CREATED:20220121T143253Z
LAST-MODIFIED:20220412T130909Z
UID:10855-1650400200-1650405600@www.mientrada.net
SUMMARY:IV Torneo Dramaturgia - Semifinal
DESCRIPTION:Reserva de invitaciones para las semifinales: el miércoles 13 de abril a las 10:00 h.\nReserva de invitaciones para la final: el lunes 25 de abril a las 10:00 h. \nDirección: Beatriz Mori. \nSEMIFINALES: días 19 y 20 de abril.\n29 de abril.\n20\,30 h. \nCuatro de nuestros mejores dramaturgos y dramaturgas se enfrentan en un ring de boxeo sustituyendo los puños por los textos. Un combate amistoso que conecta al público con la desconocida figura del escritor/a de teatro y que será conducido por el actor Jâmp Palo como maestro de ceremonias. \nCada autor/a competirá con una obra de unos 30 minutos de duración escrita especialmente para la competición. \nEste año contamos con los siguientes y bravos púgiles: \n\nPaco Bernal\, alias “Bum Bum Califa” (Málaga)\nPilar G. Almansa\, alias “La niña de La Carlota” (Córdoba)\nAntonio Miguel Morales\, alias “El tagarnina de Morón” (Sevilla)\nFelisa Moreno\, alias “La gorriona de Alcaudete” (Jaén)\n\nDoce intérpretes malagueños/as subirán al ring para defender a modo de lecturas dramatizadas los cuatro textos a lo largo de dos semifinales y una final. \nEn cada eliminatoria competirán dos obras y será el público\, sin saber a qué autor/a pertenece cada una\, quien elija con su voto la obra que más le haya gustado\, determinando así el vencedor o vencedora de cada enfrentamiento. \nBeatriz Mori dirige esta experiencia teatral\, ideada por Jordi Casanovas para el Festival Temporada Alta y que actualmente se celebra en diferentes partes de España y Latinoamérica. \nDuración del espectáculo: 1h 30 minutos\nEntrada con invitación hasta completar aforo.\nPúblico adulto. \n  \n \n  \nNORMAS DE OBLIGADO CUMPLIMIENTO: \n\nPor favor\, siga en todo momento las indicaciones higienico-sanitarias dadas por el personal de la sala.\nObligatorio el uso correcto de la mascarilla (cubriendo nariz y boca) en todo el recinto.\nSi una vez sacada la entrada no puede acudir al espectáculo\, por favor comuníquelo por correo (cultura@malaga.es) o por teléfono (952133950).\nEntrada solo con invitación. No acudir al teatro si no dispone de ella.\n\n  \nPuede compartir este evento en:
URL:https://www.mientrada.net/evento/4-torneo-dramaturgia/2022-04-19/
LOCATION:Centro Cultural MVA\, Calle Ollerías\, 33\, Málaga\, Málaga\, 29012\, España
CATEGORIES:Centro Cultural Provincial MVA,Culturama,Málaga,Teatro
ATTACH;FMTTYPE=image/jpeg:https://www.mientrada.net/wp-content/uploads/2022/01/Cartel-IV-Torneo-Dramaturgia.jpg
END:VEVENT
BEGIN:VEVENT
DTSTART;TZID=Europe/Madrid:20220422T203000
DTEND;TZID=Europe/Madrid:20220422T214000
DTSTAMP:20260422T040327
CREATED:20220121T143253Z
LAST-MODIFIED:20220412T142728Z
UID:10842-1650659400-1650663600@www.mientrada.net
SUMMARY:Loba
DESCRIPTION:Disponible a partir del lunes 18 de ABRIL a las 10:00h. \nESCENIK.\nLOBA de Juan Mairena.\nTeatro del navegante. \nEn 1962\, una mujer de mediana edad se presenta en la sección de anuncios de la redacción del Hollywood Reporter para poner el siguiente anuncio: «Madre de tres hijos. Divorciada. Americana. Treinta años de experiencia como actriz de cine. Todavía ágil y más afable de lo que dicen los rumores. Busca empleo estable en Hollywood”. El joven redactor que la recibe no da crédito a sus ojos y\, a pesar de la rudeza de la mujer\, hace todo lo posible por retenerla. Él es Lukas Heller\, guionista. Ella Bette Davis\, actriz. A lo largo de la entrevista\, en la que se mezcla la ficción y la realidad\, las estrellas que tanto brillan en el firmamento\, se oscurecen para dejarnos ver la verdadera historia de muchas de las mujeres que creíamos inalcanzables. \nEsta obra es un homenaje al coraje\, la valentía y el esfuerzo de la mujer trabajadora y\, específicamente\, a la perseverancia de tantas actrices que se han dejado y se dejan literalmente la piel por defender su trabajo en un mundo liderado por hombres. Un guiño al cine como catalizador de historias cercanas\, de trabajos técnicos no reconocidos por el gran público y de esos imprescindibles grandes títulos que forman parte de nuestro acervo cultural. \n  \nFICHA ARTÍSTICA: \n\nDirección: Xiqui Rodríguez\nAutor: Juan Mairena\nMúsica: Raúl Escudero\nVídeoarte: Juan Ignacio Arteagabeitia – Mapping Er Z\nFotografía: Jose Vicente\nVídeopromoción: Imagia TV\nDiseño de peluquería: María Jesús Franco\nDiseño y construcción escenografía: Teatro del Navegante\nIntérpretes: Béatrice Fulconis y Xiqui Rodríguez\n\n  \nDURACIÓN: 70 m \n  \n \n  \nNORMAS DE OBLIGADO CUMPLIMIENTO: \n\nPor favor\, siga en todo momento las indicaciones higienico-sanitarias dadas por el personal de la sala.\nObligatorio el uso correcto de la mascarilla (cubriendo nariz y boca) en todo el recinto.\nSi una vez sacada la entrada no puede acudir al espectáculo\, por favor comuníquelo por correo (cultura@malaga.es) o por teléfono (952133950).\nEntrada solo con invitación. No acudir al teatro si no dispone de ella.\n\n  \nPuede compartir este evento en:
URL:https://www.mientrada.net/evento/loba/
LOCATION:Centro Cultural MVA\, Calle Ollerías\, 33\, Málaga\, Málaga\, 29012\, España
CATEGORIES:Centro Cultural Provincial MVA,Culturama,Málaga,Teatro
ATTACH;FMTTYPE=image/jpeg:https://www.mientrada.net/wp-content/uploads/2022/01/Cartel-Loba.jpg
END:VEVENT
BEGIN:VEVENT
DTSTART;TZID=Europe/Madrid:20220428T203000
DTEND;TZID=Europe/Madrid:20220428T213000
DTSTAMP:20260422T040327
CREATED:20210907T145233Z
LAST-MODIFIED:20220422T163149Z
UID:10673-1651177800-1651181400@www.mientrada.net
SUMMARY:Grises
DESCRIPTION:Disponible a partir del 25 de abril a las 10:00h \nMúsica. Ciclo ‘EnTrance’ \nLa banda guipuzcoana Grises está de vuelta. Con una década de trayectoria y cinco álbumes de estudio a sus espaldas\, el grupo compuesto por los hermanos Gaztañaga\, Amancay (voz)\, Eñaut (voz y guitarra)\, Alejandro Orbegozo (teclado y sintetizadores)\, Gartxot Unsain (bajo) y Gaskon Etxeberria (batería)\, ha lanzado ya su sexto disco: ‘Talismán’. Grabado y mezclado en los estudios Gaztain del propio Eñaut Gaztañaga\, cantante y productor de la banda\, vio la luz el pasado 18 de septiembre con colaboraciones de Víctor Cabezuelo (Rufus T. Firefly) y Jurgi Ekiza (Willis Drummond\, Ekiza\, EraBatera…) y más de una sorpresa. \nEn primavera de este año ya adelantaron dos de las canciones incluidas en este trabajo\, ‘Veneno’ y ‘Amazonia arde’\, previos a un lanzamiento y a una gira que tuvieron que cancelar debido a la pandemia mundial\, y que ahora retoman con más fuerza que nunca. Después de un breve paréntesis en su carrera\, Grises regresan y lo hacen con una vuelta más de tuerca al sonido que\, sin llegar a robarle todo el protagonismo a las letras\, se ha convertido\, desde sus inicios\, en la esencia de una de las propuestas de directo más interesantes del panorama nacional. \nTras ‘El Hombre Bolígrafo’ (2011) – que bebía del indie anglosajón más tradicional-; ‘No se alarme señora\, soy soviético’ (2013) – en el que se lanzaban a explorar el universo de las pistas de baile- ; ‘Animal’ (2014) – el disco con el que confirmaban habían pasado de tener proyección a ser imprescindibles-; ‘Erlo’ (2016) – su grabación más experimental\, electrónica y veraniega-; y ‘De Peces y Árboles’ (2018)- donde las voces y letras reclamaron su sitio-; los de Zestoa retomarán con este nuevo trabajo su carrera fieles a sus intenciones más primitivas: las de hacer que el público baile. Y van a conseguir que lo haga al ritmo de un enérgico y pegadizo electro-pop que ya es marca de la casa\, y que les ha abierto un merecido hueco en la mayoría de los festivales más importantes del estado (BBK Live\, Sonorama\, Arenal Sound\, Low Festival\, Ebrovisión\,…) y con el que han reventado algunas de las salas más míticas (Joy Eslava\, Apolo\, o Razzmatazz…). \n  \n \n  \nComparte este evento en:
URL:https://www.mientrada.net/evento/grises/
LOCATION:Centro Cultural MVA\, Calle Ollerías\, 33\, Málaga\, Málaga\, 29012\, España
CATEGORIES:Centro Cultural Provincial MVA,Culturama,Málaga,Música
ATTACH;FMTTYPE=image/jpeg:https://www.mientrada.net/wp-content/uploads/2021/09/20220428_Grises_Entrance_cartel.jpg
END:VEVENT
BEGIN:VEVENT
DTSTART;TZID=Europe/Madrid:20220429T203000
DTEND;TZID=Europe/Madrid:20220429T220000
DTSTAMP:20260422T040327
CREATED:20220121T143253Z
LAST-MODIFIED:20220425T112319Z
UID:10860-1651264200-1651269600@www.mientrada.net
SUMMARY:IV Torneo Dramaturgia - Final
DESCRIPTION:Reserva de invitaciones para la final: el lunes 25 de abril a las 10:00 h. \nDirectora: Beatriz Mori. \nCuatro de nuestros mejores dramaturgos y dramaturgas se enfrentan en un ring de boxeo sustituyendo los puños por los textos. Un combate amistoso que conecta al público con la desconocida figura del escritor/a de teatro y que será conducido por el actor Jâmp Palo como maestro de ceremonias. \nCada autor/a competirá con una obra de unos 30 minutos de duración escrita especialmente para la competición. \nDespués de unas reñidas semifinales\, los finalistas este año son los siguientes: \n\nAntonio Miguel Morales\, alias “El tagarnina de Morón” (Sevilla)\nFelisa Moreno\, alias “La gorriona de Alcaudete” (Jaén)\n\nEn la final competirán las dos obras finalistas y será el público\, sin saber a qué autor/a pertenece cada una\, quien elija con su voto la obra que más le haya gustado\, determinando así el vencedor o vencedora del enfrentamiento final. \nBeatriz Mori dirige esta experiencia teatral\, ideada por Jordi Casanovas para el Festival Temporada Alta y que actualmente se celebra en diferentes partes de España y Latinoamérica. \nDuración del espectáculo: 1h 30 minutos\nEntrada con invitación hasta completar aforo.\nPúblico adulto. \n  \n \n  \nNORMAS DE OBLIGADO CUMPLIMIENTO: \n\nPor favor\, siga en todo momento las indicaciones higienico-sanitarias dadas por el personal de la sala.\nUso correcto de la mascarilla sujeto a normativa vigente.\nSi una vez sacada la entrada no puede acudir al espectáculo\, por favor comuníquelo por correo (cultura@malaga.es) o por teléfono (952133950).\nEntrada solo con invitación. No acudir al teatro si no dispone de ella.\n\n  \nPuede compartir este evento en:
URL:https://www.mientrada.net/evento/4-torneo-dramaturgia-final/
LOCATION:Centro Cultural MVA\, Calle Ollerías\, 33\, Málaga\, Málaga\, 29012\, España
CATEGORIES:Centro Cultural Provincial MVA,Culturama,Málaga,Teatro
ATTACH;FMTTYPE=image/jpeg:https://www.mientrada.net/wp-content/uploads/2022/01/Cartel-Dramaturgia-final.jpg
END:VEVENT
END:VCALENDAR