BEGIN:VCALENDAR
VERSION:2.0
PRODID:-//mientrada.net - ECPv5.16.0//NONSGML v1.0//EN
CALSCALE:GREGORIAN
METHOD:PUBLISH
X-WR-CALNAME:mientrada.net
X-ORIGINAL-URL:https://www.mientrada.net
X-WR-CALDESC:Eventos para mientrada.net
REFRESH-INTERVAL;VALUE=DURATION:PT1H
X-Robots-Tag:noindex
X-PUBLISHED-TTL:PT1H
BEGIN:VTIMEZONE
TZID:Europe/Madrid
BEGIN:DAYLIGHT
TZOFFSETFROM:+0100
TZOFFSETTO:+0200
TZNAME:CEST
DTSTART:20220327T010000
END:DAYLIGHT
BEGIN:STANDARD
TZOFFSETFROM:+0200
TZOFFSETTO:+0100
TZNAME:CET
DTSTART:20221030T010000
END:STANDARD
END:VTIMEZONE
BEGIN:VEVENT
DTSTART;TZID=Europe/Madrid:20220918T200000
DTEND;TZID=Europe/Madrid:20220918T210000
DTSTAMP:20260420T172056
CREATED:20220906T113604Z
LAST-MODIFIED:20220912T152442Z
UID:13501-1663531200-1663534800@www.mientrada.net
SUMMARY:Malaka Fest 2022 - The new mastersounds
DESCRIPTION:A finales de los 90 el guitarrista y productor Eddie Roberts estaba promoviendo una noche de club en Leeds llamada ‘The Cooker’\, cuando en 1999 ve la oportunidad de añadir una banda en directo para complementar las sesiones de DJ. Simon Allen y Roberts que habían tocado juntos anteriormente como The Mastersounds\, a través de amistades en común. Gracias a la pequeña escena musical de Leeds conectan con Pete Shand y Bob Birch\, que entran como bajista y organista Hammond respectivamente. Y así nacen The New Mastersounds. \n19 años después\, el catálogo de grabaciones de la banda incluye 24 singles de 7″\, 13 álbumes de estudio\, 3 discos en directo\, 1 disco de remezclas y 3 recopilatorios\, todos lanzados entre el Reuno Unido\, Japón y EE.UU.\, donde siguen haciendo giras extensas. Joe Tatton\, otro veterano de la escena de Leeds\, se une a la banda en 2007 reemplazando a Bob Birch en piano y órgano. \n  \nPuede compartir este evento en:
URL:https://www.mientrada.net/evento/malaka-fest-2022-the-new-mastersounds/
LOCATION:Centro Cultural MVA\, Calle Ollerías\, 33\, Málaga\, Málaga\, 29012\, España
CATEGORIES:Centro Cultural Provincial MVA,Culturama,Málaga,Música
ATTACH;FMTTYPE=image/jpeg:https://www.mientrada.net/wp-content/uploads/2022/09/MalakaFest_18sept_MVAMalaga_Mientrada_Cuadrado1.jpeg
END:VEVENT
BEGIN:VEVENT
DTSTART;TZID=Europe/Madrid:20220923T203000
DTEND;TZID=Europe/Madrid:20220923T213000
DTSTAMP:20260420T172056
CREATED:20220916T083950Z
LAST-MODIFIED:20220916T092202Z
UID:13637-1663965000-1663968600@www.mientrada.net
SUMMARY:Ama
DESCRIPTION:Mario vive en un loft\, reconvertido en vivienda y estudio artístico al mismo tiempo. Su especialidad es la pintura\, oficio que ha heredado de su padre. Hace un tiempo que su vida ha sucumbido a la tozuda realidad. \nSus padres\, de avanzada edad\, requieren de sus cuidados\, así como su joven hija. Mario se afana en cuidarlos\, aunque la tarea se le antoja muy complicada. Mario nunca ha aprendido a cuidar de nadie. \nMario se enfrenta a un viaje iniciático hacia el seno del hogar\, rodeado de pasado\, y con un futuro incierto. AMA habla de la fortaleza de unas personas frágiles y asustadas. Es un canto a la belleza épica del cuidado mutuo. AMA es una historia de super-anti-héroes de lo cotidiano. \n  \nAUTORÍA Y DIRECCIÓN Jokin Oregi\nACOMPAÑAMIENTO EXTERNO Pablo Messiez\nAYUDANTE DE DIRECCIÓN Ana Meabe\nACTORES Ana Martínez\, Javier Renobales\, Anduriña Zurutuza\, Jokin Oregi\, Maitane Sarralde\, Joseba Uribarri y Amets Ibarra\nESCENOGRAFÍA Y VESTUARIO Ikerne Giménez\, Elisa Sanz\nCONFECCIÓN Y MÁSCARAS Inma Gómez\nMÚSICA Adrian García de los Ojos\nDISEÑO DE ILUMINACIÓN Felipe Ramos\nILUMINACIÓN Edu Berja y Unai Barrio\nAYUDANTE DE PRODUCCIÓN Nagore Navarro\nCOMUNICACIÓN Irene Zarrabeitia\nPRODUCCIÓN EJECUTIVA Pio Ortiz de Pinedo\nDISTRIBUCIÓN a+\, Soluciones Culturales \n  \nPuede compartir este evento en:
URL:https://www.mientrada.net/evento/ama/
LOCATION:Centro Cultural MVA\, Calle Ollerías\, 33\, Málaga\, Málaga\, 29012\, España
CATEGORIES:Centro Cultural Provincial MVA,Culturama,Teatro
ATTACH;FMTTYPE=image/jpeg:https://www.mientrada.net/wp-content/uploads/2022/09/Cartel-22-09-23-Ama.jpg
END:VEVENT
BEGIN:VEVENT
DTSTART;TZID=Europe/Madrid:20220930T203000
DTEND;TZID=Europe/Madrid:20220930T213000
DTSTAMP:20260420T172056
CREATED:20220919T113800Z
LAST-MODIFIED:20220919T115443Z
UID:13670-1664569800-1664573400@www.mientrada.net
SUMMARY:Mujer en cinta de correr sobre fondo negro
DESCRIPTION:Es la unión de estos pares risa y pensamiento; marca y miseria; barrio y cultura; pija y merdellona; Adidas y Asidas; verde y naranja; El Limonar y la Palmilla; una familia numerosa y dos bolleras; un genio y un copión; Rufián y Ana Pastor; querer ser y ser.” Identidad\, espectáculo\, capitalismo y falta de pensamiento crítico son los temas principales en torno a los que gira esta propuesta escénica. Alessandra García hace un ejercicio de escucha profunda de los barrios por donde transita\, los describe\, luego los memoriza y después los interpreta. \n  \nAlessandra García es una actriz\, directora\, creativa\, performer y gestora cultural malagueña. Su línea de trabajo corresponde al teatro postdramático y participativo. Compagina sus trabajos en el escenario con la programación del espacio Contenedor Cultural de la Universidad de Málaga. En los últimos años ha estado de gira como performer en No se registran conversaciones de interés\, de\nRoger Bernat. \n  \nPuede compartir este evento en:
URL:https://www.mientrada.net/evento/mujer-en-cinta-de-correr-sobre-fondo-negro/
LOCATION:Centro Cultural MVA\, Calle Ollerías\, 33\, Málaga\, Málaga\, 29012\, España
CATEGORIES:Centro Cultural Provincial MVA,Culturama,Málaga,Teatro
ATTACH;FMTTYPE=image/jpeg:https://www.mientrada.net/wp-content/uploads/2022/09/Cartel-22-09-30-Mujer.jpg
END:VEVENT
END:VCALENDAR