BEGIN:VCALENDAR
VERSION:2.0
PRODID:-//mientrada.net - ECPv5.16.0//NONSGML v1.0//EN
CALSCALE:GREGORIAN
METHOD:PUBLISH
X-WR-CALNAME:mientrada.net
X-ORIGINAL-URL:https://www.mientrada.net
X-WR-CALDESC:Eventos para mientrada.net
REFRESH-INTERVAL;VALUE=DURATION:PT1H
X-Robots-Tag:noindex
X-PUBLISHED-TTL:PT1H
BEGIN:VTIMEZONE
TZID:Europe/Madrid
BEGIN:DAYLIGHT
TZOFFSETFROM:+0100
TZOFFSETTO:+0200
TZNAME:CEST
DTSTART:20220327T010000
END:DAYLIGHT
BEGIN:STANDARD
TZOFFSETFROM:+0200
TZOFFSETTO:+0100
TZNAME:CET
DTSTART:20221030T010000
END:STANDARD
END:VTIMEZONE
BEGIN:VEVENT
DTSTART;TZID=Europe/Madrid:20221103T203000
DTEND;TZID=Europe/Madrid:20221103T213000
DTSTAMP:20260420T033645
CREATED:20221018T121243Z
LAST-MODIFIED:20221025T113119Z
UID:14251-1667507400-1667511000@www.mientrada.net
SUMMARY:El Mati jugando - Matías López
DESCRIPTION:En palabras del propio artista;Jugando es la traducción literal de casi todos los idiomas a lo que en castellano conocemos como cantar o tocar un instrumento. Jugar es loprimero que hacemos siendo niños\, y así deberíamos llamar a todo lo que sea divertirse haciendo música. Desde el amor y el respeto. Juguemos…  Matías López El Mati (Barcelona\, 1985) es un cantaor flamenco de ascendencia extremeña asentado en Barcelona. Creció en un entorno de fuerte acento flamenco\, lo que despertó y desarrolló sus inquietudes musicales con tan solo 12 años\, aunque no fue hasta los 19 cuando decidió dedicarse en cuerpo y alma al cante.  Desde el inicio de su carrera se ha presentado en los más destacados festivales nacionales e internacionales: Jodhpur Flamenco Gypsy Festival (India)\, Flamenco Festival (Nueva York y Londres)\, Bienal de Holanda\, Festival de Mont de Marsan\, Festival Flamenco on Fire (Pamplona)\, Festival de Alburquerque\, Festival Ibérica Contemporánea (Querétaro\, México)\, Festival de Jerez\, Festival Flamenco de Montreal\, Bienal de Sevilla\, entre un largo etcétera.\nEn agosto de 2019 se alzó con la prestigiosa Lámpara Minera en el 59º Festival Internacional de Cante de las Minas en La Unión (Murcia)\, que supuso un aldabonazo en su carrera y un acicate para la grabación de su siguiente álbum\, con el que mostrarse tal como es\, con ideas\nnuevas y frescas. Su inquietud esencial es la búsqueda de nuevos registros con la voz y\, aunque el flamenco es su pasión de vida\, no le obsesiona ni cree que sea lo más importante del mundo porque está convencido de que para entender la esencia del flamenco hay que reconocerse en otras músicas\, «algo que no estoy inventando yo. Ahí está El Lebrijano\, Camarón\, Morente\, Paco…Me gustaría plasmar todas esas músicas que bañan el Mediterráneo y que me interesan». \nA lo largo de su carrera ha compartido escenario y cartel con los artistas más relevantes del panorama musical y arte flamenco\, tanto cantaores como intérpretes\, siendo\, además\, muy solicitado por prestigiosas bailaoras de la danza y del baile flamenco\, lo que le ha permitido presentarse en señeros teatros\, en los tablaos más prestigiosos y con renombradas compañías de danza como el Ballet Flamenco de Andalucía en 2016\, o en la actualidad con Sara Baras\, Lucía Álvarez ‘La Piñona’\, etc…\nVoz\, bajo y efectos: El Mati\nGuitarra: Oscar Lago\nTrompeta: Pedro M. Núñez\nBatería: Javier Rabadán \n  \nPuede compartir este evento en:
URL:https://www.mientrada.net/evento/el-mati-jugando-matias-lopez/
LOCATION:Centro Cultural MVA\, Calle Ollerías\, 33\, Málaga\, Málaga\, 29012\, España
CATEGORIES:Centro Cultural Provincial MVA,Culturama,Málaga
ATTACH;FMTTYPE=image/jpeg:https://www.mientrada.net/wp-content/uploads/2022/10/221103-el-mati.jpg
END:VEVENT
BEGIN:VEVENT
DTSTART;TZID=Europe/Madrid:20221104T203000
DTEND;TZID=Europe/Madrid:20221104T213000
DTSTAMP:20260420T033645
CREATED:20220916T083950Z
LAST-MODIFIED:20220929T094521Z
UID:13937-1667593800-1667597400@www.mientrada.net
SUMMARY:Winnipeg
DESCRIPTION:Un canto a la esperanza y un grito contra el olvido. La obra rememora el momento en que Pablo Neruda\, con el soporte del gobierno chileno\, abrió las puertas del país a más de 2000 republicanos españoles exiliados El 3 de septiembre de 1939 llega el Winnipeg al puerto de Valparaíso. Pablo Neruda\, con el soporte del gobierno chileno\, había fletado este barco\, ayudando a escapar a más de dos mil republicanos españoles que malvivían exiliados en Francia. Muchos de ellos\, autonombrados “los hijos de Neruda”\, nunca más volverían a España. \n  \nPuede compartir este evento en:
URL:https://www.mientrada.net/evento/winnipeg-2/
LOCATION:Centro Cultural MVA\, Calle Ollerías\, 33\, Málaga\, Málaga\, 29012\, España
CATEGORIES:Centro Cultural Provincial MVA,Culturama,Teatro
ATTACH;FMTTYPE=image/jpeg:https://www.mientrada.net/wp-content/uploads/2022/09/Cartel-22-11-04-Winnipeg.jpg
END:VEVENT
BEGIN:VEVENT
DTSTART;TZID=Europe/Madrid:20221110T203000
DTEND;TZID=Europe/Madrid:20221110T213000
DTSTAMP:20260420T033645
CREATED:20220808T111901Z
LAST-MODIFIED:20220929T094615Z
UID:13227-1668112200-1668115800@www.mientrada.net
SUMMARY:Neomak
DESCRIPTION:Ciclo Con Sello Propio\nÉramos siete niñas de 11-12 años\, cuando en parejas\, cada pareja por su camino\, subimos por primera vez a un escenario para participar en las competiciones tradicionales del País Vasco con la Trikitixa (acordeón diatónico tradicional) y el Pandero (percusión tradicional). Años más tarde\, a la edad de 15-16 años\, pasamos de ser rivales a compartir una misma ilusión por un nuevo proyecto creado por Kepa Junkera. Nos brindó la oportunidad a las siete para formar un grupo llamado Sorginak (‘brujas’ en vasco) e iniciar trayectoria junto a él. En los seis años que duró dicho proyecto\, publicamos dos discos y realizamos respectivas giras a nivel mundial. Tras la pausa\, recibimos una propuesta para participar en El ‘II Festival de Trikitixa’ de Navarra\, que se emitiría en la televisión autonómica vasca. Después de la emisión del programa\, empezamos a recibir propuestas para la realización de conciertos. Al volver a tocar juntas en un escenario\, sentimos que la llama no se había apagado y nos dio fuerzas para comenzar nuestro propia andadura\, con el nombre: NEOMAK. Honrando nuestras raíces pero con aire fresco y renovadas\, como bien describe el significado de nuestro nombre: lunas nuevas. \nA DÓNDE VAMOS.\nMantenemos nuestra esencia arropadas por los mismos instrumentos que nos acompañan desde años atrás (Trikitixa y diferentes panderos). Pero hemos combinado las raíces tradicionales y el estilo orgánico con las oportunidades de las nuevas tecnologías\, para experimentar y probar la fusión electrónica. Añadimos a estos nuevos sonidos\, el notable protagonismo de las siete voces femeninas que nos caracterizan. En este caso\, las palabras son tan importantes como la música\, por eso Neomak ofrece canciones que pueden incitar a la reflexión del oyente\, como el papel de la mujer en la sociedad o la proclamación de la mujer en el siglo XXI. De este modo\, proponemos un concierto de una hora en la cual se podrán escuchar versiones de canciones tradicionales y nuestras propias composiciones de manera dinámica. El objetivo es viajar con el oyente hasta la luna nueva\, y cantar\, y bailar… \n  \nMiembros del grupo:\nAlaitz Escudero Unanue\nAmets Ormaetxea Ezpeleta\nEneritz Aulestia Mutiozabal\nGarazi Otaegi Lasarte\nIrati Gutierrez Artetxe\nLeire Etxezarreta Learreta\nMaria Lasa Hilario \n  \nPuede compartir este evento en:
URL:https://www.mientrada.net/evento/neomak/
LOCATION:Centro Cultural MVA\, Calle Ollerías\, 33\, Málaga\, Málaga\, 29012\, España
CATEGORIES:Centro Cultural Provincial MVA,Ciclo Con Sello Propio,Culturama,Málaga,Música
ATTACH;FMTTYPE=image/jpeg:https://www.mientrada.net/wp-content/uploads/2022/08/Cartel-neomak.jpg
END:VEVENT
BEGIN:VEVENT
DTSTART;TZID=Europe/Madrid:20221111T203000
DTEND;TZID=Europe/Madrid:20221111T213000
DTSTAMP:20260420T033645
CREATED:20220916T083950Z
LAST-MODIFIED:20221028T100234Z
UID:13946-1668198600-1668202200@www.mientrada.net
SUMMARY:Órbita
DESCRIPTION:«Trayectoria que describe un objeto físico alrededor de otro\, bajo la influencia de una fuerza central». Este fenómeno representa la relación que se establece entre Carlos López y Noemí Pareja\, dos artistas polifacéticos que interaccionan a través de diferentes lenguajes contemporáneos de movimiento\, elementos de circo y la música en vivo bajo la atracción gravitatoria de sus raíces: Cádiz\, el mar y el arte\nflamenco. Órbita es pura poesía en movimiento. Una obra cargada de fuerza y sensibilidad en la que se puede apreciar un verdadero mestizaje artístico y que ofrece al espectador una visión integradora del arte y los diferentes lenguajes escénicos que la componen. \n  \nPuede compartir este evento en:
URL:https://www.mientrada.net/evento/orbita/
LOCATION:Centro Cultural MVA\, Calle Ollerías\, 33\, Málaga\, Málaga\, 29012\, España
CATEGORIES:Centro Cultural Provincial MVA,Culturama,Teatro
ATTACH;FMTTYPE=image/jpeg:https://www.mientrada.net/wp-content/uploads/2022/09/Cartel-22-11-11-Orbita-1.jpg
END:VEVENT
BEGIN:VEVENT
DTSTART;TZID=Europe/Madrid:20221118T203000
DTEND;TZID=Europe/Madrid:20221118T213000
DTSTAMP:20260420T033645
CREATED:20220916T083950Z
LAST-MODIFIED:20220929T095303Z
UID:13950-1668803400-1668807000@www.mientrada.net
SUMMARY:Los Remedios
DESCRIPTION:Los Remedios es una obra sobre nosotros mismos. Una autoficción en la que el barrio sevillano de Los Remedios se convierte en el instrumento perfecto para que dos amigos nacidos allí se reencuentren con ellos mismos. De la mano de la compañía Exlímite\, los encargados de dar vida a estos personajes son Fernando Delgado-Hierro\, quien también ha escrito el texto\, y Pablo Chaves. Juntos\, y dirigidos por Juan Ceacero\, nos harán partícipes de un viaje personal en el que el público también se verá reflejado. Se trata de una autoficción donde recuerdos y memorias se unen en el pasado y presente de dos amigos que quedan para hablar. Recurriendo\, para ello\, al barrio sevillano en el que se criaron. Un viaje por sus raíces del que la audiencia será testigo y partícipe a la vez. ¿Quiénes somos y qué somos? ¿Qué detalles de nosotros vienen de nuestras raíces y cuáles hemos creado? ¿Cómo y por qué he llegado hasta aquí? Estas son algunas de las preguntas que ambos\, los personajes y el público\, tratarán de responder (se). Una obra en la que encontrarse y perderse en un barrio donde la amistad es parte imprescindible de sus\, y nuestras raíces. \n  \nPuede compartir este evento en:
URL:https://www.mientrada.net/evento/los-remedios/
LOCATION:Centro Cultural MVA\, Calle Ollerías\, 33\, Málaga\, Málaga\, 29012\, España
CATEGORIES:Centro Cultural Provincial MVA,Culturama,Teatro
ATTACH;FMTTYPE=image/jpeg:https://www.mientrada.net/wp-content/uploads/2022/09/Cartel-22-11-18-Remedios.jpg
END:VEVENT
BEGIN:VEVENT
DTSTART;TZID=Europe/Madrid:20221119T200000
DTEND;TZID=Europe/Madrid:20221119T200000
DTSTAMP:20260420T033645
CREATED:20221110T112501Z
LAST-MODIFIED:20221116T132232Z
UID:14553-1668888000-1668888000@www.mientrada.net
SUMMARY:Javier Ojeda y Dry Martina con la Orquesta Sinfónica de Málaga
DESCRIPTION:Dos iconos de la música malagueña\, Javier Ojeda\, de los incombustibles Danza Invisible\, y Laura Insausti\, más conocida como Dry Martina\, unen sus voces en este concierto único\, arropados por la Orquesta Sinfónica de Málaga\, en el que interpretarán sus temas más emblemáticos bajo la dirección musical de Rubén Díez y los arreglos y el piano de José Carra. Javier Ojeda Martos (Málaga\, 1964) es cantante\, compositor\, autor\, comunicador y promotor musical malagueño. Voz de la banda Danza Invisible\, en activo desde hace 40 años\, Ojeda comienza a principios del milenio a realizar varios proyectos musicales paralelos\, tanto en solitario como en compañía de otros músicos. Es una de las grandes voces del pop español\, un cantante que mezcla la energía del pop con el croonerismo latino. \nJavier Ojeda gran comunicador y experto en música latina y negra\, ha musicado a poetas locales\, versionado clásicos\, creado una ópera latinrock sobre los recuerdos de su barrio de infancia\, Barrio de la Paz\, o cantado al vino y la música\, como en su nuevo disco «DeCantando». Escribió también la mayor monografía publicada sobre la historia del pop en Málaga. Junto a sus compañeros de Danza Invisible\, celebró este año el 40 aniversario de la banda con un documental de Joseé Antonio Hergueta llamado «A este lado de la carretera. Imprescindible». \nDry Martina (Laura Insausti\, Málaga\, 1978) es compositora\, productora\, cantante y show woman galardonada con dos premios MIN de la música independiente española por sus dos primeros álbumes ‘Momento Perfecto’ y ‘Ahora!’. Su música mezcla swing\, mambo\, rumba funk o latin jazz. Un cóctel agitado y removido que se sirve fresquito\, con toque ácido en las letras y esa aceituna de inconfundible sabor sureño. Como alguien dijo una vez “una voz de hoy para la música de siempre’. Suya es la canción ‘Málaga\, al son de la buena vida’\, protagonista de varias campañas publicitarias y banda sonora oficial de la Feria de Málaga. Laura Insausti y Javier Ojeda se conocen desde hace muchísimos años y no es la primera vez que hacen algo juntos\, de hecho Laura ha intervenido en grabaciones y conciertos de Javier y viceversa. Pero esta es una ocasión especial en la que los repertorios de ambos se mezclarán y engalanarán con la presencia de la Orquesta Sinfónica de Málaga y el piano y arreglos de José Carra. \nOrquesta Sinfónica de Málaga Fundada en 1945 por el maestro Pedro Gutiérrez Lapuente\, es una de las orquestas más antiguas de España. Sus objetivos principales son la difusión de la música y el apoyo a la formación de nuevos valores artísticos. Su actividad se ha centrado principalmente en el repertorio clásico\, aunque su oferta artística actual abarca el flamenco sinfónico\, con conciertos ofrecidos con artistas como Tomatito\, Estrella Morente\, Vicente Amigo\, David Dorantes y Manolo Sanlúcar; el pop con cantantes como Laura Pausini\, Vanesa Martín y Raphael; y la música de cine con la participación anual en el Festival de Cine Fantástico de Málaga (FANCINE) y en el Festival Internacional de Música de Cine Movie Score Málaga (MOSMA). Entre los últimos proyectos en los que ha participado destacan: la Gala de la 35º edición de los Premios Goya\, la Gala de los Premios Ópera XXI\, los festivales Starlite Festival y Tío Pepe\nFestival como orquesta sinfónica principal\, el programa de Amazon Prime Video “Escenas en Blanco y Negro” y las giras Siempre Así Sinfónico\, Raphael Sinphónico y Raphael RESinphónico. \nJosé Carra El compositor y pianista Jose Carra es uno de los pianistas más creativos de la nueva generación de músicos españoles de jazz. Su música\, fuertemente influenciada por la música clásica\, hace referencia a muchos otros estilos como el rock\, el pop\, la electrónica o la música popular. Además de sus proyectos a trío y solo\, como compositor ha realizado música para cine y teatro\, así como composiciones y arreglos para orquestas sinfónicas y grupos de cámara\, incluyendo la composición de la banda sonora «Coleccionista» Premio del Festival de Cine Fantástico de la UMA\, el arreglo y orquestación de «Huelva suena diferente» del disco de la cantaora flamenca Argentina (Sony Music Spain)\, arreglos para Big Band para “Caótico” de José Quevedo Bolita premiado con el Giraldillo de la Bienal de Flamenco de Sevilla\, arreglos para el disco de Miguel Poveda “El tiempo pasa volando”\, y orquestaciones para el disco de los Chicos del Coro de Saint Marc “Sing The Beatles” (Blanco y Negro Music). \nRubén Díez ha dirigido\, entre otras a la Orquesta de Radio Televisión Española\, la Orquesta Sinfónica de Málaga\, Orquesta Sinfónica del Vallés\, Orquesta Sinfónica de Castilla y León\, Orquesta Sinfónica de Sevilla\, Orquesta Sinfónica de Bilbao\, Orquesta Sinfónica de Córdoba\, Orquesta Nacional de Colombia\, Orquesta Filarmónica de Chile y un largo etc. en lugares como el Teatro Real\, Teatro del Liceu\, el Auditorio Nacional de México o el Carnegie Hall en Nueva York. Es “Premio del Público” en el V Concurso de dirección de orquesta de Córdoba. Dentro del género cinematográfico ha participado como pianista en cintas como “La Cumbre Escarlata” de Guillermo del Toro o “Un Monstruo viene a verme” de J. Bayona (ganadora de un Goya a la mejor BSO)\, ambas con música de Fernando Velázquez. Ha sido el director de las exitosas gira internacional “Raphael Sinphonico” y “Raphael Resinphonico”. Acaba de debutar en la Temporada de Ópera de Oviedo con el estreno absoluto de “La Dama del Alba” que contó con dirección escénica de Emilio Sagi. \n  \nPuede compartir este evento en:
URL:https://www.mientrada.net/evento/javier-ojeda-y-dry-martina-con-la-orquesta-sinfonica-de-malaga/
LOCATION:Centro Cultural MVA\, Calle Ollerías\, 33\, Málaga\, Málaga\, 29012\, España
CATEGORIES:Centro Cultural Provincial MVA,Culturama,Málaga,Música
ATTACH;FMTTYPE=image/jpeg:https://www.mientrada.net/wp-content/uploads/2022/11/22119-dry-martina-ojeda-ospm.jpg
END:VEVENT
END:VCALENDAR