BEGIN:VCALENDAR
VERSION:2.0
PRODID:-//mientrada.net - ECPv5.16.0//NONSGML v1.0//EN
CALSCALE:GREGORIAN
METHOD:PUBLISH
X-WR-CALNAME:mientrada.net
X-ORIGINAL-URL:https://www.mientrada.net
X-WR-CALDESC:Eventos para mientrada.net
REFRESH-INTERVAL;VALUE=DURATION:PT1H
X-Robots-Tag:noindex
X-PUBLISHED-TTL:PT1H
BEGIN:VTIMEZONE
TZID:Europe/Madrid
BEGIN:DAYLIGHT
TZOFFSETFROM:+0100
TZOFFSETTO:+0200
TZNAME:CEST
DTSTART:20210328T010000
END:DAYLIGHT
BEGIN:STANDARD
TZOFFSETFROM:+0200
TZOFFSETTO:+0100
TZNAME:CET
DTSTART:20211031T010000
END:STANDARD
END:VTIMEZONE
BEGIN:VEVENT
DTSTART;TZID=Europe/Madrid:20210619T200000
DTEND;TZID=Europe/Madrid:20210619T210000
DTSTAMP:20260423T234859
CREATED:20210519T082936Z
LAST-MODIFIED:20210609T174053Z
UID:8465-1624132800-1624136400@www.mientrada.net
SUMMARY:CONTROL FREAK
DESCRIPTION:Invitaciones \nDisponibles a partir del 12 de junio a las 10:00h \nCIRKORAMA \nV FESTIVAL DE CIRCO DE MÁLAGA \n  \nCONTROL FREAK \nUn personaje gracioso y conmovedor intenta interactuar con el público\, mientras lucha con su ineptitud social y con los complejos sistemas en el escenario. Finalmente logra tocar música en directo a la vez que demuestra habilidades circenses\, controla la iluminación y edita vídeo en directo.  El espectáculo combina humor inteligente y tecnología puntera: el artista lo controla prácticamente todo dentro y fuera del escenario\, a través de accesorios digitales y ordenadores en el traje del actor. Los instrumentos utilizados en el show son únicos y han sido desarrollados a lo largo de los últimos 17 años.\nEl corazón de CONTROL FREAK es una serie de elaborados arreglos musicales de composiciones atemporales: desde Bach\, Beethoven y Pachelbel a Nina Simone\, los Beatles y muchos más. Toda la música es tocada y mezclada en directo\, utilizando «Loops Stations» controladas con los pies. Divertido\, cautivador e innovador\, CONTROL FREAK es totalmente único. \n  \nFICHA ARTÍSTICA \nINTÉRPRETE: KULU ORR AUTORÍA: KULU ORR ESCENOGRAFÍA: KULU ORR MÚSICA: KULU ORR ILUMINACIÓN: KULU ORR.\nVESTUARIO: RIVKA GLAUBMAN DISTRIBUCIÓN: PROVERSUS DIRECCIÓN: KULU ORR  \nDuración 60 m \n  \n \n  \nComparte este evento en:
URL:https://www.mientrada.net/evento/control-freak/
LOCATION:Centro Cultural MVA\, Calle Ollerías\, 33\, Málaga\, Málaga\, 29012\, España
CATEGORIES:Centro Cultural Provincial MVA,Circo,Culturama,Málaga,Teatro
ATTACH;FMTTYPE=image/jpeg:https://www.mientrada.net/wp-content/uploads/2021/05/Cartel-Control-Freak.jpg
END:VEVENT
END:VCALENDAR