BEGIN:VCALENDAR
VERSION:2.0
PRODID:-//mientrada.net - ECPv5.16.0//NONSGML v1.0//EN
CALSCALE:GREGORIAN
METHOD:PUBLISH
X-WR-CALNAME:mientrada.net
X-ORIGINAL-URL:https://www.mientrada.net
X-WR-CALDESC:Eventos para mientrada.net
REFRESH-INTERVAL;VALUE=DURATION:PT1H
X-Robots-Tag:noindex
X-PUBLISHED-TTL:PT1H
BEGIN:VTIMEZONE
TZID:Europe/Madrid
BEGIN:DAYLIGHT
TZOFFSETFROM:+0100
TZOFFSETTO:+0200
TZNAME:CEST
DTSTART:20210328T010000
END:DAYLIGHT
BEGIN:STANDARD
TZOFFSETFROM:+0200
TZOFFSETTO:+0100
TZNAME:CET
DTSTART:20211031T010000
END:STANDARD
END:VTIMEZONE
BEGIN:VEVENT
DTSTART;TZID=Europe/Madrid:20210620T200000
DTEND;TZID=Europe/Madrid:20210620T210000
DTSTAMP:20260423T234900
CREATED:20210519T084943Z
LAST-MODIFIED:20210610T145907Z
UID:8471-1624219200-1624222800@www.mientrada.net
SUMMARY:LOS VIAJES DE BOWA
DESCRIPTION:Invitaciones \nDisponibles a partir del 13 de junio a las 10:00h \nCIRKORAMA \nV FESTIVAL DE CIRCO DE MÁLAGA \n  \nLos viajes de Bowa \nBowa\, nómada\, huérfana de raíces y de sueños\, un día encontró una botella a orillas del mar. En su interior halló un mensaje y algo impulsó una búsqueda hasta su destinatario. El camino fue tan rico que se convirtió casi en una obsesión. Horas de espera y kilómetros de búsqueda para hacer llegar a su destino cientos de mensajes que navegaron encerrados en el cristal brillante de alguna botella. Un mensaje le ha traído justo a este lugar\, en el que espera encontrarse con alguien que lanzó un mensaje al mar esperando que llegase de vuelta. Esa persona no aparecerá\, pero algo especial tiene este lugar\, algo familiar\, algo tan extraño para ella como el calor de un hogar. Y leerá un nuevo mensaje. Éste escrito por el mar\, ese viejo sabio\, testigo de sus hazañas y consciente de sus ausencias. Es el mar el que ha guiado sus pasos hasta allí\, es en ese lugar\, donde las alas de Bowa encontrarán tierra para anclar sus raíces.  \nFICHA ARTÍSTICA  \nAUTORA E INTÉRPRETE Elena Vives Espejo-Saavedra \nDIRECCIÓN Lucas Escobedo \nMÚSICA ORIGINAL Proyecto Voltaire \nDISEÑO DE LUCES Carlos Cremades Mendi \nESCENOGRAFÍA Y VESTUARIO La Gatera \nDURACIÓN 50 m. \n  \n \n  \nComparte este evento en:
URL:https://www.mientrada.net/evento/los-viajes-de-bowa/
LOCATION:Centro Cultural MVA\, Calle Ollerías\, 33\, Málaga\, Málaga\, 29012\, España
CATEGORIES:Centro Cultural Provincial MVA,Circo,Culturama,Málaga
ATTACH;FMTTYPE=image/jpeg:https://www.mientrada.net/wp-content/uploads/2021/05/Cartel-Viajes-de-Bowa-1.jpg
END:VEVENT
END:VCALENDAR