BEGIN:VCALENDAR
VERSION:2.0
PRODID:-//mientrada.net - ECPv5.16.0//NONSGML v1.0//EN
CALSCALE:GREGORIAN
METHOD:PUBLISH
X-WR-CALNAME:mientrada.net
X-ORIGINAL-URL:https://www.mientrada.net
X-WR-CALDESC:Eventos para mientrada.net
REFRESH-INTERVAL;VALUE=DURATION:PT1H
X-Robots-Tag:noindex
X-PUBLISHED-TTL:PT1H
BEGIN:VTIMEZONE
TZID:Europe/Madrid
BEGIN:DAYLIGHT
TZOFFSETFROM:+0100
TZOFFSETTO:+0200
TZNAME:CEST
DTSTART:20210328T010000
END:DAYLIGHT
BEGIN:STANDARD
TZOFFSETFROM:+0200
TZOFFSETTO:+0100
TZNAME:CET
DTSTART:20211031T010000
END:STANDARD
END:VTIMEZONE
BEGIN:VEVENT
DTSTART;TZID=Europe/Madrid:20210624T200000
DTEND;TZID=Europe/Madrid:20210624T210000
DTSTAMP:20260423T234859
CREATED:20210519T085935Z
LAST-MODIFIED:20210623T201047Z
UID:8475-1624564800-1624568400@www.mientrada.net
SUMMARY:SIN OJANA
DESCRIPTION:Invitaciones \nDisponibles a partir del 17 de junio a las 10:00h \nCIRKORAMA \nV FESTIVAL DE CIRCO DE MÁLAGA \n  \nSIN OJANA \nChicharrón\, último eslabón de una dinastía flamenca\, trae el carromato donde guarda la peña flamenca familiar\, en la que fusionará los ritmos y compases del flamenco con los malabares. Sin Ojana significa sin mentiras\, sin hipocresías. Esto es lo que trae Chicharrón consigo: un cante a la libertad\, un homenaje al flamenco\, a la mujer y a los devenires de la vida. Un mestizaje de arte en el que\, en su itinerancia\, entre el humor y el drama\, nos atrapará para colocar unos lunares a nuestras vidas. \nFICHA ARTÍSTICA \nAutoría e interpretación: Germán J. López Galván\nDirección: Pepa Gil \nMúsica Original: Raúl Cantizano\nEscenografía: Germán López\, Juan Manuel Sánchez\, Trebarte\, Pepeciclo\nCoreografía: Alicia Acuña\nCoproducción: Festival CIRCADA\nDistribución: a+\, Soluciones Culturales \n \nDURACIÓN 55 min.
URL:https://www.mientrada.net/evento/sin-ojana/
LOCATION:Centro Cultural MVA\, Calle Ollerías\, 33\, Málaga\, Málaga\, 29012\, España
CATEGORIES:Centro Cultural Provincial MVA,Circo,Culturama,Teatro
ATTACH;FMTTYPE=image/jpeg:https://www.mientrada.net/wp-content/uploads/2021/05/Cartel-Sin-Ojana.jpg
END:VEVENT
END:VCALENDAR