BEGIN:VCALENDAR
VERSION:2.0
PRODID:-//mientrada.net - ECPv5.16.0//NONSGML v1.0//EN
CALSCALE:GREGORIAN
METHOD:PUBLISH
X-ORIGINAL-URL:https://www.mientrada.net
X-WR-CALDESC:Eventos para mientrada.net
REFRESH-INTERVAL;VALUE=DURATION:PT1H
X-Robots-Tag:noindex
X-PUBLISHED-TTL:PT1H
BEGIN:VTIMEZONE
TZID:Europe/Madrid
BEGIN:DAYLIGHT
TZOFFSETFROM:+0100
TZOFFSETTO:+0200
TZNAME:CEST
DTSTART:20210328T010000
END:DAYLIGHT
BEGIN:STANDARD
TZOFFSETFROM:+0200
TZOFFSETTO:+0100
TZNAME:CET
DTSTART:20211031T010000
END:STANDARD
END:VTIMEZONE
BEGIN:VEVENT
DTSTART;TZID=Europe/Madrid:20210626T200000
DTEND;TZID=Europe/Madrid:20210626T210000
DTSTAMP:20260423T235217
CREATED:20210519T091453Z
LAST-MODIFIED:20210616T152746Z
UID:8486-1624737600-1624741200@www.mientrada.net
SUMMARY:GALA CIRCO
DESCRIPTION:Invitaciones \nDisponibles a partir del 19 de junio a las 10:00h \nCIRKORAMA \nV FESTIVAL DE CIRCO DE MÁLAGA \n 
URL:https://www.mientrada.net/evento/gala-circo/
LOCATION:Centro Cultural MVA\, Calle Ollerías\, 33\, Málaga\, Málaga\, 29012\, España
CATEGORIES:Centro Cultural Provincial MVA,Circo,Culturama,Málaga,Teatro
ATTACH;FMTTYPE=image/jpeg:https://www.mientrada.net/wp-content/uploads/2021/05/Cartel-Gala-de-Circo.jpg
END:VEVENT
END:VCALENDAR