BEGIN:VCALENDAR
VERSION:2.0
PRODID:-//mientrada.net - ECPv5.16.0//NONSGML v1.0//EN
CALSCALE:GREGORIAN
METHOD:PUBLISH
X-ORIGINAL-URL:https://www.mientrada.net
X-WR-CALDESC:Eventos para mientrada.net
REFRESH-INTERVAL;VALUE=DURATION:PT1H
X-Robots-Tag:noindex
X-PUBLISHED-TTL:PT1H
BEGIN:VTIMEZONE
TZID:Europe/Madrid
BEGIN:DAYLIGHT
TZOFFSETFROM:+0100
TZOFFSETTO:+0200
TZNAME:CEST
DTSTART:20210328T010000
END:DAYLIGHT
BEGIN:STANDARD
TZOFFSETFROM:+0200
TZOFFSETTO:+0100
TZNAME:CET
DTSTART:20211031T010000
END:STANDARD
END:VTIMEZONE
BEGIN:VEVENT
DTSTART;TZID=Europe/Madrid:20210627T123000
DTEND;TZID=Europe/Madrid:20210627T133000
DTSTAMP:20260423T235216
CREATED:20210617T180331Z
LAST-MODIFIED:20210912T130540Z
UID:8842-1624797000-1624800600@www.mientrada.net
SUMMARY:JOPMA - Concierto homenaje a los donantes de órganos
DESCRIPTION:Reserva de entradas: a partir de las 10:00h. del 20/06/2021. \n  \nJoven Orquesta Provincial de Málaga \nDirector titular: Juan Paulo Gómez Hurtado\nDirectores invitados: Francisco Fernández Salado\, José Alberto Mancera Martínez \n  \nPROGRAMA \n\nSinfonía nº 31 en Re mayor\, KW 297 (300a) París\, WOLFGANG AMADEUS MOZART\nSuite checa\, Op. 39 (Furiant)\, ANTONIN DVORAK\nEl Cid (Música de Ballet)\, JULES MASSENET\nDanza del fuego (Benamor)\, PABLO LUNA\nIntermedio (La boda de Luis Alonso)\, GERÓNIMO GIMÉNEZ\n\n  \n \n  \nNORMAS DE OBLIGADO CUMPLIMIENTO: \n\nPor cuestiones de seguridad\, no se encuentran disponibles algunos asientos. Una vez haya ocupado su butaca\, por favor\, no cambie de asiento.\nObligatorio el uso correcto de la mascarilla (cubriendo nariz y boca) en todo el recinto.\nSi una vez sacada la entrada no puede acudir al espectáculo\, por favor comuníquelo por correo (cultura@malaga.es) o por teléfono (952133950).\nEntrada solo con invitación. No acudir al teatro si no dispone de ella.\n\n  \nComparte este evento en:
URL:https://www.mientrada.net/evento/homenaje-a-los-donantes-de-organos/
LOCATION:Centro Cultural MVA\, Calle Ollerías\, 33\, Málaga\, Málaga\, 29012\, España
CATEGORIES:Centro Cultural Provincial MVA,Concierto,Culturama,Málaga
ATTACH;FMTTYPE=image/jpeg:https://www.mientrada.net/wp-content/uploads/2021/06/Cartel-Homenaje-donantes.jpg
END:VEVENT
END:VCALENDAR