BEGIN:VCALENDAR
VERSION:2.0
PRODID:-//mientrada.net - ECPv5.16.0//NONSGML v1.0//EN
CALSCALE:GREGORIAN
METHOD:PUBLISH
X-WR-CALNAME:mientrada.net
X-ORIGINAL-URL:https://www.mientrada.net
X-WR-CALDESC:Eventos para mientrada.net
REFRESH-INTERVAL;VALUE=DURATION:PT1H
X-Robots-Tag:noindex
X-PUBLISHED-TTL:PT1H
BEGIN:VTIMEZONE
TZID:Europe/Madrid
BEGIN:DAYLIGHT
TZOFFSETFROM:+0100
TZOFFSETTO:+0200
TZNAME:CEST
DTSTART:20210328T010000
END:DAYLIGHT
BEGIN:STANDARD
TZOFFSETFROM:+0200
TZOFFSETTO:+0100
TZNAME:CET
DTSTART:20211031T010000
END:STANDARD
END:VTIMEZONE
BEGIN:VEVENT
DTSTART;TZID=Europe/Madrid:20210922T200000
DTEND;TZID=Europe/Madrid:20210922T210000
DTSTAMP:20260423T032831
CREATED:20210907T145233Z
LAST-MODIFIED:20210917T114947Z
UID:9747-1632340800-1632344400@www.mientrada.net
SUMMARY:III OTOÑO MIGUEL ROMERO ESTEO / 2021
DESCRIPTION:Presentación de la programación del otoño MRE 2021. \nPresentación de «SÓNICO»: cuaderno de composiciones musicales de y para Romero Esteo. \nAlgarabía escénica: creación y dirección escénica de Angélica Gómez \nEntrada con invitación hasta completar aforo. \n  \n \n  \nNORMAS DE OBLIGADO CUMPLIMIENTO: \n\nPor favor\, siga en todo momento las indicaciones higienico-sanitarias dadas por el personal de la sala.\nObligatorio el uso correcto de la mascarilla (cubriendo nariz y boca) en todo el recinto.\nSi una vez sacada la entrada no puede acudir al espectáculo\, por favor comuníquelo por correo (cultura@malaga.es) o por teléfono (952133950).\nEntrada solo con invitación. No acudir al teatro si no dispone de ella.\n\n  \nComparte este evento en:
URL:https://www.mientrada.net/evento/otono-miguel-romero-esteo-2021/
LOCATION:Centro Cultural MVA\, Calle Ollerías\, 33\, Málaga\, Málaga\, 29012\, España
CATEGORIES:Centro Cultural Provincial MVA,Culturama,Málaga,Música
ATTACH;FMTTYPE=image/jpeg:https://www.mientrada.net/wp-content/uploads/2021/09/20210922.-V.-Actividad-Programada-scaled.jpg
END:VEVENT
END:VCALENDAR