BEGIN:VCALENDAR
VERSION:2.0
PRODID:-//mientrada.net - ECPv5.16.0//NONSGML v1.0//EN
CALSCALE:GREGORIAN
METHOD:PUBLISH
X-WR-CALNAME:mientrada.net
X-ORIGINAL-URL:https://www.mientrada.net
X-WR-CALDESC:Eventos para mientrada.net
REFRESH-INTERVAL;VALUE=DURATION:PT1H
X-Robots-Tag:noindex
X-PUBLISHED-TTL:PT1H
BEGIN:VTIMEZONE
TZID:Europe/Madrid
BEGIN:DAYLIGHT
TZOFFSETFROM:+0100
TZOFFSETTO:+0200
TZNAME:CEST
DTSTART:20210328T010000
END:DAYLIGHT
BEGIN:STANDARD
TZOFFSETFROM:+0200
TZOFFSETTO:+0100
TZNAME:CET
DTSTART:20211031T010000
END:STANDARD
END:VTIMEZONE
BEGIN:VEVENT
DTSTART;TZID=Europe/Madrid:20211112T200000
DTEND;TZID=Europe/Madrid:20211112T210500
DTSTAMP:20260422T211923
CREATED:20210907T145233Z
LAST-MODIFIED:20211107T225704Z
UID:9599-1636747200-1636751100@www.mientrada.net
SUMMARY:HOY PUEDE SER MI GRAN NOCHE
DESCRIPTION:ESCENIK\nTeatro en vilo.\nEntrada con invitación hasta completar aforo. Público adulto. \n  \nEs una fiesta teatral\, un pieza cómica y musical\, un ejercicio de autoficción que cuenta la fascinante historia de un cantante de orquesta en la Galicia de los 90 y su hijas\, cuya máxima aspiración es ser como su padre. En este espectáculo una actriz y su hermana músico en escena se despliegan en múltiples voces para hacer un emocionante viaje al pasado\, a un mundo cargado de exotismo con el fin de entender esa extraña amalgama que resulta de lo que un día quisimos ser y lo que somos. Esta es una obra divertida\, valiente y profunda\, una celebración de lo que ya no está\, lo que pudo ser y no fue\, un canto a los perdedores\, a los que nunca dejan de esperar su momento. \nINTÉRPRETES: NOEMI RODRÍGUEZ Y DARLENE RODRÍGUEZ \nTEXTO: NOEMI RODRÍGUEZ \nASESORÍA DRAMATÚRGICA: EVA REDONDO \nESCENOGRAFÍA: MÓNICA BORROMELLO \nAYUDANTE DE ESCENOGRAFÍA: JIMENA EICHELBAUM \nVESTUARIO: PAOLA DE DIEGO\, SIGRID BLANCO Y CANDELA IVÁÑEZ \nCOREOGRAFÍA: AMAYA GALEOTE \nILUMINACIÓN: MIGUEL RUZ \nMÚSICA: LISE BELPERRON \nESPACIO SONORO: NACHO BILBAO \nVÍDEO: RO GOTELÉ \nFOTOGRAFÍA: DANILO MORONI \nPRENSA: MARÍA DÍAZ \nDISTRIBUCIÓN: PROVERSUS \nPRODUCCIÓN: TEATRO EN VILO AYTE \nDIRECCIÓN: MACARENA SANZ \nDIRECCIÓN: ANDREA JIMÉNEZ \nDURACIÓN 70 m \n \n  \nComparte este evento en:
URL:https://www.mientrada.net/evento/hoy-puede-ser-mi-gran-noche/
LOCATION:Centro Cultural MVA\, Calle Ollerías\, 33\, Málaga\, Málaga\, 29012\, España
CATEGORIES:Centro Cultural Provincial MVA,Culturama,Málaga,Teatro
ATTACH;FMTTYPE=image/jpeg:https://www.mientrada.net/wp-content/uploads/2021/09/cartel-TEATRO-hoy-puede-ser-mi-gran-noche-ESOK.jpg
END:VEVENT
END:VCALENDAR