BEGIN:VCALENDAR
VERSION:2.0
PRODID:-//mientrada.net - ECPv5.16.0//NONSGML v1.0//EN
CALSCALE:GREGORIAN
METHOD:PUBLISH
X-ORIGINAL-URL:https://www.mientrada.net
X-WR-CALDESC:Eventos para mientrada.net
REFRESH-INTERVAL;VALUE=DURATION:PT1H
X-Robots-Tag:noindex
X-PUBLISHED-TTL:PT1H
BEGIN:VTIMEZONE
TZID:Europe/Madrid
BEGIN:DAYLIGHT
TZOFFSETFROM:+0100
TZOFFSETTO:+0200
TZNAME:CEST
DTSTART:20210328T010000
END:DAYLIGHT
BEGIN:STANDARD
TZOFFSETFROM:+0200
TZOFFSETTO:+0100
TZNAME:CET
DTSTART:20211031T010000
END:STANDARD
END:VTIMEZONE
BEGIN:VEVENT
DTSTART;TZID=Europe/Madrid:20211217T190000
DTEND;TZID=Europe/Madrid:20211217T200000
DTSTAMP:20260422T200254
CREATED:20210907T145233Z
LAST-MODIFIED:20211212T221644Z
UID:9615-1639767600-1639771200@www.mientrada.net
SUMMARY:HANSEL Y GRETEL
DESCRIPTION:Acuario teatro. \nEntrada con invitación hasta completar aforo. A partir de 5 años. \n  \nUn leñador y su mujer deciden abandonar a sus dos hijos\, pues no tienen trabajo ni nada que darles de comer. El padre los lleva al bosque\, pero Hansel\, que ha oído la conversación\, es precavido y arroja migajas de pan por el camino para poder volver. Sin embargo los pájaros se han comido las migajas. Se encuentran perdidos en el bosque y de pronto\, para su sorpresa\, descubren una casita hecha de tejas de nata\, paredes de chocolate y cristales de caramelo. Una extraña mujer los invita a pasar y ellos se sienten felices\, pero se trata de una malvada bruja que los encierra y alimenta sin parar con el único fin de comérselos. Hansel y Gretel tendrán que utilizar su ingenio para poder escapar. \nFICHA ARTÍSTICA \nActores: Cynthia García\, Arantxa Catalá\, Gari Lariz\, Manuel Villén\nTécnico de luz y sonido: Daniel Ruiz\nEscenografía: Acuario Teatro y Julián Camós\nAtrezo y vestuario: Álvaro J. Vílchez\, Pedro Vez y Acuario Teatro\nMúsica original: Patricia Quiroga y Antonio Meliveo\nArreglos: Manolo Toro y Antonio Meliveo\nLetras: Marta Guzmán\nEstudio de grabación: Línea Azul\nIngeniero de sonido: Antonio Meliveo\nCoreografías: Acuario Teatro\nDiseño de iluminación y efectos especiales: Equipo La Bujía\nFotografía: Rocío Berrobianco\nVídeo: Tecnomediatv\nAdaptación y Dirección: Marta y Diego Guzmán\nProducción: Acuario TeatroGepeto Prod \nDURACIÓN 60 m \n \n  \nComparte este evento en:
URL:https://www.mientrada.net/evento/hansel-y-gretel/
LOCATION:Centro Cultural MVA\, Calle Ollerías\, 33\, Málaga\, Málaga\, 29012\, España
CATEGORIES:Centro Cultural Provincial MVA,Culturama,Danza,Familiar,Málaga,Teatro
ATTACH;FMTTYPE=image/jpeg:https://www.mientrada.net/wp-content/uploads/2021/09/CARTEL-HANSEL-Y-GRETEL-17-DIC.jpg
END:VEVENT
END:VCALENDAR