BEGIN:VCALENDAR
VERSION:2.0
PRODID:-//mientrada.net - ECPv5.16.0//NONSGML v1.0//EN
CALSCALE:GREGORIAN
METHOD:PUBLISH
X-WR-CALNAME:mientrada.net
X-ORIGINAL-URL:https://www.mientrada.net
X-WR-CALDESC:Eventos para mientrada.net
REFRESH-INTERVAL;VALUE=DURATION:PT1H
X-Robots-Tag:noindex
X-PUBLISHED-TTL:PT1H
BEGIN:VTIMEZONE
TZID:Europe/Madrid
BEGIN:DAYLIGHT
TZOFFSETFROM:+0100
TZOFFSETTO:+0200
TZNAME:CEST
DTSTART:20210328T010000
END:DAYLIGHT
BEGIN:STANDARD
TZOFFSETFROM:+0200
TZOFFSETTO:+0100
TZNAME:CET
DTSTART:20211031T010000
END:STANDARD
END:VTIMEZONE
BEGIN:VEVENT
DTSTART;TZID=Europe/Madrid:20211218T123000
DTEND;TZID=Europe/Madrid:20211218T132500
DTSTAMP:20260422T200137
CREATED:20210907T145233Z
LAST-MODIFIED:20211212T221510Z
UID:9619-1639830600-1639833900@www.mientrada.net
SUMMARY:MUSEUM
DESCRIPTION:La líquida teatro. \nEntrada con invitación hasta completar aforo. A partir de 6 años. \n  \nUn espectáculo divertido y didáctico para niños y niñas. Un maravilloso viaje que recorre la historia del arte de la mano de los grandes maestros: Picasso\, Van Gogh\, Velázquez\, Miguel Ángel\, Da Vinci… y las grandes maestras\, por supuesto: Tamara de Lempika\, Sofonisba Anguissola\, Frida Kahlo… \nTeatro de actores\, objetos\, títeres y proyecciones manipuladas en directo. \nEl arte universal es la excusa perfecta para estimular la comunicación\, la creatividad\, la percepción\, la sensibilidad y la expresión. ¡Y todo con una sonrisa! \nUna experiencia teatral que apuesta por la cercanía\, la interacción y el humor para contar esta sorprendente y original visita al “Museum”\, y así pequeños y mayores disfruten\, aprendan y se emocionen con el arte y el teatro. \nFicha artística: \nEn escena: Susana Almahano y Pape Labraca\nAutor y Dirección: David García-Intriago.\nVestuario: Maribel Fernández y Mari Carmen Martín.\nProducción y distribución: La Líquida. \nDuración 55 m. \n  \n \n  \nComparte este evento en:
URL:https://www.mientrada.net/evento/museum/
LOCATION:Centro Cultural MVA\, Calle Ollerías\, 33\, Málaga\, Málaga\, 29012\, España
CATEGORIES:Centro Cultural Provincial MVA,Culturama,Danza,Familiar,Málaga,Teatro
ATTACH;FMTTYPE=image/jpeg:https://www.mientrada.net/wp-content/uploads/2021/09/CARTEL-MUSEUM-18-DIC.jpg
END:VEVENT
END:VCALENDAR