BEGIN:VCALENDAR
VERSION:2.0
PRODID:-//mientrada.net - ECPv5.16.0//NONSGML v1.0//EN
CALSCALE:GREGORIAN
METHOD:PUBLISH
X-WR-CALNAME:mientrada.net
X-ORIGINAL-URL:https://www.mientrada.net
X-WR-CALDESC:Eventos para mientrada.net
REFRESH-INTERVAL;VALUE=DURATION:PT1H
X-Robots-Tag:noindex
X-PUBLISHED-TTL:PT1H
BEGIN:VTIMEZONE
TZID:Europe/Madrid
BEGIN:DAYLIGHT
TZOFFSETFROM:+0100
TZOFFSETTO:+0200
TZNAME:CEST
DTSTART:20210328T010000
END:DAYLIGHT
BEGIN:STANDARD
TZOFFSETFROM:+0200
TZOFFSETTO:+0100
TZNAME:CET
DTSTART:20211031T010000
END:STANDARD
END:VTIMEZONE
BEGIN:VEVENT
DTSTART;TZID=Europe/Madrid:20211221T190000
DTEND;TZID=Europe/Madrid:20211221T195000
DTSTAMP:20260422T200116
CREATED:20210907T145233Z
LAST-MODIFIED:20211216T181058Z
UID:9623-1640113200-1640116200@www.mientrada.net
SUMMARY:LAS COTTON
DESCRIPTION:Disponible a partir del viernes 17 de diciembre a las 10:00h \nCICLO ESCENIK\nAnita Maravillas & Portal 21 \nEntrada con invitación hasta completar aforo. A partir de 5 años. \nDejando atrás los peligros de su pueblo natal\, la familia Cotton se dirige a la ciudad en busca de nuevas vidas y oportunidades. Entre los tejados y las luces de la ciudad\, entre las telas\, los hilos y las máquinas de la fábrica\, la madre y sus dos hijas vivirán nuevas aventuras y peligros desconocidos. Pero esta vez no están solas y se lanzarán con fuerza al deseo de ser felices. \n  \nFicha artística: \n\nIdea Original: Miren Larrea\nDirección: Iván Alonso\nIntérpretes: Miren Larrea/ Valentina Raposo/ Maren Basterretxea\nMúsica Original y Versiones: Fran Lasuen\nLetra Canciones: Miren Amuriza\nDiseño de Iluminación: Ion Chávez\nEscenografía: Iñaki Ziarrusta (Atx Teatroa)\nDiseño de Vestuario: Betitxe Saltua\nConstrucción de Títeres: Valentina Raposo\nAtrezzo: Jabi Tirado\nRegistro Audiovisual: Itxaso Díaz\nCartel/Programa de Mano: Maite Gurrutxaga\nFotógrafo: Txelu Angoitia\nProducción Ejecutiva: Ainhoa Bernaola\nProducción: Iratxe Extremiana\n\n  \nDuración: 50 m. \n  \n \n  \nComparte este evento en:
URL:https://www.mientrada.net/evento/las-cotton/
LOCATION:Centro Cultural MVA\, Calle Ollerías\, 33\, Málaga\, Málaga\, 29012\, España
CATEGORIES:Centro Cultural Provincial MVA,Culturama,Danza,Familiar,Málaga,Teatro
ATTACH;FMTTYPE=image/jpeg:https://www.mientrada.net/wp-content/uploads/2021/09/CARTEL-LAS-COTTON-21DIC.jpg
END:VEVENT
END:VCALENDAR