BEGIN:VCALENDAR
VERSION:2.0
PRODID:-//mientrada.net - ECPv5.16.0//NONSGML v1.0//EN
CALSCALE:GREGORIAN
METHOD:PUBLISH
X-ORIGINAL-URL:https://www.mientrada.net
X-WR-CALDESC:Eventos para mientrada.net
REFRESH-INTERVAL;VALUE=DURATION:PT1H
X-Robots-Tag:noindex
X-PUBLISHED-TTL:PT1H
BEGIN:VTIMEZONE
TZID:Europe/Madrid
BEGIN:DAYLIGHT
TZOFFSETFROM:+0100
TZOFFSETTO:+0200
TZNAME:CEST
DTSTART:20220327T010000
END:DAYLIGHT
BEGIN:STANDARD
TZOFFSETFROM:+0200
TZOFFSETTO:+0100
TZNAME:CET
DTSTART:20221030T010000
END:STANDARD
END:VTIMEZONE
BEGIN:VEVENT
DTSTART;TZID=Europe/Madrid:20220204T203000
DTEND;TZID=Europe/Madrid:20220204T213000
DTSTAMP:20260422T140756
CREATED:20220121T143253Z
LAST-MODIFIED:20220129T194553Z
UID:10809-1644006600-1644010200@www.mientrada.net
SUMMARY:Moonlight Serenade
DESCRIPTION:Disponible a partir del lunes 31 de enero a las 10:00h. \n  \nESCENIK\nMOONLIGHT SERENADE\nDivinas \nUn cabaret lunático y existencialista.\nUn cabaret divertido y absurdo\nUn cabaret único y reivindicativo.\nUn cabaret poético y mágico.\nUn cabaret que en estos tiempos que corren\, reclama calma y contemplación.\nUn cabaret surrealista\, porque en la Luna todo es al revés de como funciona aquí.\nUn cabaret donde las tres Divinas regresan a los escenarios y hacen lo que más les gusta: cantar\, bailar\, emocionar y divertir a la audiencia.\nVosotros ponéis la noche. Divinas ponen las estrellas y una serenata a la luz de la Luna para dar gracias y seguir disfrutando y reivindicando\nFICHA ARTÍSTICA\nDIVINAS – voces\, percusión\, claqué\, ondes\, ukelele\,…\nSoprano – Carla Móra\nMezzosoprano – Irene Ruiz\nContralto – Marta Móra \nClarinete\, saxo\, washboard\, ukelele\, ondes – Juli Aymí\nPiano\, teclados\, glockenspiel – Federico Mazzanti\nIdea original – Divinas & Martí Torras Mayneris\nProducción ejecutiva – Divinas \nDramaturgia & dirección escénica – Martí Torras Mayneris\nDirección y producción musical\, arreglos vocales & efectos sonoros – Irene Ruiz\nArreglos instrumentales – Federico Mazzanti\, Juli Aymí\, Gabriel Amargant\, Bernat Font\, Ivan Kovacevic\, Irene Ruiz\nCoach percusión – Lluís Molas\nBatería en “Fly me to the moon” – Martí Elías\nCreación & dirección coreográfica – Carla Móra\nCoreografía claqué – Marta Móra\nAsesoría de imagen\, diseño de vestuario\, maquillaje & peluquería – Glòria Duran\nProducción de vestuario – Glòria Duran\, Divinas & Pili Domínguez\nDiseño de escenografía – Martí Torras Mayneris\nConstrucción de escenografía – La Forja Del Vallès\, Enric Ruiz\, Toni Castro\nDiseño de sonido – Pere Albiñana (Sclat!)\nDiseño de iluminación – Martí Torras Mayneris & Toni Castro\nFotografía luna – Manuel Tejado\nFotografía cartel – David Ruano\nFotografías directo – Tania Palomeque\nVídeo – Mar Orfila\nDistribución – Alba Espinasa \nDuración 75 min \n \n  \nNORMAS DE OBLIGADO CUMPLIMIENTO: \n\nPor favor\, siga en todo momento las indicaciones higienico-sanitarias dadas por el personal de la sala.\nObligatorio el uso correcto de la mascarilla (cubriendo nariz y boca) en todo el recinto.\nSi una vez sacada la entrada no puede acudir al espectáculo\, por favor comuníquelo por correo (cultura@malaga.es) o por teléfono (952133950).\nEntrada solo con invitación. No acudir al teatro si no dispone de ella.\n\n  \nPuede compartir este evento en:
URL:https://www.mientrada.net/evento/moonlight-serenade/
LOCATION:Centro Cultural MVA\, Calle Ollerías\, 33\, Málaga\, Málaga\, 29012\, España
CATEGORIES:Centro Cultural Provincial MVA,Culturama,Málaga,Teatro
ATTACH;FMTTYPE=image/jpeg:https://www.mientrada.net/wp-content/uploads/2022/01/Cartel-Moonlight-Serenade.jpg
END:VEVENT
END:VCALENDAR