BEGIN:VCALENDAR
VERSION:2.0
PRODID:-//mientrada.net - ECPv5.16.0//NONSGML v1.0//EN
CALSCALE:GREGORIAN
METHOD:PUBLISH
X-ORIGINAL-URL:https://www.mientrada.net
X-WR-CALDESC:Eventos para mientrada.net
REFRESH-INTERVAL;VALUE=DURATION:PT1H
X-Robots-Tag:noindex
X-PUBLISHED-TTL:PT1H
BEGIN:VTIMEZONE
TZID:Europe/Madrid
BEGIN:DAYLIGHT
TZOFFSETFROM:+0100
TZOFFSETTO:+0200
TZNAME:CEST
DTSTART:20220327T010000
END:DAYLIGHT
BEGIN:STANDARD
TZOFFSETFROM:+0200
TZOFFSETTO:+0100
TZNAME:CET
DTSTART:20221030T010000
END:STANDARD
END:VTIMEZONE
BEGIN:VEVENT
DTSTART;TZID=Europe/Madrid:20220303T203000
DTEND;TZID=Europe/Madrid:20220303T213000
DTSTAMP:20260422T140831
CREATED:20210907T145233Z
LAST-MODIFIED:20220227T211354Z
UID:10650-1646339400-1646343000@www.mientrada.net
SUMMARY:David Kikoski & Bobby Broom Quintet
DESCRIPTION:Disponible a partir del 28 de febrero a las 10:00h \nFESTIVAL DE JAZZ MVA.\n \n  \nDAVID KIKOSKI. \nNacido en New Brunswick\, Nueva Jersey. Kikoski aprendió a tocar el piano con su padre. Estudió en Berklee College of Music a principios de la década de 1980\, luego se mudó a la ciudad de Nueva York en 1985\, realizó diversas giras y\, posteriormente\, grabó con Roy Haynes (desde 1986)\, Randy Brecker (1986-88)\, Bob Berg (1988) y Billy Hart ( 1989). También ha tocado o grabado con George Garzone\, Barry Finnerty\, Red Rodney\, Craig Handy\, Ralph Moore\, Didier Lockwood\, Joe Locke\, Olivier Ker Ourio y Mingus Big Band. Kikoski ganó un premio Grammy en 2011 con la Mingus Big Band al Mejor Álbum de Ensamble de Jazz en Vivo\, ‘Live at the Jazz Standard’. También tuvo una nominación al Grammy con Roy Haynes por el CD ‘Birds of a Feather’. Kikoski tiene una amplia discografía como líder y ha realizado giras por todo el mundo en los mejores Festivales de Jazz. \n  \nBOBBY BROOM. \nBroom comenzó a tocar la guitarra a la edad de 13 años\, pero no le interesó el jazz hasta que escuchó a Grover Washington Jr. y George Benson. Los estudios de Broom ampliaron sus intereses y también aprendió a tocar el bajo\, pero fue el linaje de la guitarra de jazz lo que más le llamó la atención. Alejándose de las influencias del rock y la fusión de los años 70\, se concentró en la herencia guitarrística de músicos como Wes Montgomery y Grant Green. Broom estudió durante un año en Berklee College Of Music\, luego regresó a Nueva York\, donde se le ofreció la oportunidad de trabajar con el trompetista de jazz-funk Tom Browne y también con Jazz Messengers\, de Art Blakey. A principios de los 80 estuvo con Sonny Rollins y luego tocó con Kenny Burrell y Miles Davis. En los 90 y el nuevo milenio\, Broom siguió siendo muy solicitado\, su estilo y gustos eclécticos le han permitido trabajar en muchos géneros y siempre con éxito. \n  \nDavid Kikoski & Bobby Broom Quintet son: \n\nDavid Kikoski: Piano\n Bobby Broom: Guitarra\n Daniel Torres: Saxo\n João Pereira: Batería\n Romeu Tristão: Contrabajo\n\n  \n \n  \nComparte este evento en:
URL:https://www.mientrada.net/evento/david-kikoski-bobby-broom-quintet/
LOCATION:Centro Cultural MVA\, Calle Ollerías\, 33\, Málaga\, Málaga\, 29012\, España
CATEGORIES:Centro Cultural Provincial MVA,Culturama,Danza,Jazz,Málaga,Música
ATTACH;FMTTYPE=image/jpeg:https://www.mientrada.net/wp-content/uploads/2021/09/Cartel-Kikoski-Broom.jpg
END:VEVENT
END:VCALENDAR