BEGIN:VCALENDAR
VERSION:2.0
PRODID:-//mientrada.net - ECPv5.16.0//NONSGML v1.0//EN
CALSCALE:GREGORIAN
METHOD:PUBLISH
X-ORIGINAL-URL:https://www.mientrada.net
X-WR-CALDESC:Eventos para mientrada.net
REFRESH-INTERVAL;VALUE=DURATION:PT1H
X-Robots-Tag:noindex
X-PUBLISHED-TTL:PT1H
BEGIN:VTIMEZONE
TZID:Europe/Madrid
BEGIN:DAYLIGHT
TZOFFSETFROM:+0100
TZOFFSETTO:+0200
TZNAME:CEST
DTSTART:20220327T010000
END:DAYLIGHT
BEGIN:STANDARD
TZOFFSETFROM:+0200
TZOFFSETTO:+0100
TZNAME:CET
DTSTART:20221030T010000
END:STANDARD
END:VTIMEZONE
BEGIN:VEVENT
DTSTART;TZID=Europe/Madrid:20220311T203000
DTEND;TZID=Europe/Madrid:20220311T215000
DTSTAMP:20260422T140832
CREATED:20220121T143253Z
LAST-MODIFIED:20220309T133351Z
UID:10832-1647030600-1647035400@www.mientrada.net
SUMMARY:Chicas y Chicos
DESCRIPTION:¡NUEVAS ENTRADAS DISPONIBLES! \nESCENIK.\nEl Sol de York. \nElla es divertida y audaz. Una mujer que podría ser cualquiera. Con un marido\, una hija pequeña que se pasa el día construyendo cosas y un hijo menor que las destruye. Se ha enfrentado a los techos de cristal\, a un trabajo al que no estaba destinada\, a la conciliación\, a sentirse mala madre y a las pequeñas derrotas y victorias de la vida de cualquier mujer. \nPero las cosas no son como parecen. Y eso va a cambiarlo todo. Para siempre. \n  \nEquipo artístico y técnico: \n\nAutor: Dennis Kelly\nDirección: Lucía Miranda\nReparto: Antonia Paso\nEscenografía: Anna Tusell\nSonido: Irene Maquieira\nIluminación: Pedro Yagüe\nProducción: Javier Ortiz\nDistribución: Crémilo\nDiseño Cartel: Paula Bonet\nPrensa: María Díaz\nFotografía: Alejandra Duarte\n\nDuración 80 min \n  \n \n  \nNORMAS DE OBLIGADO CUMPLIMIENTO: \n\nPor favor\, siga en todo momento las indicaciones higienico-sanitarias dadas por el personal de la sala.\nObligatorio el uso correcto de la mascarilla (cubriendo nariz y boca) en todo el recinto.\nSi una vez sacada la entrada no puede acudir al espectáculo\, por favor comuníquelo por correo (cultura@malaga.es) o por teléfono (952133950).\nEntrada solo con invitación. No acudir al teatro si no dispone de ella.\n\n  \nPuede compartir este evento en:
URL:https://www.mientrada.net/evento/chicas-y-chicos/
LOCATION:Centro Cultural MVA\, Calle Ollerías\, 33\, Málaga\, Málaga\, 29012\, España
CATEGORIES:Centro Cultural Provincial MVA,Culturama,Málaga,Teatro
ATTACH;FMTTYPE=image/jpeg:https://www.mientrada.net/wp-content/uploads/2022/01/Cartel-Chicas-y-Chicos.jpg
END:VEVENT
END:VCALENDAR