BEGIN:VCALENDAR
VERSION:2.0
PRODID:-//mientrada.net - ECPv5.16.0//NONSGML v1.0//EN
CALSCALE:GREGORIAN
METHOD:PUBLISH
X-WR-CALNAME:mientrada.net
X-ORIGINAL-URL:https://www.mientrada.net
X-WR-CALDESC:Eventos para mientrada.net
REFRESH-INTERVAL;VALUE=DURATION:PT1H
X-Robots-Tag:noindex
X-PUBLISHED-TTL:PT1H
BEGIN:VTIMEZONE
TZID:Europe/Madrid
BEGIN:DAYLIGHT
TZOFFSETFROM:+0100
TZOFFSETTO:+0200
TZNAME:CEST
DTSTART:20220327T010000
END:DAYLIGHT
BEGIN:STANDARD
TZOFFSETFROM:+0200
TZOFFSETTO:+0100
TZNAME:CET
DTSTART:20221030T010000
END:STANDARD
END:VTIMEZONE
BEGIN:VEVENT
DTSTART;TZID=Europe/Madrid:20220401T203000
DTEND;TZID=Europe/Madrid:20220401T220000
DTSTAMP:20260422T040319
CREATED:20220121T143253Z
LAST-MODIFIED:20220323T131652Z
UID:10838-1648845000-1648850400@www.mientrada.net
SUMMARY:El premio
DESCRIPTION:Disponible a partir del lunes 28 de MARZO a las 10:00h. \nLa Quintana Teatro. \nEs una comedia ácida que habla de la situación de las personas dentro de un futuro próximo en el que el progreso tecnológico y la lucha hacia el éxito económico\, sentimental y social fuera tal\, que se vieron obligadas a caer en El Premio como única fórmula de conseguir la felicidad. \nEl Premio es un reallity en directo donde el público vota a quien merece llevarse el premio de su vida: Morir logrando la fama. Todo por un sueño. \n  \nFICHA ARTÍSTICA: \n\nDirectora: Marián Bañobre\nDramaturgia: Santiago Cortegoso\nActores: Victoria Teijeiro\, Raquel Espada/Lidia Veiga\, Xurxo Cortázar\nCreación: Colectiva\nEscenografía y vestuario: Marisa de Laiglesia\nDiseño de luces: Javier Quintana\nTécnico de luces: Anxo Outumuro\nVideo: Lucía Estévez\nCreación sonora: José Luis Fraga\nProducción: La Quintana Teatro\, Escenate y Zeena Producciones\nCoproducción: Centro Dramático Galego y Ayuntamiento de Madrid\nDistribución: Kandengue Arts\n\n  \nDuración: 90 m \n  \n \n  \nNORMAS DE OBLIGADO CUMPLIMIENTO: \n\nPor favor\, siga en todo momento las indicaciones higienico-sanitarias dadas por el personal de la sala.\nObligatorio el uso correcto de la mascarilla (cubriendo nariz y boca) en todo el recinto.\nSi una vez sacada la entrada no puede acudir al espectáculo\, por favor comuníquelo por correo (cultura@malaga.es) o por teléfono (952133950).\nEntrada solo con invitación. No acudir al teatro si no dispone de ella.\n\n  \nPuede compartir este evento en:
URL:https://www.mientrada.net/evento/el-premio/
LOCATION:Centro Cultural MVA\, Calle Ollerías\, 33\, Málaga\, Málaga\, 29012\, España
CATEGORIES:Centro Cultural Provincial MVA,Culturama,Málaga,Teatro
ATTACH;FMTTYPE=image/jpeg:https://www.mientrada.net/wp-content/uploads/2022/01/Cartel-El-premio.jpg
END:VEVENT
END:VCALENDAR