BEGIN:VCALENDAR
VERSION:2.0
PRODID:-//mientrada.net - ECPv5.16.0//NONSGML v1.0//EN
CALSCALE:GREGORIAN
METHOD:PUBLISH
X-ORIGINAL-URL:https://www.mientrada.net
X-WR-CALDESC:Eventos para mientrada.net
REFRESH-INTERVAL;VALUE=DURATION:PT1H
X-Robots-Tag:noindex
X-PUBLISHED-TTL:PT1H
BEGIN:VTIMEZONE
TZID:Europe/Madrid
BEGIN:DAYLIGHT
TZOFFSETFROM:+0100
TZOFFSETTO:+0200
TZNAME:CEST
DTSTART:20220327T010000
END:DAYLIGHT
BEGIN:STANDARD
TZOFFSETFROM:+0200
TZOFFSETTO:+0100
TZNAME:CET
DTSTART:20221030T010000
END:STANDARD
END:VTIMEZONE
BEGIN:VEVENT
DTSTART;TZID=Europe/Madrid:20220513T203000
DTEND;TZID=Europe/Madrid:20220513T213000
DTSTAMP:20260422T001950
CREATED:20220121T143253Z
LAST-MODIFIED:20220506T123223Z
UID:10846-1652473800-1652477400@www.mientrada.net
SUMMARY:El Buscón
DESCRIPTION:Disponible a partir del lunes 9 de MAYO a las 10:00h. \nClásicos de Teatro. \nAlbacity Corporation. \nLa vida del Buscón o Historia de la vida del Buscón\, llamado don Pablos; ejemplo de vagamundos y espejo de tacaños es una novela picaresca\, escrita por Francisco de Quevedo. Sería innecesario seguir escribiendo una sinopsis sobre un texto mundialmente conocido\, o al menos eso quiero pensar. Nos hemos atrevido a crear con esta fabulosa novela una obra de teatro. Y para ello nos hemos basado en uno de los juegos más antiguos que se conocen: El Teatro. Un actor entra por casualidad en un desván lleno de objetos teatrales ya en desuso y se produce la magia de la representación. Un simple libro antiguo es una excusa perfecta para jugar a ser aquello que no eres. En este caso es el Buscón de Quevedo\, pero podría ser otro\, cualquier motivo es bueno para entretener a un público que quiere que le cuenten historias\, ver los sentimientos de los personajes de las mismas y saber cómo resuelven sus conflictos\, para aprender los continuos mensajes que nos ofrece la vida. \nEl Buscón\, no es más que eso\, un personaje que busca. O más bien que se busca a sí mismo. Pues como bien dice al final de la novela el autor “nunca mejora su estado quien muda solamente de lugar\, y no de vida y costumbres”. Nuestra pretensión ha sido hacer un justo homenaje a don Francisco de Quevedo Villegas y Santibáñez Cevallos\, uno de los más importantes autores de la literatura española del Siglo de Oro. \n  \nFicha artística-técnica: \n\nAutor: Francisco de Quevedo\nAdaptación y Dirección: Juanma Cifuentes\nInterpretación: Antonio Campos\n Diseño Técnico: José Miguel Alarcón García\nEscenografía: Albacity Corporation\nUtilería: Pergamino\, Daniel Pablo Cortés Luna\nAuxiliar Producción: Carlos García García\nConfección Vestuario: Taller Abuela Santa Ana\nGuarnicionería: El Taller de la Rosa\nDiseño Imagen: Crearte Comunicación\nFotografía: John Ribes / Collado Tornero\nVídeo: Aron Multimedia\n Productor Ejecutivo: Carlos G. Navarro\nProduce: Albacity Corporation / Tcure Teatro\nDistribución: Cristina Gandarias/ Entre Bambalinas Gestión Cultural\n\nDuración: 65 m. \n  \n  \n \n  \nNORMAS DE OBLIGADO CUMPLIMIENTO: \n\nPor favor\, siga en todo momento las indicaciones higienico-sanitarias dadas por el personal de la sala.\nObligatorio el uso correcto de la mascarilla (cubriendo nariz y boca) en todo el recinto.\nSi una vez sacada la entrada no puede acudir al espectáculo\, por favor comuníquelo por correo (cultura@malaga.es) o por teléfono (952133950).\nEntrada solo con invitación. No acudir al teatro si no dispone de ella.\n\n  \nPuede compartir este evento en:
URL:https://www.mientrada.net/evento/el-buscon/
LOCATION:Centro Cultural MVA\, Calle Ollerías\, 33\, Málaga\, Málaga\, 29012\, España
CATEGORIES:Centro Cultural Provincial MVA,Culturama,Málaga,Teatro
ATTACH;FMTTYPE=image/jpeg:https://www.mientrada.net/wp-content/uploads/2022/01/Cartel-El-Buscon.jpg
END:VEVENT
END:VCALENDAR