BEGIN:VCALENDAR
VERSION:2.0
PRODID:-//mientrada.net - ECPv5.16.0//NONSGML v1.0//EN
CALSCALE:GREGORIAN
METHOD:PUBLISH
X-ORIGINAL-URL:https://www.mientrada.net
X-WR-CALDESC:Eventos para mientrada.net
REFRESH-INTERVAL;VALUE=DURATION:PT1H
X-Robots-Tag:noindex
X-PUBLISHED-TTL:PT1H
BEGIN:VTIMEZONE
TZID:Europe/Madrid
BEGIN:DAYLIGHT
TZOFFSETFROM:+0100
TZOFFSETTO:+0200
TZNAME:CEST
DTSTART:20220327T010000
END:DAYLIGHT
BEGIN:STANDARD
TZOFFSETFROM:+0200
TZOFFSETTO:+0100
TZNAME:CET
DTSTART:20221030T010000
END:STANDARD
END:VTIMEZONE
BEGIN:VEVENT
DTSTART;TZID=Europe/Madrid:20220514T203000
DTEND;TZID=Europe/Madrid:20220514T213000
DTSTAMP:20260422T001945
CREATED:20210907T145233Z
LAST-MODIFIED:20220506T123225Z
UID:11651-1652560200-1652563800@www.mientrada.net
SUMMARY:Douglas Dare
DESCRIPTION:Disponible a partir del 9 de MAYO a las 10:00h \nCiclo Con Sello propio.\n \nEl cantautor inglés Douglas Dare presenta su tercer disco\, Milkteeth. Es un álbum desnudo donde Douglas se siente lo suficientemente seguro y cómodo con su propia identidad para reflexionar sobre las alegrías y los dolores de la juventud. El artista británico está llamado a ser uno de los cantautores del siglo XXI por el contenido de sus letras y por un sonido elegante y minimalista. \nDouglas Dare creció en una granja como el miembro más joven de una gran familia extensa\, donde a menudo se veía en su propio\nmundo\, bailando con el vestido rosa de ballet de su madre. «Solo ahora me siento libre de expresar mi niño interior nuevamente y me doy permiso para jugar a disfrazarme»\, argumenta Dare. «Nunca sentí que encajaba. Era diferente\, extraño. Quería bailar\, cantar y disfrazarme en una pequeña granja de la zona rural de Dorset». \nAhora tenemos la oportunidad de participar de ese mundo imaginario en el que Douglas disfrutaba en su infancia y dejarnos arrastrar por un puñado de canciones maravillosas. Sentirnos libres y despojarnos de las ataduras de nuestras ropas diarias y poder disfrazarnos con esas melodías que el músico británico ha tejido de forma tan prodigiosa para nosotros. \n  \n \n  \nComparte este evento en:
URL:https://www.mientrada.net/evento/douglas-dare/
LOCATION:Centro Cultural MVA\, Calle Ollerías\, 33\, Málaga\, Málaga\, 29012\, España
CATEGORIES:Centro Cultural Provincial MVA,Culturama,Málaga,Música
ATTACH;FMTTYPE=image/jpeg:https://www.mientrada.net/wp-content/uploads/2021/09/Cartel-Douglas-Dare.jpg
END:VEVENT
END:VCALENDAR