BEGIN:VCALENDAR
VERSION:2.0
PRODID:-//mientrada.net - ECPv5.16.0//NONSGML v1.0//EN
CALSCALE:GREGORIAN
METHOD:PUBLISH
X-ORIGINAL-URL:https://www.mientrada.net
X-WR-CALDESC:Eventos para mientrada.net
REFRESH-INTERVAL;VALUE=DURATION:PT1H
X-Robots-Tag:noindex
X-PUBLISHED-TTL:PT1H
BEGIN:VTIMEZONE
TZID:Europe/Madrid
BEGIN:DAYLIGHT
TZOFFSETFROM:+0100
TZOFFSETTO:+0200
TZNAME:CEST
DTSTART:20220327T010000
END:DAYLIGHT
BEGIN:STANDARD
TZOFFSETFROM:+0200
TZOFFSETTO:+0100
TZNAME:CET
DTSTART:20221030T010000
END:STANDARD
END:VTIMEZONE
BEGIN:VEVENT
DTSTART;TZID=Europe/Madrid:20220524T210000
DTEND;TZID=Europe/Madrid:20220524T221000
DTSTAMP:20260422T001945
CREATED:20220121T143253Z
LAST-MODIFIED:20220524T114214Z
UID:10864-1653426000-1653430200@www.mientrada.net
SUMMARY:Jornadas de Teatro Clásico - Tras las trágicas
DESCRIPTION:EVENTO CANCELADO. \nLady Macbeth\, Ofelia y Desdémona conviven en el limbo de las mujeres trágicas cuando no están siendo representadas en algún lugar del mundo. En el limbo tienen libertad para ser ellas mismas y no esos personajes que les impuso el autor. \nCansadas de sus obras y de vivir según los deseos de otros deciden rebelarse para cambiar sus vidas e idean un plan: no acudir a la siguiente representación. Titania\, ante la rebelión de las mujeres trágicas y la posibilidad de que las obras de Shakespeare desaparezcan para siempre sin ellas\, decide mandar a Puck para que medie y solucione el problema. \nFICHA ARTÍSTICA: \n\nDirección Daniel Ghersi\nDramaturgia María Beltrán Fernández\n\n  \nActrices por orden de aparición: \n\nLady Macbeth Lucía G. Lara\nOfelia Lorena Rico\nDesdémona Teresa Alba\nPuck Adaya Salvá\n\nEscenografía y atrezzo Claudia Bernabé\nFotografía Daniel Ghersi\nCartel Jesús Román\nProducción Dmonos Producciones\nDirectora de producción Adaya Salvá\nCon la colaboración de Artístika Teatro\nGanadoras de la convocatoria Shakespeare to Women \nDuración 70 min aprox. \n  \n \n  \nNORMAS DE OBLIGADO CUMPLIMIENTO: \n\nSi una vez sacada la entrada no puede acudir al espectáculo\, por favor comuníquelo por correo (cultura@malaga.es) o por teléfono (952133950).\nEntrada solo con invitación. No acudir al teatro si no dispone de ella.\n\n  \nPuede compartir este evento en:
URL:https://www.mientrada.net/evento/jornadas-teatro-clasico-shakespeare-2/
LOCATION:Centro Cultural MVA\, Calle Ollerías\, 33\, Málaga\, Málaga\, 29012\, España
CATEGORIES:Centro Cultural Provincial MVA,Culturama,Málaga,Teatro
ATTACH;FMTTYPE=image/jpeg:https://www.mientrada.net/wp-content/uploads/2022/01/Cartel-Tras-las-tragicas-1.jpg
END:VEVENT
END:VCALENDAR