BEGIN:VCALENDAR
VERSION:2.0
PRODID:-//mientrada.net - ECPv5.16.0//NONSGML v1.0//EN
CALSCALE:GREGORIAN
METHOD:PUBLISH
X-ORIGINAL-URL:https://www.mientrada.net
X-WR-CALDESC:Eventos para mientrada.net
REFRESH-INTERVAL;VALUE=DURATION:PT1H
X-Robots-Tag:noindex
X-PUBLISHED-TTL:PT1H
BEGIN:VTIMEZONE
TZID:Europe/Madrid
BEGIN:DAYLIGHT
TZOFFSETFROM:+0100
TZOFFSETTO:+0200
TZNAME:CEST
DTSTART:20220327T010000
END:DAYLIGHT
BEGIN:STANDARD
TZOFFSETFROM:+0200
TZOFFSETTO:+0100
TZNAME:CET
DTSTART:20221030T010000
END:STANDARD
END:VTIMEZONE
BEGIN:VEVENT
DTSTART;TZID=Europe/Madrid:20220525T210000
DTEND;TZID=Europe/Madrid:20220525T220000
DTSTAMP:20260422T001951
CREATED:20220121T143253Z
LAST-MODIFIED:20220517T170446Z
UID:10868-1653512400-1653516000@www.mientrada.net
SUMMARY:Jornadas de Teatro Clásico - Joven Hamlet
DESCRIPTION:Disponible a partir del 18 de mayo a las 10:00h. \nHAMLET de William Shakespeare es un thriller\, una obra llena de tramas y conflictos\, que acaba con la muerte de todos sus protagonistas. Una tragedia sobre asesinatos\, poder\, venganza\, melancolía y locura. Sin embargo\, en la obra de Shakespeare\, no destaca la realización de la venganza como un fin\, sino que es el conflicto interno de Hamlet el que adquiere prioridad en el desarrollo de la trama. En JOVEN HAMLET un detective\, investiga el caso Hamlet: los sucesos y asesinatos ocurridos en el Castillo de Elsinor. \nEl público al entrar es recibido por un pianista que juega con la música\, aparece un actor en el papel de un detective y les informa\, que está investigando los trágicos acontecimientos y asesinatos que han tenido lugar en ese Palacio hace poco. El público\, sin querer\, se convierte en habitantes de la Corte Real de Dinamarca que han sido testigos de los hechos. \nEl detective les describe la historia de Hamlet. Para desarrollar su investigación\, se mete en la piel de todos y cada uno de los protagonistas. Se transforma en Hamlet\, su madre\, el fantasma de su padre\, su tío Claudio\, Ofelia\, Laertes\, un sepulturero… usando para ello las palabras y versos de Shakespeare. Un espectáculo para un actor y pianista de jazz en torno a “Hamlet” de William Shakespeare. \nUna producción del Ayto. Zamora/ Teatro Principal\, JUNTA DE Castilla y León\,  Mto. Cultura INAEM y Cándido producciones teatrales. A partir de una idea de Chris Connaughton & Paul Harman basada en la obra de William Shakespeare \n  \nFICHA ARTÍSTICA: \n\nTraducción: Isabel García Adánez (Premio. Nac. De Traducción 2020)\nAdaptación y dramaturgia: Emilio Goyanes\nComposición musical: Chema Corvo\nDiseño iluminación: Inda Álvarez y Emilio Goyanes\nConstrucción escenografía: Cristian Santos\nDiseño publicidad: Martinde Arte comercial\nRealización Video y fotos: Memento Mori\nGrabado/música en: Estudio UA por Raimundo M. Luengo\nActor: Cándido de Castro\nAl piano: Chema Corvo\nDirección: Emilio Goyanes\n\n  \n \n  \nNORMAS DE OBLIGADO CUMPLIMIENTO: \n\nSi una vez sacada la entrada no puede acudir al espectáculo\, por favor comuníquelo por correo (cultura@malaga.es) o por teléfono (952133950).\nEntrada solo con invitación. No acudir al teatro si no dispone de ella.\n\n  \nPuede compartir este evento en:
URL:https://www.mientrada.net/evento/jornadas-teatro-clasico-shakespeare-3/
LOCATION:Centro Cultural MVA\, Calle Ollerías\, 33\, Málaga\, Málaga\, 29012\, España
CATEGORIES:Centro Cultural Provincial MVA,Culturama,Málaga,Teatro
ATTACH;FMTTYPE=image/jpeg:https://www.mientrada.net/wp-content/uploads/2022/01/Cartel-Joven-Hamlet.jpg
END:VEVENT
END:VCALENDAR