BEGIN:VCALENDAR
VERSION:2.0
PRODID:-//mientrada.net - ECPv5.16.0//NONSGML v1.0//EN
CALSCALE:GREGORIAN
METHOD:PUBLISH
X-WR-CALNAME:mientrada.net
X-ORIGINAL-URL:https://www.mientrada.net
X-WR-CALDESC:Eventos para mientrada.net
REFRESH-INTERVAL;VALUE=DURATION:PT1H
X-Robots-Tag:noindex
X-PUBLISHED-TTL:PT1H
BEGIN:VTIMEZONE
TZID:Europe/Madrid
BEGIN:DAYLIGHT
TZOFFSETFROM:+0100
TZOFFSETTO:+0200
TZNAME:CEST
DTSTART:20220327T010000
END:DAYLIGHT
BEGIN:STANDARD
TZOFFSETFROM:+0200
TZOFFSETTO:+0100
TZNAME:CET
DTSTART:20221030T010000
END:STANDARD
END:VTIMEZONE
BEGIN:VEVENT
DTSTART;TZID=Europe/Madrid:20220609T203000
DTEND;TZID=Europe/Madrid:20220609T213000
DTSTAMP:20260421T211740
CREATED:20210907T145233Z
LAST-MODIFIED:20220603T085836Z
UID:10686-1654806600-1654810200@www.mientrada.net
SUMMARY:Soledad Vélez
DESCRIPTION:Disponible a partir del 6 de JUNIO a las 10:00h \n Música. Ciclo ‘EnTrance’ \nInformación específica de la actividad  Soledad Vélez es una artista chilena afincada en Valencia (España) en constante evolución. Con un talento animal y un carisma misterioso e hipnótico\, Soledad Vélez comenzó publicando álbumes de folk oscuro en inglés en el que su torrente de voz\, capaz de atravesarte el corazón o acariciarte el alma\, es la seña de identidad de esta chamana capaz de hacer a toda una sala entrar con ella en trance. Su personalidad única facilita que pueda sumergirse e investigar en diferentes estilos y sonidos\, pero sonando siempre a Soledad Vélez\, resultando siempre reconocible. \nHa ido evolucionando de este folk oscuro a una electrónica misteriosa (‘Dance and Hunt’\, Subterfuge 2016)\, para después probar con sonidos electrónicos más luminosos en su último álbum y con un gran salto al castellano (‘Nuevas Épocas’\, Subterfuge 2018) para\, en los dos últimos años\, ir lanzando distintos singles que incorporan ritmos y arreglos propios de la música urbana y latina (‘No vuelvas’\, en 2019 y ‘Perverso’\, en 2020). Este 2020\, además\, hemos podido escucharla con ‘Cromo y Platino’ en la serie Veneno. Los lanzamientos de Soledad Vélez son tan celebrados y sus directos tan estremecedores que no ha parado de tocar en salas\, festivales de música y cine\, y encuentros culturales. Sin duda\, el directo es otro de sus puntos fuertes. \nEn 2016 sorprendió introduciendo sintetizadores y ritmos electro en su tercer álbum\, ‘Dance and Hunt’\, y en 2018\, tras un 2017 en el que homenajeó a su paisana Violeta Parra por su centenario\, dio otro salto cualitativo publicando ‘Nuevas Épocas’\, su primer disco en castellano y tocado íntegramente con sintetizadores y teclados analógicos. Grabó en El Álamo Shock con Guille Mostaza como coproductor\, siendo la primera vez que Soledad comparte producción\, pues siempre fue ella la única responsable de su sonido. El disco incluye las colaboraciones de Joe Crepúsculo– que ya aparecía en ‘Dance and Hunt’– y Gerard Alegre\, de El Último Vecino. La pantera negra de su portada explica el misticismo que inspira el disco\, es la luz de la noche. También el significado de las piedras y su brillo\, que aparecen en el arte del disco\, como en ‘Cromo y Platino’\, una de las canciones más celebradas del álbum. \nCabe destacar también que\, por primera vez\, Soledad muestra sentimientos íntimos como el amor romántico y la amistad en ‘Flecha’ o ‘Pa’ Siempre’\, un tema que habla de cuando el corazón se rompe por la distancia\, con guiño a su tierra incluido\, nombrando la cordillera de los Andes como el poder de la sanación para los corazones rotos que tiene la Naturaleza. El resultado fue tan fructífero que volvió a grabar de nuevo en El Álamo con Guille Mostaza un nuevo single\, ‘No Vuelvas’\, y en él Soledad da otro nuevo paso regenerando su sonido con guiños a la música urbana. Soledad Vélez\, en constante movimiento\, es una de las artistas más interesantes de nuestro panorama musical actual. \n  \n \n  \nComparte este evento en:
URL:https://www.mientrada.net/evento/soledad-velez/
LOCATION:Centro Cultural MVA\, Calle Ollerías\, 33\, Málaga\, Málaga\, 29012\, España
CATEGORIES:Centro Cultural Provincial MVA,Culturama,Málaga,Música
ATTACH;FMTTYPE=image/jpeg:https://www.mientrada.net/wp-content/uploads/2021/09/20220609_SoledadVelez_Entrance_cartel.jpg
END:VEVENT
END:VCALENDAR