BEGIN:VCALENDAR
VERSION:2.0
PRODID:-//mientrada.net - ECPv5.16.0//NONSGML v1.0//EN
CALSCALE:GREGORIAN
METHOD:PUBLISH
X-WR-CALNAME:mientrada.net
X-ORIGINAL-URL:https://www.mientrada.net
X-WR-CALDESC:Eventos para mientrada.net
REFRESH-INTERVAL;VALUE=DURATION:PT1H
X-Robots-Tag:noindex
X-PUBLISHED-TTL:PT1H
BEGIN:VTIMEZONE
TZID:Europe/Madrid
BEGIN:DAYLIGHT
TZOFFSETFROM:+0100
TZOFFSETTO:+0200
TZNAME:CEST
DTSTART:20220327T010000
END:DAYLIGHT
BEGIN:STANDARD
TZOFFSETFROM:+0200
TZOFFSETTO:+0100
TZNAME:CET
DTSTART:20221030T010000
END:STANDARD
END:VTIMEZONE
BEGIN:VEVENT
DTSTART;TZID=Europe/Madrid:20220617T203000
DTEND;TZID=Europe/Madrid:20220617T213000
DTSTAMP:20260421T211637
CREATED:20220511T093804Z
LAST-MODIFIED:20220607T081900Z
UID:11932-1655497800-1655501400@www.mientrada.net
SUMMARY:Inbox
DESCRIPTION:CIRKORAMA.VI Festival de Teatro Circo de Málaga. \nSoralino es una compañia que entiende el circo como el arte de complicarse la vida a partir de cosas sencillas. Un punto de partida más que ideal para su primer espectáculo\, Inbox\, con el que llevan girando con enorme éxito desde hace 7 años\, y que genera una analogía con el mito de Sísifo\, mostrando básicamente la conversión de un trabajo simple en un círculo infructuoso e imposible. \nUna meta absurda\, un ejercicio sin principio y sin final\, un esfuerzo estéril\, representado a partir de unas cajas de cartón amontonadas y puestas en equilibrio sucesivamente. Un chico alto con una gabardina demasiado pequeña. Un chico bajo con una gabardina demasiado grande. Una escalera. Unas mazas. Un acordeón. Objetos sencillos y rutinas complicadas para un espectáculo que brilla gracias a una constante chispa de humor socarrón y una enorme capacidad para llevar las cosas siempre un poco más lejos. \n  \nPuedes compartir este evento en:
URL:https://www.mientrada.net/evento/inbox/
LOCATION:Centro Cultural MVA\, Calle Ollerías\, 33\, Málaga\, Málaga\, 29012\, España
CATEGORIES:Centro Cultural Provincial MVA,Circo,Culturama,Málaga
ATTACH;FMTTYPE=image/jpeg:https://www.mientrada.net/wp-content/uploads/2022/05/Cartel-Inbox.jpg
END:VEVENT
END:VCALENDAR