BEGIN:VCALENDAR
VERSION:2.0
PRODID:-//mientrada.net - ECPv5.16.0//NONSGML v1.0//EN
CALSCALE:GREGORIAN
METHOD:PUBLISH
X-WR-CALNAME:mientrada.net
X-ORIGINAL-URL:https://www.mientrada.net
X-WR-CALDESC:Eventos para mientrada.net
REFRESH-INTERVAL;VALUE=DURATION:PT1H
X-Robots-Tag:noindex
X-PUBLISHED-TTL:PT1H
BEGIN:VTIMEZONE
TZID:Europe/Madrid
BEGIN:DAYLIGHT
TZOFFSETFROM:+0100
TZOFFSETTO:+0200
TZNAME:CEST
DTSTART:20220327T010000
END:DAYLIGHT
BEGIN:STANDARD
TZOFFSETFROM:+0200
TZOFFSETTO:+0100
TZNAME:CET
DTSTART:20221030T010000
END:STANDARD
END:VTIMEZONE
BEGIN:VEVENT
DTSTART;TZID=Europe/Madrid:20220618T203000
DTEND;TZID=Europe/Madrid:20220618T213000
DTSTAMP:20260421T211742
CREATED:20220511T095651Z
LAST-MODIFIED:20220616T073335Z
UID:11936-1655584200-1655587800@www.mientrada.net
SUMMARY:Paüra
DESCRIPTION:¡EVENTO CANCELADO!\n \nLamentamos informar que por causas ajenas a la organización\, el evento Paüra previsto para el sábado 18 de junio se ha cancelado. \n  \nCIRKORAMA.VI Festival de Teatro Circo de Málaga. \nPaüra es un espectáculo de humor. Le damos la mano a la Paüra y nos la llevamos de compañera a una aventura escénica para todos los públicos con música en directo. El miedo nunca ha sido un buen consejero y\, sin embargo\, a menudo es lo que nos mueve a accionar. El miedo existe y cohabita en cada uno de nosotros; deseamos no sentirlo\, pero lo llevamos dentro. \nNos adentramos en el lenguaje del payaso\, para hablar del miedo con carcajada y poesía. Un concierto teatral. Una pieza musical llena de hilaridad. \n  \nPuedes compartir este evento en:
URL:https://www.mientrada.net/evento/paura/
LOCATION:Centro Cultural MVA\, Calle Ollerías\, 33\, Málaga\, Málaga\, 29012\, España
CATEGORIES:Centro Cultural Provincial MVA,Circo,Culturama,Málaga
ATTACH;FMTTYPE=image/jpeg:https://www.mientrada.net/wp-content/uploads/2022/05/Cartel-Paura.jpg
END:VEVENT
END:VCALENDAR