BEGIN:VCALENDAR
VERSION:2.0
PRODID:-//mientrada.net - ECPv5.16.0//NONSGML v1.0//EN
CALSCALE:GREGORIAN
METHOD:PUBLISH
X-ORIGINAL-URL:https://www.mientrada.net
X-WR-CALDESC:Eventos para mientrada.net
REFRESH-INTERVAL;VALUE=DURATION:PT1H
X-Robots-Tag:noindex
X-PUBLISHED-TTL:PT1H
BEGIN:VTIMEZONE
TZID:Europe/Madrid
BEGIN:DAYLIGHT
TZOFFSETFROM:+0100
TZOFFSETTO:+0200
TZNAME:CEST
DTSTART:20220327T010000
END:DAYLIGHT
BEGIN:STANDARD
TZOFFSETFROM:+0200
TZOFFSETTO:+0100
TZNAME:CET
DTSTART:20221030T010000
END:STANDARD
END:VTIMEZONE
BEGIN:VEVENT
DTSTART;TZID=Europe/Madrid:20220625T203000
DTEND;TZID=Europe/Madrid:20220625T213000
DTSTAMP:20260421T211910
CREATED:20220511T092442Z
LAST-MODIFIED:20220607T082823Z
UID:11929-1656189000-1656192600@www.mientrada.net
SUMMARY:#Gurú
DESCRIPTION:CIRKORAMA.VI Festival de Teatro Circo de Málaga. \nLolo Fernández & Cía. \n¡Lolo nos ama! ¡Lolo sufre por nosotros!\n¡Lolo tiene un plan!\, ¡Sanarnos! (aunque nadie se lo haya pedido).\n¿Pero quién es Lolo?\, ¿un guía espiritual?\, ¿un farsante?\, ¿es todo una broma o va completamente en serio? No lo sabemos. ¡Él tampoco! \nDe lo que si estamos seguros es que hará lo que haga falta para conseguir la felicidad de los espectadores\, convirtiendo un espectáculo en un sincero homenaje de un clown a su público… al que preguntará una y otra vez: ¿te atreves a reirte de ti mismo? \n  \nPuedes compartir en:
URL:https://www.mientrada.net/evento/guru/
LOCATION:Centro Cultural MVA\, Calle Ollerías\, 33\, Málaga\, Málaga\, 29012\, España
CATEGORIES:Centro Cultural Provincial MVA,Circo,Culturama,Málaga
ATTACH;FMTTYPE=image/jpeg:https://www.mientrada.net/wp-content/uploads/2022/05/Cartel-Guru.jpg
END:VEVENT
END:VCALENDAR