BEGIN:VCALENDAR
VERSION:2.0
PRODID:-//mientrada.net - ECPv5.16.0//NONSGML v1.0//EN
CALSCALE:GREGORIAN
METHOD:PUBLISH
X-WR-CALNAME:mientrada.net
X-ORIGINAL-URL:https://www.mientrada.net
X-WR-CALDESC:Eventos para mientrada.net
REFRESH-INTERVAL;VALUE=DURATION:PT1H
X-Robots-Tag:noindex
X-PUBLISHED-TTL:PT1H
BEGIN:VTIMEZONE
TZID:Europe/Madrid
BEGIN:DAYLIGHT
TZOFFSETFROM:+0100
TZOFFSETTO:+0200
TZNAME:CEST
DTSTART:20220327T010000
END:DAYLIGHT
BEGIN:STANDARD
TZOFFSETFROM:+0200
TZOFFSETTO:+0100
TZNAME:CET
DTSTART:20221030T010000
END:STANDARD
END:VTIMEZONE
BEGIN:VEVENT
DTSTART;TZID=Europe/Madrid:20221020T203000
DTEND;TZID=Europe/Madrid:20221020T213000
DTSTAMP:20260420T155230
CREATED:20220920T090124Z
LAST-MODIFIED:20221017T071857Z
UID:13962-1666297800-1666301400@www.mientrada.net
SUMMARY:CALONCHO
DESCRIPTION:Caloncho se llama Alfonso y viene de Obregón\, Sonora\, México\, pero vive en Guadalajara. Creció con la música en su seno familiar; cuando era niño\, una de las actividades que mantenía con su padre y hermanos era componer canciones\, a manera de convivencia\, como él mismo declara. Durante los primeros años tocó la batería y luego se interesó por la guitarra que su abuelo le obsequió. Así interpretaba canciones de Bob Marley\, Sublime y otros. \nEn septiembre de 2013 lanza el EP “Fruta” y reúne folk nacional\, playa\, bosque\, ciudad\, nostalgia y amor por la vida. Para su grabación se utilizaron sonidos orgánicos y objetos no considerados instrumentos musicales\, tales como agua\, fruta\, semillas\, encendedores y otros. El 16 de junio de 2015 edita “Fruta Vol II”\, primer LP de su carrera. En septiembre del 2020 lanzó «Luna Completa». \n  \nPuede compartir este evento en
URL:https://www.mientrada.net/evento/caloncho/
LOCATION:Centro Cultural MVA\, Calle Ollerías\, 33\, Málaga\, Málaga\, 29012\, España
CATEGORIES:Centro Cultural Provincial MVA,Culturama,Málaga,Música
ATTACH;FMTTYPE=image/jpeg:https://www.mientrada.net/wp-content/uploads/2022/09/221020-caloncho.jpg
END:VEVENT
END:VCALENDAR