BEGIN:VCALENDAR
VERSION:2.0
PRODID:-//mientrada.net - ECPv5.16.0//NONSGML v1.0//EN
CALSCALE:GREGORIAN
METHOD:PUBLISH
X-ORIGINAL-URL:https://www.mientrada.net
X-WR-CALDESC:Eventos para mientrada.net
REFRESH-INTERVAL;VALUE=DURATION:PT1H
X-Robots-Tag:noindex
X-PUBLISHED-TTL:PT1H
BEGIN:VTIMEZONE
TZID:Europe/Madrid
BEGIN:DAYLIGHT
TZOFFSETFROM:+0100
TZOFFSETTO:+0200
TZNAME:CEST
DTSTART:20220327T010000
END:DAYLIGHT
BEGIN:STANDARD
TZOFFSETFROM:+0200
TZOFFSETTO:+0100
TZNAME:CET
DTSTART:20221030T010000
END:STANDARD
END:VTIMEZONE
BEGIN:VEVENT
DTSTART;TZID=Europe/Madrid:20221103T203000
DTEND;TZID=Europe/Madrid:20221103T213000
DTSTAMP:20260420T062514
CREATED:20221018T121243Z
LAST-MODIFIED:20221025T113119Z
UID:14251-1667507400-1667511000@www.mientrada.net
SUMMARY:El Mati jugando - Matías López
DESCRIPTION:En palabras del propio artista;Jugando es la traducción literal de casi todos los idiomas a lo que en castellano conocemos como cantar o tocar un instrumento. Jugar es loprimero que hacemos siendo niños\, y así deberíamos llamar a todo lo que sea divertirse haciendo música. Desde el amor y el respeto. Juguemos…  Matías López El Mati (Barcelona\, 1985) es un cantaor flamenco de ascendencia extremeña asentado en Barcelona. Creció en un entorno de fuerte acento flamenco\, lo que despertó y desarrolló sus inquietudes musicales con tan solo 12 años\, aunque no fue hasta los 19 cuando decidió dedicarse en cuerpo y alma al cante.  Desde el inicio de su carrera se ha presentado en los más destacados festivales nacionales e internacionales: Jodhpur Flamenco Gypsy Festival (India)\, Flamenco Festival (Nueva York y Londres)\, Bienal de Holanda\, Festival de Mont de Marsan\, Festival Flamenco on Fire (Pamplona)\, Festival de Alburquerque\, Festival Ibérica Contemporánea (Querétaro\, México)\, Festival de Jerez\, Festival Flamenco de Montreal\, Bienal de Sevilla\, entre un largo etcétera.\nEn agosto de 2019 se alzó con la prestigiosa Lámpara Minera en el 59º Festival Internacional de Cante de las Minas en La Unión (Murcia)\, que supuso un aldabonazo en su carrera y un acicate para la grabación de su siguiente álbum\, con el que mostrarse tal como es\, con ideas\nnuevas y frescas. Su inquietud esencial es la búsqueda de nuevos registros con la voz y\, aunque el flamenco es su pasión de vida\, no le obsesiona ni cree que sea lo más importante del mundo porque está convencido de que para entender la esencia del flamenco hay que reconocerse en otras músicas\, «algo que no estoy inventando yo. Ahí está El Lebrijano\, Camarón\, Morente\, Paco…Me gustaría plasmar todas esas músicas que bañan el Mediterráneo y que me interesan». \nA lo largo de su carrera ha compartido escenario y cartel con los artistas más relevantes del panorama musical y arte flamenco\, tanto cantaores como intérpretes\, siendo\, además\, muy solicitado por prestigiosas bailaoras de la danza y del baile flamenco\, lo que le ha permitido presentarse en señeros teatros\, en los tablaos más prestigiosos y con renombradas compañías de danza como el Ballet Flamenco de Andalucía en 2016\, o en la actualidad con Sara Baras\, Lucía Álvarez ‘La Piñona’\, etc…\nVoz\, bajo y efectos: El Mati\nGuitarra: Oscar Lago\nTrompeta: Pedro M. Núñez\nBatería: Javier Rabadán \n  \nPuede compartir este evento en:
URL:https://www.mientrada.net/evento/el-mati-jugando-matias-lopez/
LOCATION:Centro Cultural MVA\, Calle Ollerías\, 33\, Málaga\, Málaga\, 29012\, España
CATEGORIES:Centro Cultural Provincial MVA,Culturama,Málaga
ATTACH;FMTTYPE=image/jpeg:https://www.mientrada.net/wp-content/uploads/2022/10/221103-el-mati.jpg
END:VEVENT
END:VCALENDAR